BEGIN:VCALENDAR
VERSION:2.0
PRODID:-//Agenda do Vinho - ECPv4.9.0//NONSGML v1.0//EN
CALSCALE:GREGORIAN
METHOD:PUBLISH
X-WR-CALNAME:Agenda do Vinho
X-ORIGINAL-URL:https://agendadovinho.com.br
X-WR-CALDESC:Eventos para Agenda do Vinho
BEGIN:VEVENT
DTSTART;TZID=America/Sao_Paulo:20191126T180000
DTEND;TZID=America/Sao_Paulo:20191126T220000
DTSTAMP:20260425T235845
CREATED:20191119T172755Z
LAST-MODIFIED:20191119T172755Z
UID:9792-1574791200-1574805600@agendadovinho.com.br
SUMMARY:Decanter Wine Day
DESCRIPTION:No dia 26 de novembro (terça-feira)\, será reaizado o Decanter Wine Day Edição Verão.\nSerão mais de 30 rótulos (somente Europa) de espumantes\, vinhos brancos e rosés para degustar e apreciar a variedade de uvas que o “Velho Mundo” tem a oferecer.\nCondição especial de até 30% de desconto para adquirir os vinhos do evento. E para compras acima de R$ 800\,00\, o valor pago pelo ingresso será revertido integralmente em desconto.\nO evento será realizado no restaurante Alessandro & Frederico que preparou um menu especial para acompanhar a seleção de vinhos. \n
URL:https://agendadovinho.com.br/event/decanter-wine-day-5/
LOCATION:Restaurante Alessandro & Frederico\, Av. do Batel\, 1868 - 325 - Batel\, Curitiba\, PR\, 80420-090\, Brasil
CATEGORIES:Degustação,PR - Curitiba
ATTACH;FMTTYPE=image/jpeg:https://agendadovinho.com.br/wp-content/uploads/2019/11/decanter_261119.jpg
END:VEVENT
BEGIN:VEVENT
DTSTART;TZID=America/Sao_Paulo:20191126T190000
DTEND;TZID=America/Sao_Paulo:20191126T213000
DTSTAMP:20260425T235845
CREATED:20191114T220628Z
LAST-MODIFIED:20191114T220628Z
UID:9690-1574794800-1574803800@agendadovinho.com.br
SUMMARY:Semana Do Espumante  - 1o. Circuito De Degustação Depósito Vinhos
DESCRIPTION:Semana Do Espumante  – 1o. Circuito De Degustação Depósito Vinhos \nImaginem uma semana dedicada a celebrar a vida e a anunciar as festividades de fim do ano com degustações diárias de espumantes e vinhos de verão. \nAssim será a atmosfera da Semana do Espumante\, o primeiro Circuito de Degustação do Depósito Vinhos e Afins\, que acontece entre os dias 26 e 29 de novembro. \nO evento\, voltado para quem aprecia o mundo do vinho ou quer conhecer um pouco mais sobre ele\, vai contar com quatro dias seguidos de programação. \nNa terça-feira (26) e na quinta (28)\, acontecem os circuitos de degustação\, das 18h às 21h. Uma oportunidade para você experimentar até 20 rótulos\, por dia\, de diferentes vinícolas brasileiras. Na quarta-feira (27)\, o Depósito Vinhos vai ter à disposição alguns rótulos para degustação durante todo o dia. E na sexta-feira (29)\, te esperamos para um happy hour super especial com a venda de tábuas de charcutaria e espumante em taça. Em todos os dias\, você poderá ainda adquirir espumantes e vinhos com até 20% de desconto. \nVem aproveitar esse nosso primeiro circuito de degustação com a gente e brindar os  bons momentos!\nEsperamos por você! \n\n \nIngressos promocionais limitados 1o lote: R$ 60\,00 \nIngressos 2o lote: R$ 75\,00 \n
URL:https://agendadovinho.com.br/event/semana-do-espumante-1o-circuito-de-degustacao-deposito-vinhos/
LOCATION:Depósito Vinhos e Afins\, Rua Demétrio Ribeiro\, 1168\, Centro Histórico\, Porto Alegre\, RS\, Brasil
CATEGORIES:Degustação,RS - Porto Alegre
ATTACH;FMTTYPE=image/png:https://agendadovinho.com.br/wp-content/uploads/2019/11/semana-do-espumante_261119.png
END:VEVENT
BEGIN:VEVENT
DTSTART;TZID=America/Sao_Paulo:20191126T193000
DTEND;TZID=America/Sao_Paulo:20191126T210000
DTSTAMP:20260425T235845
CREATED:20191108T184226Z
LAST-MODIFIED:20191108T184226Z
UID:9599-1574796600-1574802000@agendadovinho.com.br
SUMMARY:Wine Class - Bodega Sossego em quatro rótulos
DESCRIPTION:Com um dos vinhedos mais continentais do Brasil\, a poucos quilômetros da divisa com o Uruguai e Argentina\, a Bodega Sossego busca extrair o máximo do terroir da Campanha Gaúcha. As uvas viníferas convivem com o gado Braford e as pastagens\, além das condições ideais de solo\, clima e insolação para uma ótima maturação.\n\nAtualmente\, a Sossego conta com os vinhos da linha Campaña\, dos varietais Cabernet Sauvignon e Chardonnay\, além dos espumantes Brut Rosé e Brut Blanc\, ambos pelo método tradicional. E\, recentemente\, lançou uma linha jovem e descontraída dos vinhos Bodega Sossego Tinto\, Branco e Rosé\n\nVenha saber mais deste projeto e degustar 4 rótulos\, incluindo os vinhos novos recentemente lançados. Os rótulos são:\n\n• Camp4ña Brut Rosé\n• Campaña Chardonnay\n• Bodega Sossego Rosé (lançamento)\n• Bodega Sossego Tinto (lançamento)\n\nCheers!\n
URL:https://agendadovinho.com.br/event/wine-class-bodega-sossego-em-quatro-rotulos/
LOCATION:Vineria1976\, Praça Dr. Maurício Cardoso\, 49 - Moinhos de Vento\, Porto Alegre\, RS\, 90570-010\, Brasil
CATEGORIES:Degustação,RS - Porto Alegre
ATTACH;FMTTYPE=image/png:https://agendadovinho.com.br/wp-content/uploads/2019/11/wine-class_261119.png
END:VEVENT
BEGIN:VEVENT
DTSTART;TZID=America/Sao_Paulo:20191126T193000
DTEND;TZID=America/Sao_Paulo:20191126T213000
DTSTAMP:20260425T235845
CREATED:20191109T153958Z
LAST-MODIFIED:20191109T153958Z
UID:9612-1574796600-1574803800@agendadovinho.com.br
SUMMARY:Queijos e Vinhos do Mundo - Edição Verão
DESCRIPTION:Queijos e Vinhos do Mundo – Edição Verão \nO evento será uma parceria do Brava Gastrobar com a Vinhos do Mundo\, uma das mais importantes importadoras de Vinhos do Brasil. Nele\, você poderá aproveitar nossas incríveis opções de tábuas com o melhor do queijo e da charcutaria internacional\, com uma cuidadosa seleção de 13 rótulos de vinhos frescos\, leves e perfumados\, provenientes de 7 diferentes países\, que completam esta incrível experiência. \nO evento acontecerá no Brava das 19:30 as 21:30. Garanta já o seu ingresso! \n
URL:https://agendadovinho.com.br/event/queijos-e-vinhos-do-mundo-edicao-verao/
LOCATION:Brava Gastrobar\, Rua Vinte e Quatro de Outubro\, 1454\, Auxiliadora\, Porto Alegre\, RS\, Brasil
CATEGORIES:Degustação,RS - Porto Alegre
ATTACH;FMTTYPE=image/png:https://agendadovinho.com.br/wp-content/uploads/2019/11/queijos-e-vinhos_261119.png
END:VEVENT
END:VCALENDAR