BEGIN:VCALENDAR
VERSION:2.0
PRODID:-//Agenda do Vinho - ECPv4.9.0//NONSGML v1.0//EN
CALSCALE:GREGORIAN
METHOD:PUBLISH
X-WR-CALNAME:Agenda do Vinho
X-ORIGINAL-URL:https://agendadovinho.com.br
X-WR-CALDESC:Eventos para Agenda do Vinho
BEGIN:VEVENT
DTSTART;TZID=America/Sao_Paulo:20191112T190000
DTEND;TZID=America/Sao_Paulo:20191112T210000
DTSTAMP:20260426T011307
CREATED:20191025T154003Z
LAST-MODIFIED:20191025T154003Z
UID:9325-1573585200-1573592400@agendadovinho.com.br
SUMMARY:DEGUSTAÇÃO RAVANELLO
DESCRIPTION:Venha conhecer a vinícola que está construindo história em Gramado\, e descobrindo um novo terroir da serra gaúcha\, em vinho produzidos com amor\, dedicação e qualidade. \nNo dia 12 de novembro\, iremos receber a Vinícola Ravanello e conhecer seus lançamentos 2019\, na noite serão degustados 6 vinhos. \nLançamento \n– Chardonnay 2018 \n– Espumante Nature \n– Dionísio \n– Merlot Classico \n-Teroldego Premium \n-Tannat Premium \nEsperamos por você! \n
URL:https://agendadovinho.com.br/event/degustacao-ravanello/
LOCATION:Depósito Vinhos e Afins\, Rua Demétrio Ribeiro\, 1168\, Centro Histórico\, Porto Alegre\, RS\, Brasil
CATEGORIES:Degustação,RS - Porto Alegre
ATTACH;FMTTYPE=image/png:https://agendadovinho.com.br/wp-content/uploads/2019/10/degustacao-ravanello_121119.png
END:VEVENT
BEGIN:VEVENT
DTSTART;TZID=America/Sao_Paulo:20191112T193000
DTEND;TZID=America/Sao_Paulo:20191112T210000
DTSTAMP:20260426T011307
CREATED:20191110T212627Z
LAST-MODIFIED:20191110T212627Z
UID:9623-1573587000-1573592400@agendadovinho.com.br
SUMMARY:Degustação Burguers e Vinhos
DESCRIPTION:Harmonização BURGUERS E VINHOS\n\nQUEM DISSE QUE HAMBÚRGUER E VINHO NÃO COMBINA? FUJA DO ÓBVIO! VAMOS HARMONIZAR COM SABORES MUITO DIFERENTES!\n\nDia 12/11\, às 19:30 na Wanderlust Barra (mercado Organomix\, CasaShopping\, Bloco P\, PAV 0)\n\nEm parceria com a M.Eat.Co e a Miolo\, serão servidos porções de harmonização (burguers reduzidos) para cada vinho experimentado + Bônus!\n\nIngressos: R$59 (+ R$5\,90 taxa Sympla) com R$30 revertidos em vinhos ao final do evento (de preferência\, da Miolo! mas livre para qualquer item em loja).\n\nVagas: 16\n
URL:https://agendadovinho.com.br/event/degustacao-burguers-e-vinhos/
LOCATION:Organomix CasaShopping\, Avenida Ayrton Senna\, 2150\, Bloco P. Lojas A\, B e C (Casa Shopping) \, 2150\, Barra da Tijuca\, Rio de Janeiro\, RJ\, Brasil
CATEGORIES:Degustação,RJ - Rio de Janeiro
ATTACH;FMTTYPE=image/jpeg:https://agendadovinho.com.br/wp-content/uploads/2019/11/burguers-e-vinhos_121119.jpg
END:VEVENT
END:VCALENDAR