BEGIN:VCALENDAR
VERSION:2.0
PRODID:-//Agenda do Vinho - ECPv4.9.0//NONSGML v1.0//EN
CALSCALE:GREGORIAN
METHOD:PUBLISH
X-WR-CALNAME:Agenda do Vinho
X-ORIGINAL-URL:https://agendadovinho.com.br
X-WR-CALDESC:Eventos para Agenda do Vinho
BEGIN:VEVENT
DTSTART;TZID=America/Sao_Paulo:20191107T170000
DTEND;TZID=America/Sao_Paulo:20191107T210000
DTSTAMP:20260426T011301
CREATED:20190919T141707Z
LAST-MODIFIED:20190919T141707Z
UID:8362-1573146000-1573160400@agendadovinho.com.br
SUMMARY:Degustação Anual Belle Cave no Rio de Janeiro
DESCRIPTION:Segunda edição da Degustação Anual da Belle Cave com produtores europeus. Contagem regressiva! \nApreciadores de vinho\, atenção! \nA Degustação Anual da Belle Cave está chegando\, com uma programação incrível para esta edição 2019. \nContaremos com a presença de 8 produtores europeus e mais de 120 rótulos do nosso portfólio em degustação. \n___________________________ \nQuinta-feira 7/11 – No Hotel Hilton Copacabana – Das 17h às 21h \n___________________________ \nUma Masterclass dada pelos produtores com vinhos exclusivos acontecerá das 15h às 17h\, com vagas extremamente limitadas que podem ser adquiridas por um valor especial. \nGrandes vinhos italianos\, franceses\, espanhóis\, portugueses e austríacos. \nConfira a lista dos produtores que estarão presentes: \nSarah Selections – Espanha\, Navarra \nLoxarel – Espanha\, Penedès \nDomaine Perraud – França\, Borgonha \nDomaine du Chardonnay – França\, Borgonha \nDomaine Boucabeille – França\, Roussillon \nGiovanni Corino – Itália\, Piemonte \nTenuta di Sesta – Itália\, Toscana \nCasa de Mouraz – `Portugal\, Dão \nTodos os vinhos em degustação estarão disponíveis para comprar com 10% de desconto no cartão. \n
URL:https://agendadovinho.com.br/event/degustacao-anual-belle-cave-no-rio-de-janeiro/
LOCATION:Hotel Hilton Rio de Janeiro Copacabana\, Av. Atlântica\, 1020 - Leme\, Rio de Janeiro\, RJ\, 22010-000\, Brasil
CATEGORIES:Degustação,RJ - Rio de Janeiro
ATTACH;FMTTYPE=image/jpeg:https://agendadovinho.com.br/wp-content/uploads/2019/09/belle-cave_061119.jpg
END:VEVENT
BEGIN:VEVENT
DTSTART;TZID=America/Sao_Paulo:20191107T190000
DTEND;TZID=America/Sao_Paulo:20191107T220000
DTSTAMP:20260426T011301
CREATED:20191018T145339Z
LAST-MODIFIED:20191018T145339Z
UID:9145-1573153200-1573164000@agendadovinho.com.br
SUMMARY:Wine Day | Summer Edition
DESCRIPTION:Os apreciadores de vinho de plantão já têm compromisso marcado\, no próximo dia 07 de Novembro: o Wine Day – Summer Edition. \nA partir das 19h\, toda sofisticação da degustação de vinhos poderá ser contemplada no Magnani Empório e Trattoria. Com mais de 70 rótulos internacionais\, o evento proporcionará uma experiência exclusiva aos participantes. \nO evento contará com importadoras\, e sommeliers titulados que irão explicar um pouco mais sobre os vinhos oferecidos. Para acompanhar a degustação\, haverá uma mesa de frios\, canapés\, pães e azeites\, oferecidos pelo Magnani Empório e Trattoria. O evento contará ainda com música ao vivo\, com grandes clássicos do jazz. \nAo comprar seu ingresso\, o participante adquire uma taça Bordeaux\, que será entregue no dia do evento. Com isso\, o cliente poderá apreciar os vinhos\, mesa de degustação e ainda levará a taça como souvenir. \nAquisição da taça por R$ 80\,00.\nLocal: Magnani Empório e Trattoria \n
URL:https://agendadovinho.com.br/event/wine-day-summer-edition/
LOCATION:Neumarkt Shopping\, Rua Sete de Setembro 1213\, 1213\, Centro\, Blumenau\, SC\, Brasil
CATEGORIES:Degustação,SC - Demais cidades
ATTACH;FMTTYPE=image/png:https://agendadovinho.com.br/wp-content/uploads/2019/10/wine-day_071119.png
END:VEVENT
BEGIN:VEVENT
DTSTART;TZID=America/Sao_Paulo:20191107T193000
DTEND;TZID=America/Sao_Paulo:20191107T213000
DTSTAMP:20260426T011302
CREATED:20191031T213417Z
LAST-MODIFIED:20191031T213417Z
UID:9434-1573155000-1573162200@agendadovinho.com.br
SUMMARY:Vinhos Tannat na Ecarta
DESCRIPTION:A enóloga Maria Amélia Duarte Flores\, nome à frente do projeto Núcleo Cultural do Vinho\, da Fundação Ecarta\, e da loja Vinho e Arte\, apresenta as histórias da Tannat uruguaia associadas a dicas de viagem.\nA uva Tannat é considerada entre as grandes cepas da América Latina\, sem esquecer da alta concentração de resveratrol\, que tem poder antioxidante integrando o ranking dos vinhos mais benéficos para saúde.\nDe acordo com Maria Amélia\, desde meados de 1800\, quando a Tannat ingressava nos pagos uruguaios\, via região de Salto\, não se dimensionava o poder de transformação que atingiria quase dois séculos depois\, que começou com o cultivo do imigrante francês Don Pascual Harriague. As crises e as guerras fizeram com que a uva chegasse no entorno de Montevidéo\, se adaptando dia a dia a este terroir. “Nada melhor que um belo pedaço de queijo\, um bom doce de leite ou uma carne para sentir a melhor expressão desta variedade”\, afirma.\nNo encontro haverá degustação comentada de vinhos Tannat do Uruguai e da Campanha Gaúcha (abaixo) acompanhados de pães\, queijos e doce de leite.\nElegido\, da Montes Toscanini (Uruguai)\nReserva\, da Montes Toscanini (Uruguai)\nDunamis Tannat\, da Dunamis (Dom Pedrito)\nGuatambu Lendas do Pampa\, da Guatambu (Dom Pedrito)\nValle de las Lagrimas\, vinho do uruguaio Álvaro Mangino\, um dos 16 sobreviventes do acidente aéreo de 1972 na Cordilheira dos Andes\nAs pré-inscrições devem ser realizadas em https://bit.ly/2MXOy7HOutras informações: 51. 4009 2970. \n\n\n
URL:https://agendadovinho.com.br/event/vinhos-tannat-na-ecarta/
LOCATION:Fundação Ecarta\, Av. João Pessoa\, 943\, Porto Alegre\, RS\, Brasil
CATEGORIES:Degustação,RS - Porto Alegre
ATTACH;FMTTYPE=image/png:https://agendadovinho.com.br/wp-content/uploads/2019/10/Tannat.png
END:VEVENT
BEGIN:VEVENT
DTSTART;TZID=America/Sao_Paulo:20191107T200000
DTEND;TZID=America/Sao_Paulo:20191107T220000
DTSTAMP:20260426T011302
CREATED:20191030T191158Z
LAST-MODIFIED:20191030T191158Z
UID:9408-1573156800-1573164000@agendadovinho.com.br
SUMMARY:World Wine promove degustação vertical do Orma IGT\, clássico da vinícola italiana Tenuta Sette Ponti
DESCRIPTION:A World Wine\, uma das maiores referências na curadoria do vinho no Brasil\, promove uma Degustação Vertical especial em torno dos rótulos Orma IGT\, da vinícola Tenuta Sette Ponti\, no dia 07 de novembro\, a partir das 20h\, na World Wine Itaim. Com vagas super limitadas\, há venda de ingressos antecipados. \nO Orma IGT é um projeto da vinícola no distrito de Bolgheri\, que coleciona elevadas pontuações pelos grandes críticos do mundo dos vinhos. Na ocasião serão\, serão apresentadas as safras 2011\, 2012\, 2014\, 2015 e 2016\, as três últimas\, podem ser encontradas no mercado brasileiro\, trazidas pela World Wine. Ao final da degustação\, será servido jantar aos participantes. \nAs reservas podem ser feitas mediante pagamento antecipado\, pelo e-mail rsvp@worldwine.com.br.  estão disponíveis nas lojas da World Wine. \nDegustação Vertical – Orma Tenuta Sette Ponti \nData: 07/11/2019 \nHorário: 20h00 \nLocal: Loja World Wine Itaim (Rua Amauri\, 255 – Itaim Bibi) \nValor: R$420\,00 por pessoa (condição especial para a compra dos vinhos aos participantes do evento) \n  \n
URL:https://agendadovinho.com.br/event/world-wine-promove-degustacao-vertical-do-orma-igt-classico-da-vinicola-italiana-tenuta-sette-ponti/
LOCATION:World Wine – Amauri\, Rua Amauri\, 255\, Jardim Europa\, São Paulo\, SP\, 01448-000\, Brasil
CATEGORIES:Degustação,SP - São Paulo
ATTACH;FMTTYPE=image/jpeg:https://agendadovinho.com.br/wp-content/uploads/2019/10/Folder.jpeg
END:VEVENT
END:VCALENDAR