BEGIN:VCALENDAR
VERSION:2.0
PRODID:-//Agenda do Vinho - ECPv4.9.0//NONSGML v1.0//EN
CALSCALE:GREGORIAN
METHOD:PUBLISH
X-WR-CALNAME:Agenda do Vinho
X-ORIGINAL-URL:https://agendadovinho.com.br
X-WR-CALDESC:Eventos para Agenda do Vinho
BEGIN:VEVENT
DTSTART;TZID=America/Sao_Paulo:20191105T190000
DTEND;TZID=America/Sao_Paulo:20191105T220000
DTSTAMP:20260426T011302
CREATED:20191019T154611Z
LAST-MODIFIED:20191019T154611Z
UID:9203-1572980400-1572991200@agendadovinho.com.br
SUMMARY:Wine Taste No Brasil - Com Artur Tremper e João Gabriel (Mira Wine)
DESCRIPTION:Para quem já visitou Santiago e viveu a experiência Wine Taste\, JAMAIS ESQUECERÁ!!! \nArtur Tremper\, recebe seus convidados de forma ímpar\, e é essa energia incrível\, que IREMOS apresentar nos dias 04 e 05 de novembro\, no Depósito Vinhos\, junto ao vinhateiro João Gabriel\, Artur irá apresentar 5 rótulos de vinhos brasileiros\, de pequenas e renomadas vinícolas. \nINCLUSOS NO VALOR DO CONVITE: \n– 5 rótulos de vinhos de vinícolas premium do Brasil \n– água \n– Porções de Finger Food* (Para intolerantes\, solicitamos que nos avise\, pois substituímos os insumos) \n*Bruschettas caprese\n*Tortéi com ragú de cordeiro\n*Envoltini de abacaxi com bacon \nTe esperamos para uma noite muito especial! \n  \nCONHEÇA O WINE TASTE \nO Wine Taste 360 é uma empresa criada por Artur Tremper e Patricia Medeiros\, montada exclusivamente para ensinar aos brasileiros a degustar vinhos em um jantar/ aula super dinâmico. \nCom mais de 6 anos estudando vinhos ele montou a ideia de dar um mini curso de vinhos em Santiago\, todo feito em português. \nNo Wine Taste 360 você vai fazer uma aula acompanhada por um jantar de 4 pratos maravilhosos com degustação de vinhos harmonizados. \nTudo acontece de forma muito dinâmica e você nem sente que passou 3 horas aprendendo sobre vinhos. \n
URL:https://agendadovinho.com.br/event/wine-taste-no-brasil-com-artur-tremper-e-joao-gabriel-mira-wine-2/
LOCATION:Depósito Vinhos e Afins\, Rua Demétrio Ribeiro\, 1168\, Centro Histórico\, Porto Alegre\, RS\, Brasil
CATEGORIES:Degustação,RS - Porto Alegre
ATTACH;FMTTYPE=image/png:https://agendadovinho.com.br/wp-content/uploads/2019/10/wine-taset_041119.png
END:VEVENT
BEGIN:VEVENT
DTSTART;TZID=America/Sao_Paulo:20191105T193000
DTEND;TZID=America/Sao_Paulo:20191105T213000
DTSTAMP:20260426T011302
CREATED:20191101T210940Z
LAST-MODIFIED:20191101T210940Z
UID:9442-1572982200-1572989400@agendadovinho.com.br
SUMMARY:Degustação Rhone com Jorge Lucki - Zahil
DESCRIPTION:A Zahil Importadora tem o prazer em receber Jorge Lucki para conduzir uma degustação sobre o Rhône\, com destaque para a sub-região de Châteauneuf-du-Pape.\n⠀\nNeste encontro degustaremos os vinhos recém-chegados da Domaine de la Solitude:\nCôtes du Rhône Blanc 2018\nCôtes du Rhône Rouge 2017\nChâteauneuf-du-Pape ‘Tradition’ Blanc 2018\nChâteauneuf-du-Pape ‘Tradition’ Rouge 2016\nChâteauneuf-du-Pape ‘Cuvée Barberini’ 2016\n⠀\nData: 05 de novembro de 2019\, terça-feira\nHorário: 19h30 às 21h30\nShowroom Zahil\nRua Bandeira Paulista\, 726 – Itaim Bibi\n⠀\n⠀\nValor: R$ 250\,00 por pessoa\nVagas limitadas\nConfirmações com Andrea di Russo\, (11) 3071-2900 ou andrea@zahil.com.br \n
URL:https://agendadovinho.com.br/event/degustacao-rhone-com-jorge-lucki-zahil/
LOCATION:Showroom Zahil\, R. Bandeira Paulista\, 726 - Itaim Bibi\, São Paulo\, SP\, 04532-001\, Brasil
CATEGORIES:Degustação,SP - São Paulo
ATTACH;FMTTYPE=image/jpeg:https://agendadovinho.com.br/wp-content/uploads/2019/11/WhatsApp-Image-2019-11-01-at-12.13.11.jpeg
END:VEVENT
END:VCALENDAR