BEGIN:VCALENDAR
VERSION:2.0
PRODID:-//Agenda do Vinho - ECPv4.9.0//NONSGML v1.0//EN
CALSCALE:GREGORIAN
METHOD:PUBLISH
X-WR-CALNAME:Agenda do Vinho
X-ORIGINAL-URL:https://agendadovinho.com.br
X-WR-CALDESC:Eventos para Agenda do Vinho
BEGIN:VEVENT
DTSTART;TZID=America/Sao_Paulo:20191101T170000
DTEND;TZID=America/Sao_Paulo:20191101T220000
DTSTAMP:20260426T011302
CREATED:20190908T184059Z
LAST-MODIFIED:20190908T184059Z
UID:7929-1572627600-1572645600@agendadovinho.com.br
SUMMARY:BAHIA VINHO SHOW - VINHOS DO BRASIL
DESCRIPTION:Entre os dias 01 a 02 de novembro\, 2019\, Salvador sediará a 5ª edição o Bahia Vinho Show . Um  especial de vinhos do Brasil\, evento único que reúne  o mercado de vinhos e produtos afins em um só lugar.\nDistribuidores\, vinícolas\, sommerliers e amantes desta bebida que vem ganhando mais espaço a cada ano no mercado baiano estarão presentes e acessíveis ao público.\nContando com a participação de palestrantes\, o Bahia Vinho Show convida a todos a participarem de Degustação e assistirem às palestras. Bem como levar para casa uma taça exclusiva e vinhos com valor promocional em uma oportunidade ímpar.\nO evento também oferecerá atividades como workshops e contará com a presença de expositores de queijos\, pães\, azeites e outros produtos.\nTudo isso acontece num dos espaços mais românticos e em frente à uma das mais belas paisagens de Salvador\, no Hotel Vila Galé\, das 17h às 22h.\nSe você também é um amante de vinhos\, não perca a oportunidade de participar deste evento\, que além de histórico\, será uma ótima chance de imergir neste delicioso universo de sabor e magia.\n\nDATA : 01 A 02 DE NOVEMBRO\nLOCAL: HOTEL VILA GALÉ – SALVADOR\nHORÁRIO: DAS 17H ÀS 22H\nAPROVEITE O PRIMEIRO LOTE E GANHE UMA GARRAFA DE AZEITE SANTA VITÓRIA de 250ml.\nObs: A garrafa de azeite será entregue no local do evento junto com sua taça personalizada.\nPROMOÇÃO LIMITADA.\n
URL:https://agendadovinho.com.br/event/bahia-vinho-show-vinhos-do-brasil/
LOCATION:Hotel Vila Galé\, Rua Morro do Escravo Miguel\, 320\, Ondina\, Salvador\, BA\, Brasil
CATEGORIES:BA - Salvador,Degustação
ATTACH;FMTTYPE=image/jpeg:https://agendadovinho.com.br/wp-content/uploads/2019/09/bahia-vinho-show_011119.jpg
END:VEVENT
END:VCALENDAR