BEGIN:VCALENDAR
VERSION:2.0
PRODID:-//Agenda do Vinho - ECPv4.9.0//NONSGML v1.0//EN
CALSCALE:GREGORIAN
METHOD:PUBLISH
X-WR-CALNAME:Agenda do Vinho
X-ORIGINAL-URL:https://agendadovinho.com.br
X-WR-CALDESC:Eventos para Agenda do Vinho
BEGIN:VEVENT
DTSTART;TZID=America/Sao_Paulo:20191030T120000
DTEND;TZID=America/Sao_Paulo:20191030T130000
DTSTAMP:20260426T011235
CREATED:20191019T153522Z
LAST-MODIFIED:20191019T153522Z
UID:9190-1572436800-1572440400@agendadovinho.com.br
SUMMARY:Degustação Salton
DESCRIPTION:Viva uma experiência sensorial ímpar em São Paulo: degustação orientada de 7 vinhos especiais da Salton. Entre eles\, dois rótulos da exclusiva marca Domenico. As vagas são limitadas então garanta já seu ingresso! \n
URL:https://agendadovinho.com.br/event/degustacao-salton-2/
LOCATION:Enoteca Família Salton\, Av. Pacaembu\, 1911 - Pacaembu\, São Paulo\, SP\, 01234-001\, Brasil
CATEGORIES:Degustação,SP - São Paulo
ATTACH;FMTTYPE=image/jpeg:https://agendadovinho.com.br/wp-content/uploads/2019/10/degustacao-salton_301019.jpg
END:VEVENT
BEGIN:VEVENT
DTSTART;TZID=America/Sao_Paulo:20191030T193000
DTEND;TZID=America/Sao_Paulo:20191030T220000
DTSTAMP:20260426T011235
CREATED:20190920T200211Z
LAST-MODIFIED:20190920T200211Z
UID:8425-1572463800-1572472800@agendadovinho.com.br
SUMMARY:7a edição "Amuse Bouche" no Au Bon Vivant especial Champagne e Rosé de Provence
DESCRIPTION:A sétima edição do “Amuse Bouche” é uma parceria entre Au Bon Vivant\, autêntico bistrô francês de Belo Horizonte\, conhecido pela maior oferta de vinhos em taça da capital\, e a especialista em vinhos franceses Chez France. Vamos funcionar como uma autêntica feirinha parisiense. \nESPECAL CHAMPAGNE E ROSÉ DE PROVENCE \nAo invés da disposição tradicional das nossas mesas\, teremos mini-stands espalhados no salão para servir e comentar novos rótulos selecionados\, todos franceses. Atenção! Desta vez teremos uma edição especial com Champagnes e rosés da Provence em destaque maior (confira abaixo na lista)! \nNaturalmente\, o bufê será assinado pela nossa chef Silvana Watel com delicias que você poderá degustar à vontade\, assim como os vinhos. \nPara completar o quadro\, cursinhos sobre as regiões dos vinhos degustados durante o evento serão dispensados. Tudo do jeito que a gente gosta: boa comida\, bons vinhos e com um preço promocional! Durante o evento\, daremos um desconto especial nas garrafas que você decidir levar para casa. \nLembrando que\, no dia do Amuse Bouche\, o restaurante vai funcionar apenas para o evento\, com reserva antecipada. Não serviremos nosso cardápio habitual. O evento começará as 19h30\, e a reposição do buffet e dos vinhos em degustação será feita até as 22h00. \nAh! Sempre precisa de água nestes momentos. No Au Bon Vivant\, é como na França: a jarra de água filtrada é sempre gratuita! \nOs vinhos oferecidos em degustação serão: \nChampagne Vollereaux \n-Brut Réserve \n-Blanc de Blancs \n-Rosé de Saignée \n-Cuvée Marguerite 2011 \nCôtes de Provence Domaine de Saint Ser \n-Cuvée Tradition tinto 2014 \n-Cuvée Tradition branco 2015 \n-Cuvée Prestige Rosé 2018 \nOutros vinhos \nBourgogne Domaine Jaffelin : Cuvée des Chanoines AOC Bourgogne 2017 \nBourgogne Domaine Jaffelin AOC Rully 2017 \nCôtes du Rhône :Famille Jaume AOC Vinsobres 2016 \nLanguedoc :Col de la Ramière AOC Saint Chinian 2018 \nBordeaux Maucaillou Haut Médoc 2016 \nBordeaux Barrail Meyney 2016 Magnum 1500ML \nE\, sim\, os finger-foods do buffe da Silvana harmonizam! \nTim tim! \n
URL:https://agendadovinho.com.br/event/7a-edicao-amuse-bouche-no-au-bon-vivant-especial-champagne-e-rose-de-provence/
LOCATION:Au Bon Vivant\, Rua Pium-í\, 229\, Cruzeiro\, Belo Horizonte\, MG\, Brasil
CATEGORIES:Degustação,MG - Belo Horizonte
ATTACH;FMTTYPE=image/jpeg:https://agendadovinho.com.br/wp-content/uploads/2019/09/amuse-bouche_301019.jpg
END:VEVENT
END:VCALENDAR