BEGIN:VCALENDAR
VERSION:2.0
PRODID:-//Agenda do Vinho - ECPv4.9.0//NONSGML v1.0//EN
CALSCALE:GREGORIAN
METHOD:PUBLISH
X-WR-CALNAME:Agenda do Vinho
X-ORIGINAL-URL:https://agendadovinho.com.br
X-WR-CALDESC:Eventos para Agenda do Vinho
BEGIN:VEVENT
DTSTART;TZID=America/Sao_Paulo:20191029T193000
DTEND;TZID=America/Sao_Paulo:20191029T193000
DTSTAMP:20260426T011235
CREATED:20190919T142125Z
LAST-MODIFIED:20190919T142125Z
UID:8364-1572377400-1572377400@agendadovinho.com.br
SUMMARY:Vinhos Franceses Harmonizados - Amuse Bouche
DESCRIPTION:** Edição Especial: Champagne Vollereaux e Domaine Saint Ser de Provence ** \nO Amuse Bouche é uma noite agradável para você conhecer e degustar ótimos vinhos franceses harmonizados com um menu especial. O evento é organizado pela Chez France\, empresa franco-brasileira cuja estratégia baseia-se na divulgação e comercialização de vinhos franceses no Brasil. \nNesta edição do Amuse Bouche teremos a presença dos produtores Julien Breuzon\, da produtora de Champagne\, a Maison Vollereaux e da Jacqueline Guichot\, do Domaine Saint Ser de Provence. Serão degustados os novos Champagnes da Maison Vollereaux\, vinhos orgânicos e biodinâmicos do Domaine Saint Ser além de outros rótulos da gama Chez France. Tudo isso harmonizado com um menu volante preparado especialmente para o evento pelo Restaurante Praça São Lourenço. \nNo valor do ingresso está incluso: Degustação de Vinhos\, Menu volante e Água. \nVINHOS: \nChampagne Vollereaux – Champagne \n– Brut Réserve \n– Blanc de Blancs \n– Rosé de Saignée \n– Cuvée Marguerite 2011 \nDomaine de Saint Ser – Provence \n– Cuvée Tradition Tinto 2014 \n– Cuvée Tradition Branco 2015 \n– Cuvée Prestige Rosé 2018 \nOutros vinhos \n– Bourgogne: Domaine Jaffelin Cuvée des Chanoines AOC Bourgogne 2017 \n– Bourgogne: Lesprit AOC Chablis 2018 \n– Côtes du Rhône: Terres de Truffes AOP Ventoux 2016 \n– Languedoc: Château Cabezac AOC Minervois 2017 \n– Bordeaux: Château Laffitte Laujac Médoc 2014 \n– Bordeaux: Barrail Meyney 2016 Magnum 1500ML \n  \n_ \nA Chez France reserva o direito de alterar as datas ou cancelar o evento caso o número de participantes não atinja o mínimo previsto. O valor pago será devolvido integralmente dentro de um prazo de até 07 dias corridos a partir do seu cancelamento. \n
URL:https://agendadovinho.com.br/event/vinhos-franceses-harmonizados-amuse-bouche/
LOCATION:Praça São Lourenço – Vila Olímpia\, R. Casa do Ator\, 608 - Vila Olímpia\, São Paulo\, SP\, 04546-002\, Brasil
CATEGORIES:Degustação,SP - São Paulo
ATTACH;FMTTYPE=image/jpeg:https://agendadovinho.com.br/wp-content/uploads/2019/09/amuse-bouche_291019.jpg
END:VEVENT
BEGIN:VEVENT
DTSTART;TZID=America/Sao_Paulo:20191029T193000
DTEND;TZID=America/Sao_Paulo:20191029T193000
DTSTAMP:20260426T011235
CREATED:20191028T173437Z
LAST-MODIFIED:20191028T173437Z
UID:9379-1572377400-1572377400@agendadovinho.com.br
SUMMARY:Harmonização Vinícola Monte Reale
DESCRIPTION:Na terça-feira\, dia 29 de outubro\, venha conhecer 6 rótulos da @vinhosmontereale\, localizada na região de Flores de Cunha\, reconhecida pela produção de vinhos premiados e de alta qualidade. A noite será comandada pelo enólogo da casa\, Giovani Giotto\, e dá uma conferida que te espera 😛: Vinhos:\nRecepção: Espumante Prosecco Charmat Valdemiz\n1º prato: Salada Caprese\nHarmonização com Vinho Rosé Valdemiz Pinot Noir safra 2018\n2º prato: Mini polpettas com molho demi-glace\nHarmonização com Vinho Tinto Merlot Videiras\n3º prato: Entrecot com queijo Provolone e molho chimichurri\, acompanhado de purê de aipim\nHarmonização com Vinho Tinto Valdemiz Arinarnoa safra 2015 e Vinho Tinto Valdemiz Ancellotta safra 2015\nSobremesa: Espetinho de morango com calda de chocolate meio-amargo\nHarmonização com Espumante Sospirolo Pinot Noir Nature método tradicional \nOs convites\, no valor de 75\,00 antecipado (depósito bancário) ou 80\,00 no dia\, são limitados\, então garante o teu pelo whats 999593063. Baita programa por um precinho ó 👌 \n
URL:https://agendadovinho.com.br/event/harmonizacao-vinicola-monte-reale/
LOCATION:Champanharia Natalicio BarraShoppingSul\, Avenida Diário de Notícias\, 300\, Cristal\, Porto Alegre\, RS\, 90810-080\, Brasil
CATEGORIES:Degustação,RS - Porto Alegre
ATTACH;FMTTYPE=image/jpeg:https://agendadovinho.com.br/wp-content/uploads/2019/10/harmonizacao_291019.jpg
END:VEVENT
END:VCALENDAR