BEGIN:VCALENDAR
VERSION:2.0
PRODID:-//Agenda do Vinho - ECPv4.9.0//NONSGML v1.0//EN
CALSCALE:GREGORIAN
METHOD:PUBLISH
X-WR-CALNAME:Agenda do Vinho
X-ORIGINAL-URL:https://agendadovinho.com.br
X-WR-CALDESC:Eventos para Agenda do Vinho
BEGIN:VEVENT
DTSTART;TZID=America/Sao_Paulo:20191019T110000
DTEND;TZID=America/Sao_Paulo:20191019T170000
DTSTAMP:20260426T025100
CREATED:20190924T214255Z
LAST-MODIFIED:20190924T214255Z
UID:8520-1571482800-1571504400@agendadovinho.com.br
SUMMARY:II FESTIVAL VINOPAR DO VINHO PARANAENSE
DESCRIPTION:Curitiba recebe a 2ª edição do Festival VINOPAR do Vinho Paranaense – um brinde aos produtos paranaenses! \nO II Festival VINOPAR do Vinho Paranaense será uma grande celebração do vinho paranaense\, promovido pela Associação dos Vitivinicultores do Paraná – VINOPAR. \nEm seus dois dias de realização\, 19 e 20 de outubro de 2019\, o evento terá em sua programação degustações e palestras sobre a cultura do vinho\, gastronomia com chefs e produtores de renome local e irá reunir as vinícolas paranaenses que ofertarão degustação e venda de taças e garrafas dos seus produtos aos apreciadores de vinho. \nVenha conhecer e desfrutar de um dia regado a bons vinhos\, boas conversas\, gastronomia\, conteúdo e boa música com os vitivinicultores do Paraná! \n– Mais de 50 rótulos para degustação \n– Venda de vinhos a preços especiais \n– Produtos típicos paranaenses \n– Enogastronomia regional \n– Workshops educativos \nNão perca! \n
URL:https://agendadovinho.com.br/event/ii-festival-vinopar-do-vinho-paranaense/
LOCATION:Museu Oscar Niemeyer\, R. Mal. Hermes\, 999 - Centro Cívico\, Curitiba - PR\, 80530-230\, Curitiba\, PR\, 80530-230\, Brasil
CATEGORIES:Degustação,PR - Curitiba
ATTACH;FMTTYPE=image/jpeg:https://agendadovinho.com.br/wp-content/uploads/2019/09/vinopar_191019.jpg
END:VEVENT
BEGIN:VEVENT
DTSTART;TZID=America/Sao_Paulo:20191019T130000
DTEND;TZID=America/Sao_Paulo:20191019T210000
DTSTAMP:20260426T025100
CREATED:20190903T212337Z
LAST-MODIFIED:20190903T212337Z
UID:7752-1571490000-1571518800@agendadovinho.com.br
SUMMARY:ADEGA FOLHA Tasting
DESCRIPTION:UM EVENTO PARA QUEM AMA O VINHO E QUEM NÃO VIVE SEM ELE! \nO maior jornal do país une-se à maior plataforma de conteúdo de vinhos para estimular a cultura do vinho no Brasil. \nSerão CENTENAS de vinhos de todo o mundo para você DEGUSTAR e COMPRAR * diretamente com os melhores importadores e produtores. \nData: 19 de outubro de 2019 \nHorário: das 13:00 às 21:00 \nUm evento para degustar ótimos vinhos\, você não pode perder! \nAssinantes da Folha \, Revista ADEGA e associados do Clube ADEGA compram com condições especiais\, peça seu código de desconto em: \nMais informações em adega_folha_tasting@innereditora.com.br \n* de acordo com a disponibilidade de venda do expositor.\n** Venda proibida para menores de 18 anos.\n** Se beber não dirija.\n
URL:https://agendadovinho.com.br/event/adega-folha-tasting/
LOCATION:Villaggio JK\, R. Funchal\, 500 - Vila Olímpia\, São Paulo\, SP\, 04551-060\, Brasil
CATEGORIES:Degustação,SP - São Paulo
ATTACH;FMTTYPE=image/jpeg:https://agendadovinho.com.br/wp-content/uploads/2019/09/adega-folha-tasting_191019.jpg
END:VEVENT
BEGIN:VEVENT
DTSTART;TZID=America/Sao_Paulo:20191019T130000
DTEND;TZID=America/Sao_Paulo:20191019T235900
DTSTAMP:20260426T025100
CREATED:20191018T164704Z
LAST-MODIFIED:20191018T164704Z
UID:9170-1571490000-1571529540@agendadovinho.com.br
SUMMARY:Flight de Vinhos Outubro Rosa
DESCRIPTION:\nAPÓS A COMPRA\, FAVOR ENTRAR EM CONTATO PELO TELEFONE 3227-3009 PARA GARANTIR A RESERVA DA SUA MESA.\n\n\nFlight de Vinhos Outubro Rosa\n\nO Feminino no Vinho está associado a elegância\, delicadeza\, perfume e maciez. Este Fligth é a participação amorosa da Rex Bibendi no Outubro Rosa.\n\n– Monte Paschoal Brut Rosé\n– Portillo Pinot Noir\n– Callia Tardío Dulce\n\n 3 TAÇAS DE VINHO (125 ML DE CADA)\n\n\n\nDATAS: 15 A 19 DE OUTUBRO\n\n\nHORÁRIO: SEGUNDA A SÁBADO DAS 12 ÀS 24 HORAS\n\n\n\nLOCAL: ZAHIL | REX BIBENDI | RUA ANTÔNIO DE ALBUQUERQUE 917 | SAVASSI\n\n
URL:https://agendadovinho.com.br/event/flight-de-vinhos-outubro-rosa/
LOCATION:Rex Bibendi\, Rua Antônio de Albuquerque \, 917\, Savassi\, Belo Horizonte\, MG\, Brasil
CATEGORIES:Degustação,MG - Belo Horizonte
ATTACH;FMTTYPE=image/png:https://agendadovinho.com.br/wp-content/uploads/2019/10/outubro-rosa_191019.png
END:VEVENT
BEGIN:VEVENT
DTSTART;TZID=America/Sao_Paulo:20191019T150000
DTEND;TZID=America/Sao_Paulo:20191019T200000
DTSTAMP:20260426T025100
CREATED:20190929T143249Z
LAST-MODIFIED:20190929T143249Z
UID:8699-1571497200-1571515200@agendadovinho.com.br
SUMMARY:Wine Festival
DESCRIPTION:A Ville Du Vin Alphaville Convida você para nossa próxima edição do Wine Festival\, que desta vez acontecerá no ATC Tênis Clube\, o valor será de R$ 99.00 (Deste valor R$ 70.00 você reverte em compras).Informações e venda de ingresso: 11 4208 – 6061. Ou em nas lojas Ville Du Vin de Alphaville. \n
URL:https://agendadovinho.com.br/event/wine-festival-2/
LOCATION:Alphaville Tênis Clube\, Alameda Paris\, 555 - Alphaville Industrial\, Barueri\, SP\, 06454-040\, Brasil
CATEGORIES:Degustação,SP - Demais cidades
ATTACH;FMTTYPE=image/jpeg:https://agendadovinho.com.br/wp-content/uploads/2019/09/wine-festival_181019.jpg
END:VEVENT
BEGIN:VEVENT
DTSTART;TZID=America/Sao_Paulo:20191019T160000
DTEND;TZID=America/Sao_Paulo:20191019T200000
DTSTAMP:20260426T025100
CREATED:20190927T175814Z
LAST-MODIFIED:20190927T175814Z
UID:8652-1571500800-1571515200@agendadovinho.com.br
SUMMARY:Vino Mundi - Especial 10 anos
DESCRIPTION:Degustação especial de 10 anos da Vino Mundi! \nEm comemoração aos nossos 10 anos de atividade\, realizaremos uma degustação especial no dia 19 de outubro de 2019\, onde apresentaremos lançamentos e novidades\, além dos já consagrados vinhos de renomadas vinícolas de diferentes nacionalidades. \nCompre o convite antecipado e ganhe uma TAÇA ESPECIAL COMEMORATIVA\, mais um CRÉDITO de R$100\,00 para serem utilizados durante o evento na compra dos vinhos participantes. \nQuando.\n19/10/2019.\nSábado\, das 16 às 20 hs. \nOnde.\nAv. Brigadeiro Faria Lima\, 4652.\nVila Olimpia – São Paulo /SP.\nEspaço Arte Eventos. \nCONVITES. \n1º Lote (20% de desconto).\nR$150\,00 até 30/09/2019. \n2º Lote (10% de desconto).\nR$170\,00 até 10/10/2019. \n3º Lote (sem desconto).\nR$190\,00 até 18/10/2019. \nNo local do evento (sem desconto).\nR$190\,00 – sem direito a crédito para compra de vinhos. \nwww.vinomundi.com.br/especial-10-anos \n
URL:https://agendadovinho.com.br/event/vino-mundi-especial-10-anos/
LOCATION:Espaço Arte Eventos\, Av. Brg. Faria Lima\, 4652 - Vila Olímpia\, São Paulo\, SP\, 04538-132\, Brasil
CATEGORIES:Degustação,SP - São Paulo
ATTACH;FMTTYPE=image/jpeg:https://agendadovinho.com.br/wp-content/uploads/2019/09/vino-mundi_191019.jpg
END:VEVENT
BEGIN:VEVENT
DTSTART;TZID=America/Sao_Paulo:20191019T170000
DTEND;TZID=America/Sao_Paulo:20191019T170000
DTSTAMP:20260426T025100
CREATED:20190929T142654Z
LAST-MODIFIED:20190929T142654Z
UID:8690-1571504400-1571504400@agendadovinho.com.br
SUMMARY:EXPOVINHO JOAÇABA 2019
DESCRIPTION:EXPOVINHO JOAÇABA 2019\n18 DE OUTUBRO DE 2019\nSPAZZIO BROLLO\nSEXTA ÀS 18H\n18 ANOS \nINGRESSO PRIMEIRO LOTE A R$ 30\,00\nFEIRA DE BEBIDAS\, GASTRONOMIA E PRODUTOS ESPECIAIS DO MEIO-OESTE DE SANTA CATARINA \n
URL:https://agendadovinho.com.br/event/expovinho-joacaba-2019-2/
LOCATION:Spazzio Brollo\, Rua Santa Terezinha\, 163 - Centro\, Joaçaba\, SC\, 89600-000\, Brasil
CATEGORIES:Degustação,SC - Demais cidades
ATTACH;FMTTYPE=image/png:https://agendadovinho.com.br/wp-content/uploads/2019/09/expovinho_181019.png
END:VEVENT
BEGIN:VEVENT
DTSTART;TZID=America/Sao_Paulo:20191019T190000
DTEND;TZID=America/Sao_Paulo:20191019T230000
DTSTAMP:20260426T025100
CREATED:20190927T173405Z
LAST-MODIFIED:20190927T173405Z
UID:8638-1571511600-1571526000@agendadovinho.com.br
SUMMARY:Amuse Bouche
DESCRIPTION:Deguste a vontade deliciosos vinhos e comidas \nAmuse Buche – deguste a vontade(19/10 19:00) \nNa noite do dia 19 de outubro\, preparamos uma evento especial em parceria com a Chez France\, onde você poderá degustar a vontade vinhos de qualidade juntamente com delícias preparadas pelo Chef Daniel Amorim. A sommelière internacional Luciana Mota fará as apresentações dos vinhos. Tudo isso em seu espaço\, a Cave Suíça\, um lugar que combina aconchego e ares europeus. \nVinhos: \n1- Domaine La Rouillère Cuvée Côtes de Provence AOC 2018 \n2- Domaine de Saint Ser Tradition 2015/2018 \n3- Domaine de Saint Ser Cuvée de l’Hermite 2017 \n4- Domaine de Saint Ser Cuvée Prestige Rosé 2018 \n5- Domaine de Saint Ser Cuvée Tradition 2014 \n6- Vigneret AOC Bandol Tinto 2015 \nCardápio: \n1- Raclette à la Suisse \n2- Rösti avec fromage suisse \n3- Tabua de queijos e chacrutaria: Langer salame Suiço\, queijo Camembert\, queijo fontina\, Queijo Emental envelhecido 100 dias\, queijo de Cabra com azeite de trufas negras\, liguiça suiça Cervela e Weisschurst \n4- Baguette rústico \n5- Aguas aromatizadas \nVagas limitadas \nPara mais informações: \n(11) 96625-5427 \nCave Suíça \nRua João Ramalho 1392 \n
URL:https://agendadovinho.com.br/event/amuse-bouche-3/
LOCATION:Cave Suíça\, Rua João Ramalho\, 1392\, São Paulo\, SP\, Brasil
CATEGORIES:Degustação,SP - São Paulo
ATTACH;FMTTYPE=image/jpeg:https://agendadovinho.com.br/wp-content/uploads/2019/09/amuse-bouche_191019.jpg
END:VEVENT
END:VCALENDAR