BEGIN:VCALENDAR
VERSION:2.0
PRODID:-//Agenda do Vinho - ECPv4.9.0//NONSGML v1.0//EN
CALSCALE:GREGORIAN
METHOD:PUBLISH
X-WR-CALNAME:Agenda do Vinho
X-ORIGINAL-URL:https://agendadovinho.com.br
X-WR-CALDESC:Eventos para Agenda do Vinho
BEGIN:VEVENT
DTSTART;TZID=America/Sao_Paulo:20191018T170000
DTEND;TZID=America/Sao_Paulo:20191018T210000
DTSTAMP:20260426T025059
CREATED:20190929T143227Z
LAST-MODIFIED:20190929T143227Z
UID:8698-1571418000-1571432400@agendadovinho.com.br
SUMMARY:Wine Festival
DESCRIPTION:A Ville Du Vin Alphaville Convida você para nossa próxima edição do Wine Festival\, que desta vez acontecerá no ATC Tênis Clube\, o valor será de R$ 99.00 (Deste valor R$ 70.00 você reverte em compras).Informações e venda de ingresso: 11 4208 – 6061. Ou em nas lojas Ville Du Vin de Alphaville. \n
URL:https://agendadovinho.com.br/event/wine-festival/
LOCATION:Alphaville Tênis Clube\, Alameda Paris\, 555 - Alphaville Industrial\, Barueri\, SP\, 06454-040\, Brasil
CATEGORIES:Degustação,SP - Demais cidades
ATTACH;FMTTYPE=image/jpeg:https://agendadovinho.com.br/wp-content/uploads/2019/09/wine-festival_181019.jpg
END:VEVENT
BEGIN:VEVENT
DTSTART;TZID=America/Sao_Paulo:20191018T170000
DTEND;TZID=America/Sao_Paulo:20191018T210000
DTSTAMP:20260426T025059
CREATED:20191010T173233Z
LAST-MODIFIED:20191010T173233Z
UID:9038-1571418000-1571432400@agendadovinho.com.br
SUMMARY:Feira de Vinhos - Trapiche
DESCRIPTION:Venha degustar rótulos especiais. \n– Entrada para maiores de 18 anos. \n– Se beber\, não dirija. \n
URL:https://agendadovinho.com.br/event/feira-de-vinhos-trapiche/
LOCATION:Pão de Açúcar Adega\, Rua Augusta\, 2710\, São Paulo\, SP\, Brasil
CATEGORIES:Degustação,SP - São Paulo
ATTACH;FMTTYPE=image/jpeg:https://agendadovinho.com.br/wp-content/uploads/2019/04/pao-de-acucar-adega-e1556067472626.jpg
END:VEVENT
BEGIN:VEVENT
DTSTART;TZID=America/Sao_Paulo:20191018T180000
DTEND;TZID=America/Sao_Paulo:20191018T230000
DTSTAMP:20260426T025059
CREATED:20190910T160118Z
LAST-MODIFIED:20190910T160118Z
UID:8040-1571421600-1571439600@agendadovinho.com.br
SUMMARY:Wine Fest 2019
DESCRIPTION:WINE FEST 2019 – Degustando experiências. Experimentando sabores. \nEm sua 3ª edição\, a Rede Gourmet apresenta no dia 18 de Outubro no restaurante Santa Fé Savassi\, o Wine Fest 2019. O evento que ganhou o coração e o paladar de Belo Horizonte contará com música\, degustação de vinhos e a gastronomia premiada pela Encontro Gastrô dos restaurantes Udon\, Olegário e Santa Fé. \nOPEN WINE\nVinhos especiais Reserva e Gran Reserva \nOPEN FOOD\nBuffet Udon | Sushis\nBuffet Olegário | Pizzas\nBuffet Santa Fé | Frios \n
URL:https://agendadovinho.com.br/event/wine-fest-2019/
LOCATION:SantaFé Savassi\, Rua Pernambuco\, 800\, Funcionários\, Belo Horizonte\, MG\, Brasil
CATEGORIES:Degustação,MG - Belo Horizonte
ATTACH;FMTTYPE=image/png:https://agendadovinho.com.br/wp-content/uploads/2019/09/wine-fest_181019.png
END:VEVENT
BEGIN:VEVENT
DTSTART;TZID=America/Sao_Paulo:20191018T180000
DTEND;TZID=America/Sao_Paulo:20191018T180000
DTSTAMP:20260426T025059
CREATED:20190929T142620Z
LAST-MODIFIED:20190929T142620Z
UID:8689-1571421600-1571421600@agendadovinho.com.br
SUMMARY:EXPOVINHO JOAÇABA 2019
DESCRIPTION:EXPOVINHO JOAÇABA 2019\n18 DE OUTUBRO DE 2019\nSPAZZIO BROLLO\nSEXTA ÀS 18H\n18 ANOS \nINGRESSO PRIMEIRO LOTE A R$ 30\,00\nFEIRA DE BEBIDAS\, GASTRONOMIA E PRODUTOS ESPECIAIS DO MEIO-OESTE DE SANTA CATARINA \n
URL:https://agendadovinho.com.br/event/expovinho-joacaba-2019/
LOCATION:Spazzio Brollo\, Rua Santa Terezinha\, 163 - Centro\, Joaçaba\, SC\, 89600-000\, Brasil
CATEGORIES:Degustação,SC - Demais cidades
ATTACH;FMTTYPE=image/png:https://agendadovinho.com.br/wp-content/uploads/2019/09/expovinho_181019.png
END:VEVENT
BEGIN:VEVENT
DTSTART;TZID=America/Sao_Paulo:20191018T180000
DTEND;TZID=America/Sao_Paulo:20191018T180000
DTSTAMP:20260426T025059
CREATED:20191008T173026Z
LAST-MODIFIED:20191008T173026Z
UID:8974-1571421600-1571421600@agendadovinho.com.br
SUMMARY:FESTA DEL VINO PRIMAVERA
DESCRIPTION:A vida é feita de escolhas: espumante\, branco ou rosè? Nos escolhemos os três! \nNos dias 18\, 19 e 20 de outubro acontece a Festa Del Vino Primavera\, uma edição especial da nossa famosa feira que celebra os vinhos italianos. Serão mais de 50 rótulos diferentes para você degustar… sua taça nunca ficará vazia! \nOnde? \nNo primeiro andar do Eataly. \nQuando? \nSexta (18/10) – 18h00 ás 23h00 \nSábado (19/10) – 18h00 ás 23h00 \nDomingo (20/10) – 15h00 ás 20h00 \nComo Funciona? \n1°- Pulseira – Eataly Pass: \nDeguste mais de 50 rótulos de vinho por R$ 120\,00. Com Eatalypass você reverte o valor da pulseira (R$120) em compras de vinhos da Adega acima de R$200. Ex: Comprou R$200 na Adega do Eataly\, você paga R$80. \n* Degustação sem repetição de rótulos \n** 30ml cada taça \n***Pulseira válida somente para o dia da compra e intransferível. \n****Desconto revertido somente no dia do evento \n2º- Compra de taças de vinho: \nCompra de taça de vinho avulsa – R$30\,00 a unidade \n01 única taça de um vinho(100ml) \n
URL:https://agendadovinho.com.br/event/festa-del-vino-primavera/
LOCATION:Eataly\, Avenida Presidente Juscelino Kubitschek\, 1489\, São Paulo\, SP\, Brasil
CATEGORIES:Degustação,SP - São Paulo
ATTACH;FMTTYPE=image/jpeg:https://agendadovinho.com.br/wp-content/uploads/2019/10/festa-del-vino_181019.jpg
END:VEVENT
BEGIN:VEVENT
DTSTART;TZID=America/Sao_Paulo:20191018T190000
DTEND;TZID=America/Sao_Paulo:20191018T223000
DTSTAMP:20260426T025059
CREATED:20190920T200022Z
LAST-MODIFIED:20190920T200022Z
UID:8424-1571425200-1571437800@agendadovinho.com.br
SUMMARY:Confraria dos Desconhecidos - DiVino Wine Club
DESCRIPTION:Confraria dos Desconhecidos \nIniciamos nosso segundo grupo \, a intenção é começar pelo básico e dialogarmos sobre vinhos Brancos \, Roses e Tintos;\nJuntas pessoas sejam conhecidas ou não o principal objetivo é trazer para o bate papo a construção  dos conhecimentos sobre vinho. \nNossa intenção não é medir quem sabe mais ou menos … a ideia é falar de vinho\, beber vinho e transformar esse momento em uma experiência única.\nVenha participar conosco. \nApenas 20 vagas por encontro \nSigam o nosso novo perfil no instagram : @divino.wineclub\nMais informações atravês do email: divinowineclub@gmail.com\nE reservas podem ser feitas diretamente pelo whats app : (21) 96907-8673 \n
URL:https://agendadovinho.com.br/event/confraria-dos-desconhecidos-divino-wine-club/
LOCATION:Farinha Pura Experiência\, Rua Humaitá\, 446\, Humaitá\, Rio de Janeiro\, RJ\, Brasil
CATEGORIES:Degustação,RJ - Rio de Janeiro
ATTACH;FMTTYPE=image/jpeg:https://agendadovinho.com.br/wp-content/uploads/2019/09/confraria_181019.jpg
END:VEVENT
BEGIN:VEVENT
DTSTART;TZID=America/Sao_Paulo:20191018T190000
DTEND;TZID=America/Sao_Paulo:20191018T190000
DTSTAMP:20260426T025059
CREATED:20191016T150312Z
LAST-MODIFIED:20191016T150312Z
UID:9128-1571425200-1571425200@agendadovinho.com.br
SUMMARY:DEGUSTAÇÃO DE VINHOS: CHILE x PORTUGAL
DESCRIPTION:\nNesta degustação de vinhos do Empório Liberdade você irá aprender as diferenças entre os vinhos Chilenos e os vinhos Portugueses.\nTambém serão abordadas as noções básicas sobre o mundo dos vinhos\, nomenclaturas e dicas técnicas para auxilia-lo na degustação.\nNesse encontro iremos provar 4 vinhos\, e para tornar nossa noite ainda mais agradável\, teremos pizza como acompanhamento.\n\nPreparados para mais um encontro surpreendente no mundo dos vinhos?\n\n\n– Data do evento: 18 e 19 de Outubro\n– Inicio do evento: 19:00 hrs.\n– Vagas Limitadas\n\nAqui no Empório Liberdade queremos garantir uma experiência única em cada degustação!\n\n\n\nNão é necessário levar o ingresso impresso\, usaremos as inscrições para controle de participantes.\n\nAguardamos vocês!\n\nEmpório Liberdade – Rua Castro\, 888\ninstagram.com/emporioliberdadecuritiba\n
URL:https://agendadovinho.com.br/event/degustacao-de-vinhos-chile-x-portugal/
LOCATION:Empório Liberdade\, Rua Castro\, 888\, Água Verde\, Curitiba\, PR\, Brasil
CATEGORIES:Degustação,PR - Curitiba
ATTACH;FMTTYPE=image/jpeg:https://agendadovinho.com.br/wp-content/uploads/2019/10/chile-x-portugal_181019.jpg
END:VEVENT
END:VCALENDAR