BEGIN:VCALENDAR
VERSION:2.0
PRODID:-//Agenda do Vinho - ECPv4.9.0//NONSGML v1.0//EN
CALSCALE:GREGORIAN
METHOD:PUBLISH
X-WR-CALNAME:Agenda do Vinho
X-ORIGINAL-URL:https://agendadovinho.com.br
X-WR-CALDESC:Eventos para Agenda do Vinho
BEGIN:VEVENT
DTSTART;TZID=America/Sao_Paulo:20191017T190000
DTEND;TZID=America/Sao_Paulo:20191017T220000
DTSTAMP:20260426T025023
CREATED:20191005T172414Z
LAST-MODIFIED:20191005T172414Z
UID:8903-1571338800-1571349600@agendadovinho.com.br
SUMMARY:Feira de Vinhos
DESCRIPTION:VAGAS LIMITADAS\, garanta seu ingresso! \nMais de cem rótulos premiados e produtores renomados\, participe para uma experiência única com o riquíssimo mundo dos vinhos. \nMais informações no Whatsapp: 16 3602-5640\nOu pelo fone: 16 99312-3200 \n
URL:https://agendadovinho.com.br/event/feira-de-vinhos-5/
LOCATION:Espaço Golf\, Rodovia Prefeito Antonio Duarte Nogueira - Anel Viário Sul Saída\, Km 316 - Vila do Golf\, Ribeirão Preto\, SP\, 14021-180\, Brasil
CATEGORIES:Degustação,SP - Demais cidades
ATTACH;FMTTYPE=image/jpeg:https://agendadovinho.com.br/wp-content/uploads/2019/10/feira-de-vinhos_171019.jpg
END:VEVENT
BEGIN:VEVENT
DTSTART;TZID=America/Sao_Paulo:20191017T200000
DTEND;TZID=America/Sao_Paulo:20191017T220000
DTSTAMP:20260426T025023
CREATED:20191007T172858Z
LAST-MODIFIED:20191007T172858Z
UID:8944-1571342400-1571349600@agendadovinho.com.br
SUMMARY:Degustação Guiada - 2ª Edição
DESCRIPTION:Queremos lhe convidar para a 2ª edição do nosso evento DEGUSTAÇÃO GUIADA.\n\nSerá um encontro super agradável onde degustaremos 05 rótulos de vinhos marca Don Guerino. Para acompanhamento será servido tábuas de frios e outros aperitivos gourmet.\n\nPara conduzir esta experiência e nos ajudar a compreender melhor todas nuances que os vinhos trazem\, ninguém melhor do que o próprio enólogo da marca\, Bruno Motter.  Ele é formado em Enologia em Mendoza\, na Argentina\, e que a partir de 2011 assina os renomados rótulos da vinícola.\n\nNão temos dúvidas que esta edição será mais um sucesso.\n\nSERVIÇO\nData: 17/10 (Quinta-feira)\nHorário: 20:00 (Duração de 2 horas aproximadamente)\nLocal: Casa Bortolotto. Rua Ruy Barbosa\, 240. Centro. Estância Velha.\nValor: R$ 75\,00.\n\nPara oferecer um maior conforto e tornar a experiência mais agradável\, o número de participantes é bem limitado.\n\nPara maiores informações\, você pode nos contatar no WhatsApp 51 9 9392-9420 ou no telefone fixo 51 3561-2159.\n\n\n#SempreÉUmMomentoEspecial\n#vinho #casadevinhos\n\n\nObservação: Para participação é necessário ter idade superior a 18 anos.\n
URL:https://agendadovinho.com.br/event/degustacao-guiada-2a-edicao/
LOCATION:Casa Bortolotto Vinhos & Cia\, Rua Ruy Barbosa\, 240\, Centro\, Estância Velha\, RS\, Brasil
CATEGORIES:Degustação,RS - Demais cidades
ATTACH;FMTTYPE=image/jpeg:https://agendadovinho.com.br/wp-content/uploads/2019/10/degustacao-guiada_171019.jpg
END:VEVENT
END:VCALENDAR