BEGIN:VCALENDAR
VERSION:2.0
PRODID:-//Agenda do Vinho - ECPv4.9.0//NONSGML v1.0//EN
CALSCALE:GREGORIAN
METHOD:PUBLISH
X-WR-CALNAME:Agenda do Vinho
X-ORIGINAL-URL:https://agendadovinho.com.br
X-WR-CALDESC:Eventos para Agenda do Vinho
BEGIN:VEVENT
DTSTART;TZID=America/Sao_Paulo:20191016T193000
DTEND;TZID=America/Sao_Paulo:20191016T193000
DTSTAMP:20260426T025100
CREATED:20191011T180313Z
LAST-MODIFIED:20191011T180313Z
UID:9086-1571254200-1571254200@agendadovinho.com.br
SUMMARY:Harmonização queijos e vinhos
DESCRIPTION:Vai sair a primeira noite de harmonização de queijos e vinhos aqui na Porto Nobre!! 🤩\n⠀⠀⠀⠀⠀⠀⠀⠀⠀\nTeremos 5 tipos de queijos e 5 estilos de vinhos para degustar e harmonizar! Diferentes sabores\, texturas e cores que irão nos proporcionar uma deliciosa experiência! Afinal\, essa combinação é infalível né? 🧀🍷😍\n⠀⠀⠀⠀⠀⠀⠀⠀⠀\nO evento será na quarta-feira que vem\, dia 16/10. Reserve a sua vaga antes que elas acabem!! \n
URL:https://agendadovinho.com.br/event/harmonizacao-queijos-e-vinhos/
LOCATION:Porto Nobre Empório & Eventos\, R. Frederico Afonso\, 5387 - Ponta de Baixo\, São José\, SC\, 88104-205\, Brasil
CATEGORIES:Degustação,SC - Demais cidades
ATTACH;FMTTYPE=image/jpeg:https://agendadovinho.com.br/wp-content/uploads/2019/10/queijos-e-vinhos_161019.jpg
END:VEVENT
END:VCALENDAR