BEGIN:VCALENDAR
VERSION:2.0
PRODID:-//Agenda do Vinho - ECPv4.9.0//NONSGML v1.0//EN
CALSCALE:GREGORIAN
METHOD:PUBLISH
X-WR-CALNAME:Agenda do Vinho
X-ORIGINAL-URL:https://agendadovinho.com.br
X-WR-CALDESC:Eventos para Agenda do Vinho
BEGIN:VEVENT
DTSTART;TZID=America/Sao_Paulo:20191015T190000
DTEND;TZID=America/Sao_Paulo:20191015T220000
DTSTAMP:20260426T025207
CREATED:20190925T183322Z
LAST-MODIFIED:20190925T183322Z
UID:8585-1571166000-1571176800@agendadovinho.com.br
SUMMARY:Workshop & Degustação Chandon
DESCRIPTION:Já pensou em aprender mais sobre espumantes em uma degustação com o enólogo da Chandon Brasil François Hautekeur?\nDá uma olhada como vai ser essa experiência! 🍾🥂 .\nNo início da noite François irá ensinar os métodos de elaboração\, processos enológicos e técnicas de harmonização dos espumantes da Chandon. Depois iremos degustar 4 rótulos e descobrir os aromas de cada um com um jogo interativo. \nPara mostrar a versatilidade do espumante\, degustaremos ainda um drink exclusivo elaborado pelo Le Bou. \nApós o drink teremos a degustação dos rótulos premium da Chandon harmonizados com dois pratos e uma sobremesa\, mostrando na prática a magia de uma harmonização que equilibra as características de ambos\, completando suas qualidades e elevando seus aromas\, sabores e texturas.​ \n​Todos os participantes poderão comprar a linha da Chandon com um preço especial\, podendo levar um pouco da experiência para casa e compartilhar com os amigos. \n
URL:https://agendadovinho.com.br/event/workshop-degustacao-chandon/
LOCATION:Le’Bou – Food | Art | Bar\, R. Dr. Renato Paes de Barros\, 415 - Itaim Bibi\, São Paulo\, SP\, 04530-000\, Brasil
CATEGORIES:Degustação,SP - São Paulo
ATTACH;FMTTYPE=image/jpeg:https://agendadovinho.com.br/wp-content/uploads/2019/09/chandon_151019.jpg
END:VEVENT
END:VCALENDAR