BEGIN:VCALENDAR
VERSION:2.0
PRODID:-//Agenda do Vinho - ECPv4.9.0//NONSGML v1.0//EN
CALSCALE:GREGORIAN
METHOD:PUBLISH
X-WR-CALNAME:Agenda do Vinho
X-ORIGINAL-URL:https://agendadovinho.com.br
X-WR-CALDESC:Eventos para Agenda do Vinho
BEGIN:VEVENT
DTSTART;TZID=America/Sao_Paulo:20191011T190000
DTEND;TZID=America/Sao_Paulo:20191011T220000
DTSTAMP:20260426T025203
CREATED:20190905T192541Z
LAST-MODIFIED:20191009T140933Z
UID:7828-1570820400-1570831200@agendadovinho.com.br
SUMMARY:BORBULHAS PELO MUNDO
DESCRIPTION:Vem aí Borbulhas pelo Mundo: evento exclusivo de espumantes com assinatura Decanter \nSe você é amante de vinhos espumantes de qualidade anote na agenda: no próximo dia 11 de outubro (sexta)\, a Decanter Brasília irá realizar o “Borbulhas pelo Mundo”\, um evento super especial em que serão servidos mais de 50 rótulos de espumantes\, incluindo Champanhes\, Proseccos e Cavas. O “Borbulhas pelo Mundo” acontece das 19 h às 22 h\, no Hotel Quality\, em Brasília\, em frente ao Park Shopping. \nA ideia do evento\, segundo os gerentes da Decanter Brasília\, Nadson Sato e Hudson Menezes\, é dar a oportunidade aos apreciadores de vinhos espumantes de apreciarem diferentes rótulos nacionais e importados tanto para conhecerem como para compararem os produtos. “É um excelente momento para o cliente poder apreciar espumantes produzidos por meio de variados métodos e em diversos terroirs”\, afirmam Nadson e Hudson. \nRótulos da França\, Itália\, Portugal\, Espanha\, Alemanha\, Argentina e Brasil serão servidos durante o evento. Dentre os destaques desta edição estão o Champagne Zoémie Cuvée Merveille Brut Grand Cru (R$670\,90) e o Giulio Ferrari Riserva del Fondatore 2007 (R$1003\,10). Todos os espumantes vão ser vendidos na ocasião com descontos de até 30%. Durante o evento\, para harmonizar com os espumantes\, também serão servidos queijos\, pães\, patês e frios variados. \nO ingresso para o evento custa R$160\,00\, sendo R$40\,00 revertidos em compras no dia. Os interessados devem correr porque são apenas 100 vagas! As vendas estão sendo feitas pelo Sympla ou na loja da Decanter na 103 Sul. \nServiço:\nBorbulhas pelo Mundo\nDia: 11 de outubro\nOnde: Hotel Quality – SMAS Trecho 3 \, Conjunto 2\, Bloco A (em frente ao Park Shopping)\nHora: Das 20 às 23h\nVendas: Decanter 104 sul R$160\,00\, sendo R$40\,00 revertidos em compras \n
URL:https://agendadovinho.com.br/event/borbulhas-pelo-mundo/
LOCATION:Quality Hotel & Suites Brasilia\, Rua SMAS Setor de Multiplas Atividades Sul - Trecho 3\, S/N - Guará\, Brasília - DF\, 71215-300\, Brasília\, DF\, 71215-300\, Brasil
CATEGORIES:Degustação,DF - Brasília
ATTACH;FMTTYPE=image/jpeg:https://agendadovinho.com.br/wp-content/uploads/2019/09/borbulhas-pelo-mundo_111019.jpg
END:VEVENT
BEGIN:VEVENT
DTSTART;TZID=America/Sao_Paulo:20191011T193000
DTEND;TZID=America/Sao_Paulo:20191011T193000
DTSTAMP:20260426T025203
CREATED:20191004T184734Z
LAST-MODIFIED:20191004T184734Z
UID:8875-1570822200-1570822200@agendadovinho.com.br
SUMMARY:DEGUSTAÇÃO DE VINHOS: SELEÇÃO DO ENÓLOGO - ALCIONI DUMES
DESCRIPTION:O Empório Liberdade em parceria com a Meritage Import\, realizará uma degustação guiada com o\nfantástico Enólogo Alcioni Dumes!!!\nPara essa degustação\, o enólogo preparou uma seleção especial de 4 vinhos franceses.\nE para tornar nossa noite ainda mais agradável\, teremos tábuas de frios como acompanhamento. \n\nPreparados para mais um encontro surpreendente no mundo dos vinhos?\n\n\nAqui no Empório Liberdade queremos garantir uma experiência única em cada degustação!\n\n– Data do evento: 11 de Outubro\n– Inicio do evento: 19:30 hrs.\n– Vagas Limitadas\n\n\nNão é necessário levar o ingresso impresso\, usaremos as inscrições para controle de participantes.\n\nAguardamos vocês!\n\nEmpório Liberdade – Rua Castro\, 888\ninstagram.com/emporioliberdadecuritiba\n\n
URL:https://agendadovinho.com.br/event/degustacao-de-vinhos-selecao-do-enologo-alcioni-dumes/
LOCATION:Empório Liberdade\, Rua Castro\, 888\, Água Verde\, Curitiba\, PR\, Brasil
CATEGORIES:Degustação,PR - Curitiba
ATTACH;FMTTYPE=image/jpeg:https://agendadovinho.com.br/wp-content/uploads/2019/10/degustacao_111019.jpg
END:VEVENT
BEGIN:VEVENT
DTSTART;TZID=America/Sao_Paulo:20191011T200000
DTEND;TZID=America/Sao_Paulo:20191011T200000
DTSTAMP:20260426T025203
CREATED:20190925T182916Z
LAST-MODIFIED:20190925T182916Z
UID:8582-1570824000-1570824000@agendadovinho.com.br
SUMMARY:Syrah ao redor do mundo
DESCRIPTION:Em outubro tem Confraria de Vinhos com degustação “Syrah ao redor do mundo” harmonizada com o delicioso fondue de carne do Toribinha Bar & Fondue. É sexta-feira\, 11 de outubro. Aproveite para passar o fim de semana no Toriba. Vagas limitadas\, faça já a sua reserva! \n
URL:https://agendadovinho.com.br/event/syrah-ao-redor-do-mundo/
LOCATION:Hotel Toriba\, Av. Ernesto Diederichsen\, 2962 - Vila Matilde\, Campos do Jordão\, SP\, 12460-000\, Brasil
CATEGORIES:Degustação,SP - Demais cidades
ATTACH;FMTTYPE=image/jpeg:https://agendadovinho.com.br/wp-content/uploads/2019/09/syrah_111019.jpg
END:VEVENT
END:VCALENDAR