BEGIN:VCALENDAR
VERSION:2.0
PRODID:-//Agenda do Vinho - ECPv4.9.0//NONSGML v1.0//EN
CALSCALE:GREGORIAN
METHOD:PUBLISH
X-WR-CALNAME:Agenda do Vinho
X-ORIGINAL-URL:https://agendadovinho.com.br
X-WR-CALDESC:Eventos para Agenda do Vinho
BEGIN:VEVENT
DTSTART;TZID=America/Sao_Paulo:20191004T190000
DTEND;TZID=America/Sao_Paulo:20191004T230000
DTSTAMP:20260426T025022
CREATED:20190927T173129Z
LAST-MODIFIED:20190927T173129Z
UID:8636-1570215600-1570230000@agendadovinho.com.br
SUMMARY:Confraria "Amigos de vinho" - Degustação de Vinhos Portugueses da Herdade do Esporão
DESCRIPTION:Degustação e Explicação de 5 tipos de vinhos portugueses da produtora Herdade do Esporão. \n5 Rótulos em degustação\, palestra e petiscos para harmonizar inclusos. \n
URL:https://agendadovinho.com.br/event/confraria-amigos-de-vinho-degustacao-de-vinhos-portugueses-da-herdade-do-esporao/
LOCATION:Enoteca Marevino\, Rua Sgt. Raul Fernandes Neves Neto 556\, loja 4 - Pontal de Santa Marina\, Caraguatatuba - SP\, 11672-030\, Caraguatatuba\, SP\, 11672-030
CATEGORIES:Degustação,SP - Demais cidades
ATTACH;FMTTYPE=image/png:https://agendadovinho.com.br/wp-content/uploads/2019/09/amigos-de-vinho_041019.png
END:VEVENT
BEGIN:VEVENT
DTSTART;TZID=America/Sao_Paulo:20191004T190000
DTEND;TZID=America/Sao_Paulo:20191004T203000
DTSTAMP:20260426T025022
CREATED:20191002T222706Z
LAST-MODIFIED:20191002T222706Z
UID:8758-1570215600-1570221000@agendadovinho.com.br
SUMMARY:DEGUSTAÇÃO DE VINHOS: PINOT NOIR
DESCRIPTION:\nNesta degustação de vinhos do Empório Liberdade você irá aprender sobre a Majestosa Pinot Noir. Também serão abordadas as noções básicas sobre o mundo dos vinhos\, nomenclaturas e dicas técnicas para auxilia-lo na degustação.\nNesse encontro iremos provar 4 rótulos\, e para deixar nossa noite ainda mais gostosa teremos pizza como acompanhamento.\nPreparados para mais um encontro surpreendente no mundo dos vinhos?\n\n\nAqui no Empório Liberdade queremos te libertar para o incrível mundo dos vinhos a cada degustação!\n\n– Turma 1\, no dia  04 de Outubro\, sexta-feira: 19:00-20:30\n– Turma 2\, no dia 05 de Outubro\, sábado: 19:00-20:30\n\n\nOs ingressos das duas turmas estão disponíveis nesta página\, escolha o que for de sua preferência.\n\nNão é necessário levar o ingresso impresso\, usaremos as inscrições para controle de participantes.\n\nAguardamos vocês!\n\nEmpório Liberdade – Rua Castro\, 888\ninstagram.com/emporioliberdadecuritiba\n
URL:https://agendadovinho.com.br/event/degustacao-de-vinhos-pinot-noir-2/
LOCATION:Empório Liberdade\, Rua Castro\, 888\, Água Verde\, Curitiba\, PR\, Brasil
CATEGORIES:Degustação,PR - Curitiba
ATTACH;FMTTYPE=image/jpeg:https://agendadovinho.com.br/wp-content/uploads/2019/10/degustacao-pinot-noir_041019.jpg
END:VEVENT
END:VCALENDAR