BEGIN:VCALENDAR
VERSION:2.0
PRODID:-//Agenda do Vinho - ECPv4.9.0//NONSGML v1.0//EN
CALSCALE:GREGORIAN
METHOD:PUBLISH
X-WR-CALNAME:Agenda do Vinho
X-ORIGINAL-URL:https://agendadovinho.com.br
X-WR-CALDESC:Eventos para Agenda do Vinho
BEGIN:VEVENT
DTSTART;TZID=America/Sao_Paulo:20191003T180000
DTEND;TZID=America/Sao_Paulo:20191003T210000
DTSTAMP:20260426T025201
CREATED:20190920T192718Z
LAST-MODIFIED:20190920T192718Z
UID:8409-1570125600-1570136400@agendadovinho.com.br
SUMMARY:Decanter Wine Day SSA
DESCRIPTION:O evento mais esperado do ano está chegando\, o Decanter Wine Day acontecerá dia 03/10! A Decanter Salvador está preparando uma experiência inesquecível para os apreciadores de vinhos e para você que quer aprender. Serão 120 rótulos\, com vinhos de todo o mundo. Marque na sua agenda. \nTelefones de contato: \n71- 3042-8008 / 71 98804-7655 \n
URL:https://agendadovinho.com.br/event/decanter-wine-day-ssa/
LOCATION:Enoteca Decanter Salvador\, R. Alexandre Herculano\, 18 - 02 - Pituba\, Salvador\, BA\, 41810-395\, Brasil
CATEGORIES:BA - Salvador,Degustação
ATTACH;FMTTYPE=image/jpeg:https://agendadovinho.com.br/wp-content/uploads/2019/09/decanter-wine-day_031019.jpg
END:VEVENT
BEGIN:VEVENT
DTSTART;TZID=America/Sao_Paulo:20191003T190000
DTEND;TZID=America/Sao_Paulo:20191003T203000
DTSTAMP:20260426T025201
CREATED:20190928T220735Z
LAST-MODIFIED:20190928T220735Z
UID:8668-1570129200-1570134600@agendadovinho.com.br
SUMMARY:1ª Academia do espumante Oca Wine
DESCRIPTION:A 1ª academia de Espumantes tem o propósito de desmistificar esta bebida associada a festividades especiais\, bem como mostrar as diferenças que existem entre os diversos espumantes do mundo. \nSerão degustados 06 (seis) diferentes tipos de espumantes: \n\n– Rosé Nature\, Hórus – Brasil \n– Extra Brut\, Pegões – Portugal \n– Champagne Brut\, Veuve Clicquot – França \n– Demi- Sec\, Hórus – Brasil \n– Moscatel\, Lovara – Brasil \n– Lambrusco\, Dell Emília Rosso – Itália \n\nAcompanhamento: tábuas com frutas e queijos. \n\nConteúdo didático: \n– Origem e história dos espumantes. \n– Onde tudo começou\, evolução e a difusão do espumante pelo mundo. \n– Nomes e regiões dos principais espumantes. \n– Os métodos de elaboração Charmat e Champenoise\, e suas diferenças entre os espumantes conforme o método. \n– Harmonização e serviço do espumante. \n
URL:https://agendadovinho.com.br/event/1a-academia-do-espumante-oca-wine/
LOCATION:Oca Wine\, Av. Sete de Setembro\, 2442 - Nossa Sra. das Graças\, Porto Velho\, RO\, 76804-142\, Brasil
CATEGORIES:Degustação,RO - Porto Velho
ATTACH;FMTTYPE=image/jpeg:https://agendadovinho.com.br/wp-content/uploads/2019/09/academia-do-espumante_031019.jpg
END:VEVENT
BEGIN:VEVENT
DTSTART;TZID=America/Sao_Paulo:20191003T193000
DTEND;TZID=America/Sao_Paulo:20191003T213000
DTSTAMP:20260426T025201
CREATED:20190928T220942Z
LAST-MODIFIED:20190928T220942Z
UID:8664-1570131000-1570138200@agendadovinho.com.br
SUMMARY:Bodega urbana Ruiz Gastaldo na Ecarta
DESCRIPTION:O Núcleo Cultural do Vinho\, um dos cinco projetos da Fundação Ecarta\, recebe o proprietário da bodega Ruiz Gastaldo\, Eduardo Gastaldo\, para tratar das características da vinícola urbana de Porto Alegre e degustar cinco rótulos. \nA bodega Ruiz Gastaldo começou a produção de vinhos há dois anos e está situada no bairro Chácara das Pedras. O bisavô de Gastaldo plantava uvas e produzia vinhos para consumo familiar\, há um século\, na avenida Independência\, também na capital gaúcha. Porém\, a real estreia de Gastaldo no mundo dos vinhos aconteceu em 2003 com seu sogro argentino que domina as técnicas. \nO primeiro vinho foi um Cabernet Sauvignon com o nome de João Pedro\, filho mais novo de Gastaldo. “A elaboração foi surpreendente e\, de certa forma\, aventureira\, porque contava com um tanque de capacidade de 500 litros na caçamba de uma caminhonete full size”\, relembra. As uvas eram esmagadas e bombeadas in loco para o tal tanque e a conclusão aconteceu em um espaço adjacente à garagem. \nA degustação será composta de dois tipos de Cabernet Franc em lotes de tempos e barricas diferentes\, além de um Luisa Chardonnay\, um Cabernet Franc Rosé e um espumante Rosé. \nAs pré-inscrições devem ser realizadas em https://bit.ly/2mfhQo2 \nOutras informações: 51. 4009 2970.\n \n
URL:https://agendadovinho.com.br/event/bodega-urbana-ruiz-gastaldo-na-ecarta/
LOCATION:Fundação Ecarta\, Av. João Pessoa\, 943\, Porto Alegre\, RS\, Brasil
CATEGORIES:Degustação,RS - Porto Alegre
ATTACH;FMTTYPE=image/jpeg:https://agendadovinho.com.br/wp-content/uploads/2019/09/Bodega-Ruiz-Gastaldo_3.jpg
END:VEVENT
BEGIN:VEVENT
DTSTART;TZID=America/Sao_Paulo:20191003T200000
DTEND;TZID=America/Sao_Paulo:20191003T220000
DTSTAMP:20260426T025201
CREATED:20190904T161032Z
LAST-MODIFIED:20190904T161032Z
UID:7777-1570132800-1570140000@agendadovinho.com.br
SUMMARY:Seleção Privada - Edição Especial Wine South America
DESCRIPTION:Seleção Privada é uma degustação guiada de vinhos raros no mercado\, selecionados criteriosamente para serem apresentados a um pequeno grupo de pessoas\, de forma instrutiva e descontraída\, pela sommelière Marcia Amaral*.\n\nO que inclui esta edição:\n– Degustação guidada de quatro vinhos selecionados na segunda edição de Wine South America\, o qual já é considerado o maior evento profissional do setor no continente latino-americano e principal plataforma de relacionamento entre o mundo do vinho e a América do Sul\, com o objetivo de apresentar alguns dos destaques do evento de maneira didática e casual;\n– Água\, pães e frios para acompanhamento.\n\nData: 3 de outubro (quinta-feira)\nHorário: das 20h às 22h\nInvestimento: R$100\,00\nLocal: Café Del Mar (Di Loreto)\, Florianópolis – SC\n\nObservações:\nO número mínimo para a realização de participantes é de 10 e o máximo de 12 pessoas.\nInformações: tudodovinho@gmail.com\n\n* Marcia Amaral é profissional do vinho\, sommelier internacional pela FISAR\, cursou o WSET 2 e 3 em Londres\, e tem experiência nacional e internacional em diversos segmentos do mundo do vinho.\n\n
URL:https://agendadovinho.com.br/event/selecao-privada-edicao-especial-wine-south-america/
LOCATION:Di Loreto Caffé e Galleria\, R. Maestro Tullo Cavallazzi\, 10 - Centro\, Florianópolis\, SC\, 88015-480\, Brasil
CATEGORIES:Degustação,SC - Florianópolis
ATTACH;FMTTYPE=image/png:https://agendadovinho.com.br/wp-content/uploads/2019/09/selecao-privada_031019.png
END:VEVENT
BEGIN:VEVENT
DTSTART;TZID=America/Sao_Paulo:20191003T200000
DTEND;TZID=America/Sao_Paulo:20191003T200000
DTSTAMP:20260426T025201
CREATED:20190924T221257Z
LAST-MODIFIED:20190924T221257Z
UID:8536-1570132800-1570132800@agendadovinho.com.br
SUMMARY:Degustação - Vale do Loire
DESCRIPTION:É com muito orgulho que a de la Croix convida seus clientes no dia 03 de outubro para realizar uma imersão no Vale do Loire\, com seus incríveis vinhos brancos\, em uma degustação com 7 rótulos aclamados de nosso portfólio\, dos produtores Vincent Caille\, Sebastien Riffault e Catherine & Pierre Breton\, entre outros. \nEssa degustação será conduzida pela renomada sommelière Gabriela Monteleone\, que foi nomeada desde 2017\, como Ambassadrice des Vins du Loire pela Interloire (corpo interprofissional para os vinhos do Vale do Loire)\, e pela BIVC (Bureau Interprofessionnel des Vins de Centre) para promover e educar sobre os vinhos da região. Ao final do workshop\, os participantes receberão um certificado oficial emitido pela Interloire. \nLocal: de la Croix Vinhos\nHorario: 20h\nValor: 350\,00 incluído degustação de 7 vinhos com embutidos\, queijos e terrines e o certificado emitido pelo Interloire.\nReservas: comercial@delacroixvinhos.com.br\nVagas super limitadas \n
URL:https://agendadovinho.com.br/event/degustacao-vale-do-loire/
LOCATION:de la Croix Importation\, Alameda Lorena\, 678 - Casa 1\, Cerqueira César - Jardins\, São Paulo\, SP\, 01424-002
CATEGORIES:Degustação,SP - São Paulo
ATTACH;FMTTYPE=image/jpeg:https://agendadovinho.com.br/wp-content/uploads/2019/09/vale-do-loire_031019.jpg
END:VEVENT
END:VCALENDAR