BEGIN:VCALENDAR
VERSION:2.0
PRODID:-//Agenda do Vinho - ECPv4.9.0//NONSGML v1.0//EN
CALSCALE:GREGORIAN
METHOD:PUBLISH
X-WR-CALNAME:Agenda do Vinho
X-ORIGINAL-URL:https://agendadovinho.com.br
X-WR-CALDESC:Eventos para Agenda do Vinho
BEGIN:VEVENT
DTSTART;TZID=America/Sao_Paulo:20191002T200000
DTEND;TZID=America/Sao_Paulo:20191002T220000
DTSTAMP:20260426T025022
CREATED:20190902T160859Z
LAST-MODIFIED:20190927T120545Z
UID:7669-1570046400-1570053600@agendadovinho.com.br
SUMMARY:Olé Espanha!
DESCRIPTION:Um passeio meio diferentão (já provou Garnacha Peluda?) por vinhos da Península Ibérica\, com direito a harmonização de vinho do Porto e charutos. \nMais detalhes >> \n
URL:https://agendadovinho.com.br/event/ole-espanha/
LOCATION:Forno da Vila\, R. Cap. Macedo\, 552 - Vila Mariana\, São Paulo\, SP\, 04021-020\, Brasil
CATEGORIES:Degustação,SP - São Paulo
ATTACH;FMTTYPE=image/jpeg:https://agendadovinho.com.br/wp-content/uploads/2019/09/ola-espanha_021019.jpg
END:VEVENT
END:VCALENDAR