BEGIN:VCALENDAR
VERSION:2.0
PRODID:-//Agenda do Vinho - ECPv4.9.0//NONSGML v1.0//EN
CALSCALE:GREGORIAN
METHOD:PUBLISH
X-WR-CALNAME:Agenda do Vinho
X-ORIGINAL-URL:https://agendadovinho.com.br
X-WR-CALDESC:Eventos para Agenda do Vinho
BEGIN:VEVENT
DTSTART;TZID=America/Sao_Paulo:20190921T110000
DTEND;TZID=America/Sao_Paulo:20190921T133000
DTSTAMP:20260426T042023
CREATED:20190919T145206Z
LAST-MODIFIED:20190919T145206Z
UID:8379-1569063600-1569072600@agendadovinho.com.br
SUMMARY:Degustação - Clube do Vinho
DESCRIPTION:🍷 Amantes de vinho -> 😍 SÁBADO 21/09 venha para a Degustação Gratuita de Vinhos!\n⠀\n🍇 Degustação vinhos do clube. Você vai se encantar com os rótulos que selecionamos. 🍷\n⠀\n🍷 E tem + 15% de DESCONTO nos rótulos da degustação.\n⠀\n☎ Fone: (16) 3442-5474\n📍 Rua Galileu Galilei\, 1730 – Jardim Canadá | Ribeirão Preto – SP \n
URL:https://agendadovinho.com.br/event/degustacao-clube-do-vinho-2/
LOCATION:Decanter Ribeirão\, R. Galileu Galilei\, 1730 - Jardim Itamaraty\, Ribeirão Preto\, SP\, 14020-620\, Brasil
CATEGORIES:Degustação,SP - Demais cidades
ATTACH;FMTTYPE=image/jpeg:https://agendadovinho.com.br/wp-content/uploads/2019/09/degustacao_210919.jpg
END:VEVENT
BEGIN:VEVENT
DTSTART;TZID=America/Sao_Paulo:20190921T110000
DTEND;TZID=America/Sao_Paulo:20190921T170000
DTSTAMP:20260426T042023
CREATED:20190919T145212Z
LAST-MODIFIED:20190919T145212Z
UID:8378-1569063600-1569085200@agendadovinho.com.br
SUMMARY:Portugal de Norte a Sul
DESCRIPTION:Os vinhos portugueses são o resultado de uma sucessão de tradições introduzidas em Portugal pelas diversas civilizações que aí se sucederam\, como os fenícios\, cartagineses\, gregos e\, acima de tudo\, os romanos.⠀\nA vasta quantidade de castas nativas permite produzir uma grande diversidade de vinhos com personalidades muito distintas. A qualidade e carácter único dos seus vinhos fazem de Portugal uma referência entre os principais países produtores\, com um lugar destacado e em crescimento\, entre os 10 principais produtores do mundo.⠀\nSelecionamos rótulos especiais para que você viaje pelos sabores dos vinhos portugueses. Imperdível! \n
URL:https://agendadovinho.com.br/event/portugal-de-norte-a-sul-2/
LOCATION:Serrado Vinhos\, Av. Maracanã\, 727\, loja 26 - Tijuca\, Rio de Janeiro\, RJ\, Brasil
CATEGORIES:Degustação,RJ - Rio de Janeiro
ATTACH;FMTTYPE=image/jpeg:https://agendadovinho.com.br/wp-content/uploads/2019/09/portugal_210919.jpg
END:VEVENT
BEGIN:VEVENT
DTSTART;TZID=America/Sao_Paulo:20190921T120000
DTEND;TZID=America/Sao_Paulo:20190921T180000
DTSTAMP:20260426T042023
CREATED:20190806T220628Z
LAST-MODIFIED:20190806T220628Z
UID:6535-1569067200-1569088800@agendadovinho.com.br
SUMMARY:7º Curitiba EXPOVINHOS 2019
DESCRIPTION:Nos dias 20 e 21 de setembro acontece a 7ª edição da Curitiba Expovinhos\, um evento que apresentará mais de 500 rótulos de vinhos de países de todo o mundo\, no Mezanino de eventos do Mercado Municipal de Curitiba. O evento\, realizado pela Associação dos Comerciantes do Mercado Municipal (Acesme)\, Mercado Municipal de Curitiba e Prefeitura de Curitiba\, deverá reunir aproximadamente 2.000 pessoas. \nO evento iniciou em 2009 e já faz parte do calendário dos profissionais da área e dos grandes apreciadores de vinho em Curitiba e Região. Sua 7ª edição\, promete trazer mais de 30 expositores das maiores vinícolas do mundo a fim de apresentar ao público as maiores novidades e lançamentos em vinhos. As edições anteriores foram um sucesso e\, neste ano\, a organização espera mais de 2.000 participantes nos dois dias de evento. \nCom foco na experiência\, o formato do evento será o de Wine Show\, no qual os expositores apresentam seus produtos para a degustação\, em contato direto com os visitantes. Além disso\, para acompanhar a grande degustação dos vinhos\, uma mesa repleta de queijos nobres e especiais será instalada no local para todos os participantes do evento harmonizarem esta especiaria e viverem uma experiência para além do vinho. \nServiço: \n7º Curitiba Expovinhos 2019\nData: 20 e 21 de setembro\, sexta e sábado\nHorário: das 16h às 21 (sexta) e das 12h às 18h (sábado)\nLocal: Mercado Municipal de Curitiba\nEnd: Rua da Paz\, 608 (Mezanino de Eventos)\nInformações: (41) 3363-3764 \n
URL:https://agendadovinho.com.br/event/7o-curitiba-expovinhos-2019-2/
LOCATION:Mercado Municipal de Curitiba\, Av. Sete de Setembro\, 1865 - Centro\, Curitiba\, PR\, 80060-070\, Brasil
CATEGORIES:Degustação,PR - Curitiba
ATTACH;FMTTYPE=image/jpeg:https://agendadovinho.com.br/wp-content/uploads/2019/08/expovinhos_200919.jpg
END:VEVENT
BEGIN:VEVENT
DTSTART;TZID=America/Sao_Paulo:20190921T120000
DTEND;TZID=America/Sao_Paulo:20190921T235900
DTSTAMP:20260426T042023
CREATED:20190918T175834Z
LAST-MODIFIED:20190918T175834Z
UID:8328-1569067200-1569110340@agendadovinho.com.br
SUMMARY:Flight de Vinhos Viña Los Boldos Flashback | Chile
DESCRIPTION:\nAPÓS A COMPRA\, FAVOR ENTRAR EM CONTATO PELO TELEFONE 3227-3009 PARA GARANTIR A RESERVA DA SUA MESA.\n\n\nFlight de Vinhos Los Boldos | Chile\n\nA Viña Los Boldos é uma tradicional vinícola familiar chilena\, localizada no Valle de Cachapoal\, Cordilheira dos Andes\, cujo terroir único produz uvas de extraordinária qualidade.Em 2008\, a Los Boldos tornou-se parte do prestigiado grupoportuguês Sogrape e implementou um amplo programa de reformas para elevarainda mais a qualidade dos seus vinhos\, hoje reconhecidos internacionalmente.\n\n\nVinhos que compõem o Flight – 3 TAÇAS DE VINHO (125 ML DE CADA)\n\n\n\nDATAS: 16 A 21 DE SETEMBRO\n\n\nHORÁRIO: SEGUNDA A SÁBADO DAS 12 ÀS 24 HORAS\n\n\n\nLOCAL: ZAHIL | REX BIBENDI | RUA ANTÔNIO DE ALBUQUERQUE 917 | SAVASSI\n\n
URL:https://agendadovinho.com.br/event/flight-de-vinhos-vina-los-boldos-flashback-chile/
LOCATION:Rex Bibendi\, Rua Antônio de Albuquerque \, 917\, Savassi\, Belo Horizonte\, MG\, Brasil
CATEGORIES:Degustação,MG - Belo Horizonte
ATTACH;FMTTYPE=image/png:https://agendadovinho.com.br/wp-content/uploads/2019/09/vina-los-boldos_210919.png
END:VEVENT
BEGIN:VEVENT
DTSTART;TZID=America/Sao_Paulo:20190921T130000
DTEND;TZID=America/Sao_Paulo:20190921T150000
DTSTAMP:20260426T042023
CREATED:20190910T155515Z
LAST-MODIFIED:20190916T132547Z
UID:8035-1569070800-1569078000@agendadovinho.com.br
SUMMARY:JazzTempo Degustação | culinária Pasquale e vinhos Grand Cru
DESCRIPTION:SÁB e DOM | das 13h às 15h | JazzTempo Degustação – culinária Pasquale e vinhos Grand Cru\n\nJazzNosFundos apresenta o Festival JazzTempo Itália\, programação que oferece um mergulho na produção contemporânea italiana. Realizado em parceria com o Instituto Italiano de Cultura de São Paulo e com a Puglia Jazz Sounds\, a primeira edição tem foco na música e gastronomia apuliana.\n\nSerão três shows de artistas da região: do guitarrista\, DJ e produtor\, Nicola Conte; do projeto Amori Sospesi\, de Gabrielle Mirabassi\, Di Modugno e Balducci e do The Boom Collective\, de Gaetano Partipilo. O bônus\, de Nápoles\, região da Campânia\, fica por conta do baterista Francesco Ciniglio.\n\nNa gastronomia\, em parceria com a Grand Cru e com Pasquale\, uma experiência com iguarias da região. A degustação traz vinhos da San Marzano\, pratos e comidas típicas que incluem a famosa Burrata\, Orecchiette e PannaCotta com calda de frutas vermelhas e Amarena – a cereja da Puglia. Um menu especial com assinatura da Grand Cru e do Chef e Restaurante Pasquale!\nsorteio de quatro garrafas de\nVINHO SAN MARZANO PRIMITIVO DI MANDURIA DOP SESSANTANNI 2015 1\,5L\n\nMenu\nVinhos\nESPUMANTE TERRA SERENA GRAN CUVEE EXTRA DRY\nVINHO SAN MARZANO TRAMARI ROSE DI PRIMITIVO IGP SALENTO 2018\nVINHO CORTE GIARA VALPOLICELLA DOC 2017\nVINHO SAN MARZANO FALO PRIMITIVO DI MANDURIA 2017\n\n\nEntrada\nSopressata\nEmbutido típico da região da Puglia\, produzido com 100% carne suína\, feito artesanalmente no restaurante La Pasquale\, seguindo receita de família.\n\nPimenta curada\nPimenta verde temperada e curada por aproximadamente 28 dias\, servido sobre patê de gorgonzola no pão (tapas)\n\nBurrata\nQueijo tradicional e típico da Puglia (semelhante à mozarela)\, originalmente da cidade de Andria. Feito com leite de vaca\, servido com creme de ervilhas e azeite trufado\n\nCaccio Cavalo\nQueijo típico da Puglia\, servido em cubos como aperitivo\n\nLinguiça curada\nEmbutido feito 100% de carne suína\, apimentado\, servido como aperitivo junto ao Caccio Cavalo\n\n\nPrato Principal\nOrecchiette\nMassa típica da Puglia. Em tradução literal significa “orelhinha”\, devido ao seu formato. Servido em duas etapas:\nCom Pomodoro e Stracciatella\nMassa salteada com o molho de tomate fresco\, servida com a stracciatella sobre a massa (recheio da burrata)\, raspas de limão (no Brasil chamado de siciliano) e ramo de manjericão\n\nCom molho de ragu di agnelo (ragu de cordeiro\, em italiano).\nMolho vermelho intenso\, cozido por aproximadamente seis horas\, com carne picada e moída de cordeiro.\n\nSobremesa\nPannaCotta com calda de frutas vermelhas e Amarena.\nAmarena é uma cereja da Puglia.\n
URL:https://agendadovinho.com.br/event/jazztempo-degustacao-culinaria-pasquale-e-vinhos-grand-cru/
LOCATION:JazzNosFundos\, Rua Cardeal Arcoverde\, 742 - Pinheiros\, São Paulo\, SP\, 05412-002\, Brasil
CATEGORIES:Degustação,SP - São Paulo
ATTACH;FMTTYPE=image/jpeg:https://agendadovinho.com.br/wp-content/uploads/2019/09/jazztempo_210919.jpg
END:VEVENT
BEGIN:VEVENT
DTSTART;TZID=America/Sao_Paulo:20190921T140000
DTEND;TZID=America/Sao_Paulo:20190921T200000
DTSTAMP:20260426T042023
CREATED:20190822T145609Z
LAST-MODIFIED:20190822T145609Z
UID:7213-1569074400-1569096000@agendadovinho.com.br
SUMMARY:Feira de Vinhos Nacionais
DESCRIPTION:Venha degustar rótulos especiais de Vinhos Nacionais. Na compra acima de R$ 50\,00\, ganhe uma pulseira para acesso no evento. \n– A entrada será mediante a confirmação da compra acima de R$ 50\,00 e com a aquisição da pulseira\, na loja física da Adega. Rua Augusta\, 2710.\n– Entrada para maiores de 18 anos. \n– Se beber\, não dirija. \n– A Pré-inscrição não garante acesso ao evento. \n
URL:https://agendadovinho.com.br/event/feira-de-vinhos-nacionais/
LOCATION:Pão de Açúcar Adega\, Rua Augusta\, 2710\, São Paulo\, SP\, Brasil
CATEGORIES:Degustação,SP - São Paulo
ATTACH;FMTTYPE=image/jpeg:https://agendadovinho.com.br/wp-content/uploads/2019/04/pao-de-acucar-adega-e1556067472626.jpg
END:VEVENT
BEGIN:VEVENT
DTSTART;TZID=America/Sao_Paulo:20190921T140000
DTEND;TZID=America/Sao_Paulo:20190921T220000
DTSTAMP:20260426T042023
CREATED:20190918T173927Z
LAST-MODIFIED:20190918T173927Z
UID:8320-1569074400-1569103200@agendadovinho.com.br
SUMMARY:Festival de Vinhos Shopping Grande Rio
DESCRIPTION:Festival de Vinhos Shopping Grande Rio \nEntrada Franca \nMais de 60 rótulos de diversos países \n20/9 – 14h às 22h \n21/9 – 14h às 22h \n22/9 – 14h às 21h \nPulseira de degustação por R$ 20\, com direito a uma taça oficial do evento e degustação em todos os stands \n  \nMais um grande evento com organização da Wine Out \n
URL:https://agendadovinho.com.br/event/festival-de-vinhos-shopping-grande-rio-2/
LOCATION:Shopping Grande Rio\, R. Maria Soares Sendas\, 111 - Parque Barreto\, São João de Meriti\, RJ\, 25575-825\, Brasil
CATEGORIES:Degustação,RJ - Demais cidades
ATTACH;FMTTYPE=image/jpeg:https://agendadovinho.com.br/wp-content/uploads/2019/09/78F8F7C2-23D2-48A8-99D9-117D701F79BA.jpeg
END:VEVENT
BEGIN:VEVENT
DTSTART;TZID=America/Sao_Paulo:20190921T160000
DTEND;TZID=America/Sao_Paulo:20190921T180000
DTSTAMP:20260426T042023
CREATED:20190912T143329Z
LAST-MODIFIED:20190912T143329Z
UID:8141-1569081600-1569088800@agendadovinho.com.br
SUMMARY:Degustação às Cegas Enoteca Família Salton
DESCRIPTION:Viva uma experiência sensorial ímpar em São Paulo: degustação orientada e às cegas de 5 vinhos especiais da Salton. Todos os detalhes foram pensado para te proporcionar uma experiência inesquecível.\nAs vagas são limitadas então garanta já seu ingresso! \nSOBRE A ENOTECA \nCom 109 anos de história na elaboração de vinhos e espumantes\, a Salton inaugurou Enoteca Família Salton\, em São Paulo. No espaçoso ambiente no bairro do Pacaembu\, os visitantes têm à disposição o portfólio da vinícola e também podem conhecer mais sobre o universo do vinho. \n
URL:https://agendadovinho.com.br/event/degustacao-as-cegas-enoteca-familia-salton/
LOCATION:Enoteca Família Salton\, Av. Pacaembu\, 1911 - Pacaembu\, São Paulo\, SP\, 01234-001\, Brasil
CATEGORIES:Degustação,SP - São Paulo
ATTACH;FMTTYPE=image/png:https://agendadovinho.com.br/wp-content/uploads/2019/09/degustacao-as-cegas_210919.png
END:VEVENT
BEGIN:VEVENT
DTSTART;TZID=America/Sao_Paulo:20190921T190000
DTEND;TZID=America/Sao_Paulo:20190921T220000
DTSTAMP:20260426T042023
CREATED:20190911T154841Z
LAST-MODIFIED:20190911T154841Z
UID:8074-1569092400-1569103200@agendadovinho.com.br
SUMMARY:Amuse Bouche
DESCRIPTION:Noite de vinhos franceses \nAmuse Buche (21/09 19:00) \nNa noite do dia 21 de setembro\, preparamos uma evento especial em parceria com a Chez France\,uma empresa exclusiva de vinhos franceses. \nO Amuse Buche será uma oportunidade para você degustar vinhos de qualidade juntamente com delícias preparadas pelo Chef Daniel Amorim\, com a sommelière internacional Luciana Mota em seu espaço\, Cave Suíça\, em um espaço que combina aconchego e ares europeus. \nVinhos: \n1- Domaine La Rouillère Cuvée Côtes de Provence AOC 2018 \n2- Domaine de Saint Ser Tradition 2015/2018 \n3- Domaine de Saint Ser Cuvée de l’Hermite 2017 \n4- Domaine de Saint Ser Cuvée Prestige Rosé 2018 \n5- Domaine de Saint Ser Cuvée Tradition 2014 \n6- Vigneret AOC Bandol Tinto 2015 \nCardápio: \n1- Raclette à la Suisse – Racler par um profisionel pour chaque personne \n2- Rösti avec fromage suisse \n3- Tabua de queijos e chacrutaria: Langer salame Suiço\, queijo Camembert\, queijo fontina\, Queijo Emental envelhecido 100 dias\, queijo de Cabra com azeite de trufas negras\, liguiça suiça Cervela e Weisschurst \n4- Baguette rústico \n5- Aguas aromatizadas \nPara mais informações: \n(11) 96625-5427 \n
URL:https://agendadovinho.com.br/event/amuse-bouche/
LOCATION:Cave Suíça\, Rua João Ramalho\, 1392\, São Paulo\, SP\, Brasil
CATEGORIES:Degustação,SP - São Paulo
ATTACH;FMTTYPE=image/jpeg:https://agendadovinho.com.br/wp-content/uploads/2019/09/amuse-bouche_210919.jpg
END:VEVENT
BEGIN:VEVENT
DTSTART;TZID=America/Sao_Paulo:20190921T190000
DTEND;TZID=America/Sao_Paulo:20190921T203000
DTSTAMP:20260426T042023
CREATED:20190918T175827Z
LAST-MODIFIED:20190918T175827Z
UID:8327-1569092400-1569097800@agendadovinho.com.br
SUMMARY:TOUR PELO MUNDO DOS VINHOS: VINHOS DE PEQUENAS PRODUÇÕES
DESCRIPTION:\nPreparados para conhecer vinhos de Pequenas Produções?\nSim\, o Empório Libertário mais charmoso da cidade preparou uma degustação de vinhos de Pequenas Produções\, ou seja\, vinhos que são produzidos em pequenas quantidades e que estão reescrevendo conceitos.\nEstão preparados para mais um encontro espetacular e surpreendente?!\nE\, para tornar nossa noite mais gostosa\, além de degustar 4 rótulos\, ainda teremos de acompanhamento deliciosos canapés.\nVenha se surpreender\,  e claro\, se divertir!\n\n\nAqui no Empório Liberdade queremos te libertar para o incrível mundo dos vinhos a cada evento!\n\n– Turma 1\, no dia 20 de Setembro\, sexta-feira: 19:00 – 20:30\n– Turma 2\, no dia 21 de Setembro\, sábado: 19:00 – 20:30\n
URL:https://agendadovinho.com.br/event/tour-pelo-mundo-dos-vinhos-vinhos-de-pequenas-producoes-2/
LOCATION:Empório Liberdade\, Rua Castro\, 888\, Água Verde\, Curitiba\, PR\, Brasil
CATEGORIES:Degustação,PR - Curitiba
ATTACH;FMTTYPE=image/jpeg:https://agendadovinho.com.br/wp-content/uploads/2019/09/pequenas-producoes_200919.jpg
END:VEVENT
BEGIN:VEVENT
DTSTART;TZID=America/Sao_Paulo:20190921T200000
DTEND;TZID=America/Sao_Paulo:20190921T235900
DTSTAMP:20260426T042023
CREATED:20190427T021716Z
LAST-MODIFIED:20190531T180906Z
UID:2689-1569096000-1569110340@agendadovinho.com.br
SUMMARY:Festival do Moscatel 2019 - 9ª Edição
DESCRIPTION:O objetivo do Festival do Moscatel é promover a Capital Nacional do Moscatel – título concedido a Farroupilha em Lei sancionada pelo Presidente da República em janeiro desse ano – e as particularidades que embasam essa conquista\, como o posto ocupado por Farroupilha\, de maior produtor brasileiro de uvas da variedade moscato\, utilizadas na elaboração de vinhos finos e espumantes\, e a Indicação Geográfica\, na modalidade Indicação de Procedência\, com foco nas bebidas elaborados com uvas moscatéis. Para o presidente da Afavin\, João Carlos Taffarel\, o evento fortalece o setor vitivinícola local ao aproximar os produtos farroupilhenses dos consumidores. “No Festival do Moscatel as vinícolas apresentam o que têm de melhor aos visitantes\, cativando quem já conhece seus produtos e conquistando novos apreciadores\, que procuram os rótulos das empresas após cada edição”\, salienta. Na Carta de Vinhos do Festival do Moscatel constam cerca de 40 rótulos entre espumantes moscatel\, frisantes moscatel\, vinhos moscato\, espumantes brut\, vinhos finos (tintos e brancos)\, sucos de uva (tintos e brancos) e água. As bebidas são servidas pelas empresas associadas à Afavin: Adega Chesini\, Basso Vinhos e Espumantes (Monte Paschoal)\, Casa Perini\, Cave Antiga Vitivinícola\, Cooperativa Vinícola São João (Vinhos Castellamare)\, Vinhos Cappelletti\, Vinícola Colombo e Vinícola Tonini. \nA realização do evento\, que na última edição recebeu público de seis estados e 70 cidades\, projeta Farroupilha turisticamente. “O Festival do Moscatel é o principal evento turístico de Farroupilha. A sua realização impulsiona a cadeia turística local e faz com que o município se firme como um dos importantes destinos da Serra Gaúcha. Apenas para citar um exemplo do impacto positivo do evento para o município\, nossos hotéis recebem\, meses antes do lançamento do evento\, reservas para setembro e chegamos a atingir ocupação máxima nesse período”\, enfatiza o Secretário Municipal de Turismo e Cultura Francis Casali. A diretora executiva do Sindicato Empresarial da Gastronomia e Hotelaria Região Uva e Vinho(Segh)\, Márcia Ferronato\, também destaca a importância do Festival do Moscatel no âmbito turístico. “A cada ano\, o Festival do Moscatel surpreende o visitante pelo acolhimento e pelos excelentes produtos\, ofertando uma experiência sensorial\, se consolidando como um dos grandes eventos da região\, constando no calendário gaúcho\, impactando na taxa de ocupação hoteleira e na valorização da gastronomia e vinhos de Farroupilha”\, ressalta. \nO cardápio da edição\, elaborado pela cheff Janete Canello com execução da equipe Dirceu Dalla Riva\, é composto por: Aperitivos: Salame\, Copa\, Pães\, Queijos de moscatel\, colonial\, parmesão e gruyère\, Pasta de berinjelas com ervas finas\, Geléia de uva\, Uva de mesa. Entradas: Salada colorida\, com alface verde\, tomate seco\, palmito\, azeitona preta e lascas de parmesão; Maionese Vegana\, com batata\, maçã\, temperos e maionese de castanhas\, azeite de oliva\, alho e mostarda; Quinoa em grãos com cubinhos de cebolas tostadas\, tomate\, pimentões\, uvas passas e amêndoas laminadas; Salada mix com brotos de alfafa\, salsinha\, abobrinha\, tomate cereja\, cenoura e pimentão amarelo. Pratos Principais: Costelinha suína ao molho barbacue\, Filé de frango ao molho caprese\, Medalhões de filé mignon ao molho de cogumelo fresco. Acompanhamentos: Mac and cheese com cheddar\, Penne tricolor ao molho italiano\, Arroz com espumante\, uvas passas e mix de nozes e castanha de caju\, Risoto de tomate seco e alcachofra\, Escondidinho de aipim com carne seca. Sobremesas: Cassata de leite condensado e coco com farofinha de nozes\, Chantilly com morangos picados e merenguinhos\, Taças de ganache com bombons picados\, Pirâmide de Brownie\, Cheesecake desconstruído\, Tiramissu\, Trufa. \n
URL:https://agendadovinho.com.br/event/festival-do-moscatel-2019-9a-edicao-6/
LOCATION:Centro Municipal de Eventos Mário Bianchi\, Avenida Prefeito Arno Domingos Busetti\, 348\, Cinquentenário\, Farroupilha\, RS\, Brasil
CATEGORIES:Degustação,RS - Demais cidades
ATTACH;FMTTYPE=image/jpeg:https://agendadovinho.com.br/wp-content/uploads/2019/04/moscatel_310819.jpg
END:VEVENT
BEGIN:VEVENT
DTSTART;TZID=America/Sao_Paulo:20190921T200000
DTEND;TZID=America/Sao_Paulo:20190921T200000
DTSTAMP:20260426T042023
CREATED:20190913T171619Z
LAST-MODIFIED:20190913T171619Z
UID:8193-1569096000-1569096000@agendadovinho.com.br
SUMMARY:Degustação às Cegas
DESCRIPTION:Degustação às Cegas \nRótulos: \n\nKorta Selected Vineyard Malbec 2017\nIque Malbec 2017\nIrurtia Malbec Reserva 2015\nReserve 2016 (Patagônia)\nMission de Picpus 2016\n\nInformações e reservas:\n(11)5083-6028 | (11)99708-4646\nvilaclementino@vinhoeponto.com.br \n
URL:https://agendadovinho.com.br/event/degustacao-as-cegas-3/
LOCATION:Vinho & Ponto Vila Clementino\, Rua Loefgren\, 934 - Vila Clementino\, São Paulo\, SP\, 04040-000\, Brasil
CATEGORIES:Degustação,SP - São Paulo
ATTACH;FMTTYPE=image/jpeg:https://agendadovinho.com.br/wp-content/uploads/2019/09/69CC842A-EDD1-45D2-BDCF-4F7472157A69.jpg
END:VEVENT
END:VCALENDAR