BEGIN:VCALENDAR
VERSION:2.0
PRODID:-//Agenda do Vinho - ECPv4.9.0//NONSGML v1.0//EN
CALSCALE:GREGORIAN
METHOD:PUBLISH
X-WR-CALNAME:Agenda do Vinho
X-ORIGINAL-URL:https://agendadovinho.com.br
X-WR-CALDESC:Eventos para Agenda do Vinho
BEGIN:VEVENT
DTSTART;TZID=America/Sao_Paulo:20190917T190000
DTEND;TZID=America/Sao_Paulo:20190917T220000
DTSTAMP:20260426T042027
CREATED:20190825T202646Z
LAST-MODIFIED:20190825T202646Z
UID:7377-1568746800-1568757600@agendadovinho.com.br
SUMMARY:IV Feira de Vinhos
DESCRIPTION:A IV FEIRA DE VINHOS será maior e melhor! Não perca! Garanta logo seu ingresso\, vagas limitadas. \n
URL:https://agendadovinho.com.br/event/iv-feira-de-vinhos/
LOCATION:Espaço FRA\, R. Cônego Jerônimo Pímentel\, 124 - Umarizal\, Belém\, PA\, 66055-000\, Brasil
CATEGORIES:Degustação,PA - Belém
ATTACH;FMTTYPE=image/jpeg:https://agendadovinho.com.br/wp-content/uploads/2019/08/feira-de-vinhos_170919.jpg
END:VEVENT
BEGIN:VEVENT
DTSTART;TZID=America/Sao_Paulo:20190917T200000
DTEND;TZID=America/Sao_Paulo:20190917T220000
DTSTAMP:20260426T042027
CREATED:20190903T212806Z
LAST-MODIFIED:20190903T212806Z
UID:7703-1568750400-1568757600@agendadovinho.com.br
SUMMARY:Degustação Sbav - Vinícola Perini
DESCRIPTION:A Sbav-SP receberá o sommelier Pablo Perini\, Diretor de Marketing\, da Vinícola Casa Perini\, para bate papo e degustação.\nA vinícola fica no Vale Tretino\, em Farroupinha – RS.\nSerão 6 rótulos\, 3 espumantes e 3 tintos \, que poderão ser adquiridos no dia do evento com desconto especial para os participantes.\n—–\nValor do investimento:\nAssociados: R$50\,00\nNão associados: R$100\,00\nInformações e inscrições:\nvinho@sbav-sp.com.br ou pelo telefone: (011) 3814-7905 \n
URL:https://agendadovinho.com.br/event/degustacao-sbav-vinicola-perini/
LOCATION:SBAV/SP\, R. Cincinato Braga\, 321 - Bela Vista\, São Paulo - SP\, 01333-011\, São Paulo\, SP\, 01333-011\, Brasil
CATEGORIES:Degustação,SP - São Paulo
ATTACH;FMTTYPE=image/jpeg:https://agendadovinho.com.br/wp-content/uploads/2019/09/IMG_2173.jpg
END:VEVENT
BEGIN:VEVENT
DTSTART;TZID=America/Sao_Paulo:20190917T200000
DTEND;TZID=America/Sao_Paulo:20190917T200000
DTSTAMP:20260426T042027
CREATED:20190911T173125Z
LAST-MODIFIED:20190911T173125Z
UID:8103-1568750400-1568750400@agendadovinho.com.br
SUMMARY:Varanda Experience
DESCRIPTION:Em um novo lugar\, agora no próprio Varanda\, na unidade do Shopping Vila Olímpia\, o Varanda Experience está de volta para sua 17° edição com vinho argentino! \n
URL:https://agendadovinho.com.br/event/varanda-experience-3/
LOCATION:Varanda Empório\, Rua Olimpíadas\, 360\, São Paulo\, SP\, Brasil
CATEGORIES:Degustação,SP - São Paulo
ATTACH;FMTTYPE=image/jpeg:https://agendadovinho.com.br/wp-content/uploads/2019/09/varanda-experience_170919.jpg
END:VEVENT
END:VCALENDAR