BEGIN:VCALENDAR
VERSION:2.0
PRODID:-//Agenda do Vinho - ECPv4.9.0//NONSGML v1.0//EN
CALSCALE:GREGORIAN
METHOD:PUBLISH
X-WR-CALNAME:Agenda do Vinho
X-ORIGINAL-URL:https://agendadovinho.com.br
X-WR-CALDESC:Eventos para Agenda do Vinho
BEGIN:VEVENT
DTSTART;TZID=America/Sao_Paulo:20190916T170000
DTEND;TZID=America/Sao_Paulo:20190916T200000
DTSTAMP:20260426T042132
CREATED:20190902T183835Z
LAST-MODIFIED:20190902T183835Z
UID:7692-1568653200-1568664000@agendadovinho.com.br
SUMMARY:Vinhos do Alentejo - Grande Degustação
DESCRIPTION:Neste mês de Setembro\, o Brasil vai receber novamente grandes eventos dedicados aos Vinhos do Alentejo\, com degustações dirigidas a formadores de opinião\, jornalistas\, profissionais da hotelaria\, restaurantes\, importadoras e empórios\, além dos wine lovers. Rio de Janeiro\, Vitória\, Brasília e São Paulo serão os palcos dos eventos. \nEste ano serão realizados 2 tipos de eventos: as Grandes Degustações (as habituais provas anuais\, que consistem na degustação livre de vinhos) e os Wine Festivals (eventos de rua\, com venda de vinho a copo/garrafa\, botecos de comida e animação): \n \nAs colheitas alentejanas mais recentes e aqueles rótulos bem memoráveis serão apresentados por 17 produtores:\nAdega Cartuxa\, Casa Agrícola HMR\, Casa Relvas\, CARMIM\, Cortes de Cima\, Ervideira\, Esporão\, Herdade do Peso\, Herdade dos Coteis\, Herdade Grande\,  João Portugal Ramos\, José Maria da Fonseca Vinhos\, Monte da Capela\, Monte da Comenda\,  Quinta do Zambujeiro\, Sogrape Vinhos e Terrenus Veritae. \nInscrições aqui: http://cadastro.vinhosdoalentejo.pt/ \nEsta iniciativa é organizada pela Comissão Vitivinícola Regional Alentejana (CVRA)\, com produção da EV-Essência do Vinho. \n
URL:https://agendadovinho.com.br/event/vinhos-do-alentejo-grande-degustacao-2/
LOCATION:Hotel Senac Ilha do Boi\, R. Bráulio Macedo\, 417 - Ilha do Boi\, Vitória\, ES\, 29052-640\, Brasil
CATEGORIES:Degustação,ES - Vitória
ATTACH;FMTTYPE=image/jpeg:https://agendadovinho.com.br/wp-content/uploads/2019/09/alentejo_130919.jpg
END:VEVENT
END:VCALENDAR