BEGIN:VCALENDAR
VERSION:2.0
PRODID:-//Agenda do Vinho - ECPv4.9.0//NONSGML v1.0//EN
CALSCALE:GREGORIAN
METHOD:PUBLISH
X-WR-CALNAME:Agenda do Vinho
X-ORIGINAL-URL:https://agendadovinho.com.br
X-WR-CALDESC:Eventos para Agenda do Vinho
BEGIN:VEVENT
DTSTART;TZID=America/Sao_Paulo:20190907T120000
DTEND;TZID=America/Sao_Paulo:20190907T235900
DTSTAMP:20260426T042035
CREATED:20190816T201716Z
LAST-MODIFIED:20190816T201716Z
UID:6906-1567857600-1567900740@agendadovinho.com.br
SUMMARY:WINE - Festival de Vinhos\, Comida e Música
DESCRIPTION:WINE – Festival de vinhos\, comida & boa música\nSábado\, 7 de Setembro de 12h às 00h \n(*) Ingresso dá direito apenas entrada ao evento. Bebidas e comidas são pagas a parte! \n(*) O valor será reajustado para compras no dia do evento. Crianças até 12 anos não precisam de ingresso. Evento sujeito a lotação. \nLocal:\nQUINTAL DO CHALÉ\nAv Mário Werneck\, 530 – Buritis\n(atrás do Chalezinho) \nPara maiores informações: 31 3286-3155 ou zap 31 9484-0021 (Horário de funcionamento: seg a sex de 10h ás 18h.) \n
URL:https://agendadovinho.com.br/event/wine-festival-de-vinhos-comida-e-musica/
LOCATION:Quintal do Chalé\, Av Mário Werneck\, 530\, Belo Horizonte\, MG\, Brasil
CATEGORIES:Degustação,MG - Belo Horizonte
ATTACH;FMTTYPE=image/jpeg:https://agendadovinho.com.br/wp-content/uploads/2019/04/imagem3.jpg
END:VEVENT
BEGIN:VEVENT
DTSTART;TZID=America/Sao_Paulo:20190907T120000
DTEND;TZID=America/Sao_Paulo:20190907T190000
DTSTAMP:20260426T042035
CREATED:20190901T152545Z
LAST-MODIFIED:20190901T152545Z
UID:7654-1567857600-1567882800@agendadovinho.com.br
SUMMARY:1ª Feira de Vinhos da de la Croix
DESCRIPTION:Chegou o grande dia de anunciar a chegada das super novidades em nosso portfólio! \nNo dia 07/09\, venha degustar conosco 32 rótulos de:\nChampagne Jacquesson\nChampagne Larmandier-Bernier\nDomaine Catherine & Pierre Breton\nSebastien Riffault\nDomaine Charles Joguet\nDomaine la Grange Tiphaine\nCamin Larredya\nChateau de Roquefort\nSarnin-Berrux\nDomaine Antoine Lienhardt\nPhilippe Tessier\nDomaine Giachino\nEric Bordelet\nDomaine L’ Oratoire Saint Martin \nIngressos: 50 reais\nQuantidade limitada\nReservas e compras: comercial@delacroixvinhos.com.br \n
URL:https://agendadovinho.com.br/event/1a-feira-de-vinhos-da-de-la-croix/
LOCATION:de la Croix Importation\, Alameda Lorena\, 678 - Casa 1\, Cerqueira César - Jardins\, São Paulo\, SP\, 01424-002
CATEGORIES:Degustação,SP - São Paulo
ATTACH;FMTTYPE=image/jpeg:https://agendadovinho.com.br/wp-content/uploads/2019/09/feira-de-vinhos_070919.jpg
END:VEVENT
BEGIN:VEVENT
DTSTART;TZID=America/Sao_Paulo:20190907T120000
DTEND;TZID=America/Sao_Paulo:20190907T235900
DTSTAMP:20260426T042035
CREATED:20190903T205454Z
LAST-MODIFIED:20190903T205454Z
UID:7717-1567857600-1567900740@agendadovinho.com.br
SUMMARY:Flight de Vinhos Corpo Leve\, Médio e Encorpado
DESCRIPTION:\nAPÓS A COMPRA\, FAVOR ENTRAR EM CONTATO PELO TELEFONE 3227-3009 PARA GARANTIR A RESERVA DA SUA MESA.\n\n\nFlight de Vinhos Corpo Leve\, Médio e Encorpado\n\nÉ a sensação de peso e volume do vinho na boca. Por ser uma percepção tátil\, difícil de ser colocada em palavras\, vamos fazer analogia com o corpo de sucos de frutas\n\n– Uggiano Prestige Chianti\n– Sossego Tinto\n– Dedicato Tannat\n\n\n\nDATAS:  2 A 7 DE SETEMBRO\n\n\nHORÁRIO: SEGUNDA A SÁBADO DAS 12 ÀS 24 HORAS\n\n\nLOCAL: ZAHIL | REX BIBENDI | RUA ANTÔNIO DE ALBUQUERQUE 917 | SAVASSI\n\n
URL:https://agendadovinho.com.br/event/flight-de-vinhos-corpo-leve-medio-e-encorpado/
LOCATION:Rex Bibendi\, Rua Antônio de Albuquerque \, 917\, Savassi\, Belo Horizonte\, MG\, Brasil
CATEGORIES:Degustação,MG - Belo Horizonte
ATTACH;FMTTYPE=image/png:https://agendadovinho.com.br/wp-content/uploads/2019/09/flight-de-vinhos_070919.png
END:VEVENT
BEGIN:VEVENT
DTSTART;TZID=America/Sao_Paulo:20190907T130000
DTEND;TZID=America/Sao_Paulo:20190907T130000
DTSTAMP:20260426T042035
CREATED:20190905T203718Z
LAST-MODIFIED:20190905T203718Z
UID:7844-1567861200-1567861200@agendadovinho.com.br
SUMMARY:Prova gratuita de independência - Vinhos do Brasil
DESCRIPTION:NESSE SÁBADO 07 DE SETEMBRO:⠀\n⠀\n⠀\nPROVA GRATUITA DE VINHOS DA INDEPENDÊNCIA⠀\n⠀\n⠀\nO Brasil tem sustentado uma crescente melhora na qualidade de seus vinhos. Atingindo um sucesso cada vez maior na produção de rótulos que priorizam a qualidade e a elegância\, o país revela uma identidade própria e única em cada variedade elaborada pelas mãos de excelentes produtores. ⠀\nO país tem sido bastante lembrado e comentado quando o assunto envolve vinhos espumantes. O clima tropical quente do Brasil é ideal para o cultivo de uvas ácidas\, que denotam um caráter fresco e aromático para os rótulos que vem agradando os mais exigentes paladares dos especialistas.⠀\n⠀\n⠀\n*Os rótulos serão revelados no dia do evento.⠀\n⠀\nVinhos da prova com 15% de desconto.⠀\n⠀\nVocê não pode perder essa experiência\, venha para a Serrado Vinhos!⠀ \n
URL:https://agendadovinho.com.br/event/prova-gratuita-de-independencia-vinhos-do-brasil/
LOCATION:Serrado Vinhos\, Av. Maracanã\, 727\, loja 26 - Tijuca\, Rio de Janeiro\, RJ\, Brasil
CATEGORIES:Degustação,RJ - Rio de Janeiro
ATTACH;FMTTYPE=image/jpeg:https://agendadovinho.com.br/wp-content/uploads/2019/09/vinhos-do-brasil_070919.jpg
END:VEVENT
BEGIN:VEVENT
DTSTART;TZID=America/Sao_Paulo:20190907T140000
DTEND;TZID=America/Sao_Paulo:20190907T230000
DTSTAMP:20260426T042035
CREATED:20190816T203244Z
LAST-MODIFIED:20190816T203244Z
UID:6912-1567864800-1567897200@agendadovinho.com.br
SUMMARY:FEIRA VINHO NO PORTO - WINE IN BÚZIOS DIA 7
DESCRIPTION:ENTRADA FRANCA. Taças no local a R$ 30 (com 1a dose de 120ml do vinho da vez). Venda antecipada aqui no site por R$ 25 (com 1a dose de 120ml do vinho da vez) \nVINHO NO PORTO – FEIRA DE VINHOS DO MUNDO NO PORTO DA BARRA – WINE IN BÚZIOS \nUma grande feira de vinhos ao ar livre em um dos points mais charmosos de Búzios – O Porto da Barra \nVocê poderá degustar os vinhos de todo o mundo\, diretamente de produtores\, importadores e distribuidores. Os vinhos poderão ser adquiridos em doses de 120ml\, garrafas ou mesmo caixas a preços especiais. \nNa chegada você poderá comprar as já famosas e concorridas taças coloridas e exclusivas de 570ml\, sendo sua venda no local a R$ 30\,00 já com a 1a dose (120ml) do vinho da vez. Aqui pelo site antecipado a taça+1a dose sai a R$ 25 \nAcompanhe nas redes sociais e site de venda a promoção com compra antecipada. \nAs comidinhas e petiscos estarão disponíveis nos restaurantes e nas barracas montadas para o evento. \nCada expositor tem sua própria política de preços\, com vinhos a partir de R$ 15 a taça. \nLOCAL: http://portodabarrabuzios.com.br/ \n
URL:https://agendadovinho.com.br/event/feira-vinho-no-porto-wine-in-buzios-dia-7/
LOCATION:Porto da Barra\, Av. José Bento Ribeiro Dantas\, 2900 - Manguinhos\, Búzios\, RJ\, 28950-000\, Brasil
CATEGORIES:Degustação,RJ - Demais cidades
ATTACH;FMTTYPE=image/jpeg:https://agendadovinho.com.br/wp-content/uploads/2019/08/feira-vinho-no-porto_070919.jpg
END:VEVENT
BEGIN:VEVENT
DTSTART;TZID=America/Sao_Paulo:20190907T160000
DTEND;TZID=America/Sao_Paulo:20190907T200000
DTSTAMP:20260426T042035
CREATED:20190902T181116Z
LAST-MODIFIED:20190902T181116Z
UID:7679-1567872000-1567886400@agendadovinho.com.br
SUMMARY:Feira de Vinho
DESCRIPTION:Já está chegando o grande dia!! Já garantiu o seu ingresso!?? \n11-3567-6692 | 11-96595-9725 \n
URL:https://agendadovinho.com.br/event/feira-de-vinho/
LOCATION:Empório Grand Chef\, Av. Mascote\, 1274 - Vila Mascote\, São Paulo\, SP\, 04363-001\, Brasil
CATEGORIES:Degustação,SP - São Paulo
ATTACH;FMTTYPE=image/jpeg:https://agendadovinho.com.br/wp-content/uploads/2019/09/feira-de-vinho_070919.jpg
END:VEVENT
BEGIN:VEVENT
DTSTART;TZID=America/Sao_Paulo:20190907T190000
DTEND;TZID=America/Sao_Paulo:20190907T190000
DTSTAMP:20260426T042035
CREATED:20190816T204957Z
LAST-MODIFIED:20190816T204957Z
UID:6935-1567882800-1567882800@agendadovinho.com.br
SUMMARY:Degustação de vinhos argentinos às cegas
DESCRIPTION:Na degustação de olhos vendados se presta mais atenção aos sentidos tornando a experiencia ainda mais rica\, divertida e única. \nA viticultura na Argentina acontece aos pés dos Andes e\, mais notoriamente\, em Mendoza\, onde paisagens desérticas e grandes altitudes combinam entre si para formar um terroir que dá origem a vinhos tintos aromáticos e intensamente saborosos. \nOs vinhedos em Mendoza alcançam uma altitude de até 5000 pés (1500 m) acima do nível do mar. Aqui\, o aumento dos níveis de radiação solar e a alta variação diurna da temperatura contribuem para um longo e lento período de maturação\, levando a açúcares e acidez equilibrados nas uvas. \nAlém do Malbec\, há plantações significativas de Cabernet Sauvignon\, Chardonnay e Bonarda que serão degustados no evento. \nIncluso : 04 taças de vinho \nMesa de antepastos e queijos \nBebidas não alcóolicas \n
URL:https://agendadovinho.com.br/event/degustacao-de-vinhos-argentinos-as-cegas/
LOCATION:Rua Zacarias de Góis\, 728\, Rua Zacarias de Góis\, 728\, São Paulo\, SP\, Brasil
CATEGORIES:Degustação,SP - São Paulo
ATTACH;FMTTYPE=image/jpeg:https://agendadovinho.com.br/wp-content/uploads/2019/04/imagem4.jpg
END:VEVENT
BEGIN:VEVENT
DTSTART;TZID=America/Sao_Paulo:20190907T190000
DTEND;TZID=America/Sao_Paulo:20190907T203000
DTSTAMP:20260426T042035
CREATED:20190903T205359Z
LAST-MODIFIED:20190903T205359Z
UID:7716-1567882800-1567888200@agendadovinho.com.br
SUMMARY:TOUR PELO MUNDO DOS VINHOS: DEGUSTAÇÃO SURPRESA
DESCRIPTION:\nA Tour de vinhos preferida de vocês está com uma nova parada: uma degustação surpresa!\nIsso mesmo\, os vinhos poderão ser de qualquer país e região\, um misto de mistério e diversão.\nEstão preparados para mais uma viagem espetacular e surpreendente?!\nE\, para tornar nossa noite ainda mais gostosa\, além de degustar 4 rótulos\, teremos como aperitivos deliciosas bruschettas italianas.\nVenha se surpreender\,  e claro\, se divertir!\n\n\nAqui no Empório Liberdade queremos te libertar para o incrível mundo dos vinhos a cada evento!\n\n– Turma 1\, no dia 06 de Agosto\, sexta-feira: 19:00-20:30\n– Turma 2\, no dia 07 de Agosto\, sábado: 19:00-20:30\n
URL:https://agendadovinho.com.br/event/tour-pelo-mundo-dos-vinhos-degustacao-surpresa-4/
LOCATION:Empório Liberdade\, Rua Castro\, 888\, Água Verde\, Curitiba\, PR\, Brasil
CATEGORIES:Degustação,PR - Curitiba
ATTACH;FMTTYPE=image/jpeg:https://agendadovinho.com.br/wp-content/uploads/2019/09/tour-pelo-mundo-dos-vinhos_060919.jpg
END:VEVENT
BEGIN:VEVENT
DTSTART;TZID=America/Sao_Paulo:20190907T200000
DTEND;TZID=America/Sao_Paulo:20190907T235900
DTSTAMP:20260426T042035
CREATED:20190427T021706Z
LAST-MODIFIED:20190531T180925Z
UID:2686-1567886400-1567900740@agendadovinho.com.br
SUMMARY:Festival do Moscatel 2019 - 9ª Edição
DESCRIPTION:O objetivo do Festival do Moscatel é promover a Capital Nacional do Moscatel – título concedido a Farroupilha em Lei sancionada pelo Presidente da República em janeiro desse ano – e as particularidades que embasam essa conquista\, como o posto ocupado por Farroupilha\, de maior produtor brasileiro de uvas da variedade moscato\, utilizadas na elaboração de vinhos finos e espumantes\, e a Indicação Geográfica\, na modalidade Indicação de Procedência\, com foco nas bebidas elaborados com uvas moscatéis. Para o presidente da Afavin\, João Carlos Taffarel\, o evento fortalece o setor vitivinícola local ao aproximar os produtos farroupilhenses dos consumidores. “No Festival do Moscatel as vinícolas apresentam o que têm de melhor aos visitantes\, cativando quem já conhece seus produtos e conquistando novos apreciadores\, que procuram os rótulos das empresas após cada edição”\, salienta. Na Carta de Vinhos do Festival do Moscatel constam cerca de 40 rótulos entre espumantes moscatel\, frisantes moscatel\, vinhos moscato\, espumantes brut\, vinhos finos (tintos e brancos)\, sucos de uva (tintos e brancos) e água. As bebidas são servidas pelas empresas associadas à Afavin: Adega Chesini\, Basso Vinhos e Espumantes (Monte Paschoal)\, Casa Perini\, Cave Antiga Vitivinícola\, Cooperativa Vinícola São João (Vinhos Castellamare)\, Vinhos Cappelletti\, Vinícola Colombo e Vinícola Tonini. \nA realização do evento\, que na última edição recebeu público de seis estados e 70 cidades\, projeta Farroupilha turisticamente. “O Festival do Moscatel é o principal evento turístico de Farroupilha. A sua realização impulsiona a cadeia turística local e faz com que o município se firme como um dos importantes destinos da Serra Gaúcha. Apenas para citar um exemplo do impacto positivo do evento para o município\, nossos hotéis recebem\, meses antes do lançamento do evento\, reservas para setembro e chegamos a atingir ocupação máxima nesse período”\, enfatiza o Secretário Municipal de Turismo e Cultura Francis Casali. A diretora executiva do Sindicato Empresarial da Gastronomia e Hotelaria Região Uva e Vinho(Segh)\, Márcia Ferronato\, também destaca a importância do Festival do Moscatel no âmbito turístico. “A cada ano\, o Festival do Moscatel surpreende o visitante pelo acolhimento e pelos excelentes produtos\, ofertando uma experiência sensorial\, se consolidando como um dos grandes eventos da região\, constando no calendário gaúcho\, impactando na taxa de ocupação hoteleira e na valorização da gastronomia e vinhos de Farroupilha”\, ressalta. \nO cardápio da edição\, elaborado pela cheff Janete Canello com execução da equipe Dirceu Dalla Riva\, é composto por: Aperitivos: Salame\, Copa\, Pães\, Queijos de moscatel\, colonial\, parmesão e gruyère\, Pasta de berinjelas com ervas finas\, Geléia de uva\, Uva de mesa. Entradas: Salada colorida\, com alface verde\, tomate seco\, palmito\, azeitona preta e lascas de parmesão; Maionese Vegana\, com batata\, maçã\, temperos e maionese de castanhas\, azeite de oliva\, alho e mostarda; Quinoa em grãos com cubinhos de cebolas tostadas\, tomate\, pimentões\, uvas passas e amêndoas laminadas; Salada mix com brotos de alfafa\, salsinha\, abobrinha\, tomate cereja\, cenoura e pimentão amarelo. Pratos Principais: Costelinha suína ao molho barbacue\, Filé de frango ao molho caprese\, Medalhões de filé mignon ao molho de cogumelo fresco. Acompanhamentos: Mac and cheese com cheddar\, Penne tricolor ao molho italiano\, Arroz com espumante\, uvas passas e mix de nozes e castanha de caju\, Risoto de tomate seco e alcachofra\, Escondidinho de aipim com carne seca. Sobremesas: Cassata de leite condensado e coco com farofinha de nozes\, Chantilly com morangos picados e merenguinhos\, Taças de ganache com bombons picados\, Pirâmide de Brownie\, Cheesecake desconstruído\, Tiramissu\, Trufa. \n
URL:https://agendadovinho.com.br/event/festival-do-moscatel-2019-9a-edicao-3/
LOCATION:Centro Municipal de Eventos Mário Bianchi\, Avenida Prefeito Arno Domingos Busetti\, 348\, Cinquentenário\, Farroupilha\, RS\, Brasil
CATEGORIES:Degustação,RS - Demais cidades
ATTACH;FMTTYPE=image/jpeg:https://agendadovinho.com.br/wp-content/uploads/2019/04/moscatel_310819.jpg
END:VEVENT
END:VCALENDAR