BEGIN:VCALENDAR
VERSION:2.0
PRODID:-//Agenda do Vinho - ECPv4.9.0//NONSGML v1.0//EN
CALSCALE:GREGORIAN
METHOD:PUBLISH
X-WR-CALNAME:Agenda do Vinho
X-ORIGINAL-URL:https://agendadovinho.com.br
X-WR-CALDESC:Eventos para Agenda do Vinho
BEGIN:VEVENT
DTSTART;TZID=America/Sao_Paulo:20190903T193000
DTEND;TZID=America/Sao_Paulo:20190903T213000
DTSTAMP:20260426T042140
CREATED:20190827T192139Z
LAST-MODIFIED:20190827T192139Z
UID:7467-1567539000-1567546200@agendadovinho.com.br
SUMMARY:Degustação Alentejo
DESCRIPTION:Venha conhecer mais sobre o Alentejo e seus vinhos na próxima degustação da Zahil que receberá Jean Stelmach\, vitorioso do concurso Melhor Sommelier do Alentejo no Brasil 2019 dentre mais de 120 sommeliers de todo o país\, prova oficial promovida pela Comissão Vitivinícola Regional Alentejana (CVRA).\n⠀\nData: 03 de setembro de 2019\, terça-feira\nHorário: 19h30 às 21h30\nShowroom Zahil\nRua Bandeira Paulista\, 726 – Itaim Bibi\n⠀\nValor: R$ 100\,00 por pessoa (revertido em compra de vinhos no dia)\nVagas limitadas\nConfirmações com Andrea di Russo\, (11) 3071-2900 ou andrea@zahil.com.br \n
URL:https://agendadovinho.com.br/event/degustacao-alentejo/
LOCATION:Showroom Zahil\, R. Bandeira Paulista\, 726 - Itaim Bibi\, São Paulo\, SP\, 04532-001\, Brasil
CATEGORIES:Degustação,SP - São Paulo
ATTACH;FMTTYPE=image/jpeg:https://agendadovinho.com.br/wp-content/uploads/2019/08/alentejo_030919.jpg
END:VEVENT
BEGIN:VEVENT
DTSTART;TZID=America/Sao_Paulo:20190903T200000
DTEND;TZID=America/Sao_Paulo:20190903T223000
DTSTAMP:20260426T042140
CREATED:20190827T184351Z
LAST-MODIFIED:20190827T184351Z
UID:7450-1567540800-1567549800@agendadovinho.com.br
SUMMARY:Vinho Verde com Rui Miranda
DESCRIPTION:Um festival do vinho verde \nVamos conhecer mais sobre os vinhos verdes de Portugal e para essa noite traremos Rui Miranda\, diretor de exportação da vinícola portuguesa Vila Nova – para explicar e guiar nossa degustação de vinhos verdes. Degustaremos 6 rótulos\, de diferentes uvas\, diferentes micro-regiões\, e ainda acompanhando alguns petiscos feitos especialmente para o evento. Confira abaixo a lista de vinhos e as comidinhas que iremos servir\, e corre para garantir teu ingresso\, por que o número de participantes é limitado para 20 pessoas somente. \nVinhos para nossa noite: \n\nVila Nova Verde Branco\nVila Nova Verde Rosé\nVila Nova Loureiro\nVila Nova Alvarinho\nLevit Rosé\nLevit Branco\n\nComidas para acompanhamento dos vinhos: \n\nTábua de Queijos\nPães\nPastas\nCastanhas\nCeviche de peixe branco\n\nData: 03/09/2019\nHorário: 20h\nLocal: Barra Shipping Sul\, Champanharia Natalício – Av Diário de notícias\, 300 – Porto Alegre\nValor: R$ 90\,00\nInclui: Comidas e vinhos citados \n
URL:https://agendadovinho.com.br/event/vinho-verde-com-rui-miranda/
LOCATION:Champanharia Natalicio BarraShoppingSul\, Avenida Diário de Notícias\, 300\, Cristal\, Porto Alegre\, RS\, 90810-080\, Brasil
CATEGORIES:Degustação,RS - Porto Alegre
ATTACH;FMTTYPE=image/png:https://agendadovinho.com.br/wp-content/uploads/2019/08/vinho-verde_030919.png
END:VEVENT
END:VCALENDAR