BEGIN:VCALENDAR
VERSION:2.0
PRODID:-//Agenda do Vinho - ECPv4.9.0//NONSGML v1.0//EN
CALSCALE:GREGORIAN
METHOD:PUBLISH
X-WR-CALNAME:Agenda do Vinho
X-ORIGINAL-URL:https://agendadovinho.com.br
X-WR-CALDESC:Eventos para Agenda do Vinho
BEGIN:VEVENT
DTSTART;TZID=America/Sao_Paulo:20190831T110000
DTEND;TZID=America/Sao_Paulo:20190831T140000
DTSTAMP:20260426T041940
CREATED:20190823T194935Z
LAST-MODIFIED:20190823T194935Z
UID:7290-1567249200-1567260000@agendadovinho.com.br
SUMMARY:Wine Tasting
DESCRIPTION:Vamos saborear vinhos e celebrar a vida? 🍷No dia 31\, sábado\, teremos nossa tradicional degustação de vinhos. Chame os amigos! . \nSão poucas vagas! Reserve a sua o quanto antes. \nDúvidas? Comente\, envie inbox ou ligue (61) 3349-1943. \nÉ com enorme prazer que realizamos esses eventos. Esperamos você! \n
URL:https://agendadovinho.com.br/event/wine-tasting/
LOCATION:Decanter Brasília\, Asa Sul CLS 103 loja 36 - Asa Sul\, Brasília\, DF\, 70342-520\, Brasil
CATEGORIES:Degustação,DF - Brasília
ATTACH;FMTTYPE=image/jpeg:https://agendadovinho.com.br/wp-content/uploads/2019/08/wine-tasting_310819.jpg
END:VEVENT
BEGIN:VEVENT
DTSTART;TZID=America/Sao_Paulo:20190831T110000
DTEND;TZID=America/Sao_Paulo:20190831T133000
DTSTAMP:20260426T041940
CREATED:20190829T182640Z
LAST-MODIFIED:20190829T182640Z
UID:7573-1567249200-1567258200@agendadovinho.com.br
SUMMARY:Degustação de vinhos
DESCRIPTION:🍷 Amantes de vinho -> 😍 SÁBADO 31/08 venha para a Degustação Gratuita de Vinhos!\n⠀\n🍇 Venha experimentar os vinhos das vinícolas Amalaya e Colomé. Você vai se encantar com os rótulos que selecionamos. 🍷\n⠀\n🍷 E tem + 15% de DESCONTO nos rótulos da degustação.\n⠀\n☎ Fone: (16) 3442-5474\n📍 Rua Galileu Galilei\, 1730 – Jardim Canadá | Ribeirão Preto – SP \n
URL:https://agendadovinho.com.br/event/degustacao-de-vinhos-12/
LOCATION:Decanter Ribeirão\, R. Galileu Galilei\, 1730 - Jardim Itamaraty\, Ribeirão Preto\, SP\, 14020-620\, Brasil
CATEGORIES:Degustação,SP - Demais cidades
ATTACH;FMTTYPE=image/jpeg:https://agendadovinho.com.br/wp-content/uploads/2019/08/degustacao-de-vinhos_310819.jpg
END:VEVENT
BEGIN:VEVENT
DTSTART;TZID=America/Sao_Paulo:20190831T120000
DTEND;TZID=America/Sao_Paulo:20190831T120000
DTSTAMP:20260426T041940
CREATED:20190827T184156Z
LAST-MODIFIED:20190827T184156Z
UID:7449-1567252800-1567252800@agendadovinho.com.br
SUMMARY:Flight de Vinhos Cabernets do Chile
DESCRIPTION:\nAPÓS A COMPRA\, FAVOR ENTRAR EM CONTATO PELO TELEFONE 3227-3009 PARA GARANTIR A RESERVA DA SUA MESA.\n\n\nFlight de Vinhos Cabernets do Chile\n\n– Aquitania Reserva Cabernet Sauvignon\n– Grande Réserve Cabernet Sauvignon\n– Alba de Domus\n\n\n\nDATAS:  26 A 31 DE AGOSTO\n\n\nHORÁRIO: SEGUNDA A SÁBADO DAS 12 ÀS 24 HORAS\n\n\nLOCAL: ZAHIL | REX BIBENDI | RUA ANTÔNIO DE ALBUQUERQUE 917 | SAVASSI\n\n
URL:https://agendadovinho.com.br/event/flight-de-vinhos-cabernets-do-chile/
LOCATION:Rex Bibendi\, Rua Antônio de Albuquerque \, 917\, Savassi\, Belo Horizonte\, MG\, Brasil
CATEGORIES:Degustação,MG - Belo Horizonte
ATTACH;FMTTYPE=image/png:https://agendadovinho.com.br/wp-content/uploads/2019/08/flight-de-vinhos_310819.png
END:VEVENT
BEGIN:VEVENT
DTSTART;TZID=America/Sao_Paulo:20190831T140000
DTEND;TZID=America/Sao_Paulo:20190831T190000
DTSTAMP:20260426T041940
CREATED:20190824T190249Z
LAST-MODIFIED:20190824T190249Z
UID:7326-1567260000-1567278000@agendadovinho.com.br
SUMMARY:Feira de Vinhos
DESCRIPTION:Venha degustar rótulos especiais de Vinhos Importados e Nacionais\, como os da vincula Aurora. \n– Entrada para maiores de 18 anos. \n– Se beber\, não dirija. \n
URL:https://agendadovinho.com.br/event/feira-de-vinhos-3/
LOCATION:Pão de Açúcar Adega\, Rua Augusta\, 2710\, São Paulo\, SP\, Brasil
CATEGORIES:Degustação,SP - São Paulo
ATTACH;FMTTYPE=image/jpeg:https://agendadovinho.com.br/wp-content/uploads/2019/04/pao-de-acucar-adega-e1556067472626.jpg
END:VEVENT
BEGIN:VEVENT
DTSTART;TZID=America/Sao_Paulo:20190831T160000
DTEND;TZID=America/Sao_Paulo:20190831T200000
DTSTAMP:20260426T041940
CREATED:20190802T213018Z
LAST-MODIFIED:20190802T213018Z
UID:6372-1567267200-1567281600@agendadovinho.com.br
SUMMARY:2º Festival de Vinhos Bangu Shopping
DESCRIPTION:2ª Edição do festival de Vinhos do Bangu Shopping \nENTRADA FRANCA \nMais de 50 rótulos com preços promocionais \nOrganização Wine Out Distribuidora \n
URL:https://agendadovinho.com.br/event/2o-festival-de-vinhos-bangu-shopping-3/
LOCATION:Bangu Shopping\, Rua Fonseca\, 240 - Bangu\, Rio de Janeiro\, RJ\, 21820-005\, Brasil
CATEGORIES:Degustação,RJ - Rio de Janeiro
ATTACH;FMTTYPE=image/jpeg:https://agendadovinho.com.br/wp-content/uploads/2019/04/imagem3.jpg
END:VEVENT
BEGIN:VEVENT
DTSTART;TZID=America/Sao_Paulo:20190831T173000
DTEND;TZID=America/Sao_Paulo:20190831T173000
DTSTAMP:20260426T041940
CREATED:20190823T192714Z
LAST-MODIFIED:20190823T192714Z
UID:7279-1567272600-1567272600@agendadovinho.com.br
SUMMARY:Degustando às cegas - Argentina\, Brasil\, Chile e Uruguai
DESCRIPTION:Fernando Lima “Degustando às cegas”\nArgentina\, Brasil\, Chile e Uruguai \nPalestra ministrada por Fernando Lima\, engenheiro químico\, especialista em vinhos com pós graduação em Wine Business pela FGV-RJ.\nCertificação WSET 2 pela Wine & Spirits Education Trust\, editor do Blog Vinhos com Fernando Lima e atualmente diretor da ABS – RJ(Associação Brasileira de Sommeliers) • Chandon Excellence Rosé • Pizzato Legno Chardonnay • Trapiche Malbec Single Vineyard Ambrosia\n• Pizzato DNA 99 Merlot Single Vineyard\n• Viña Arquitania Lazuli Cabernet Sauvignon • Garzón Single Vineyard Tannat\nData: 31 de agosto às 17:30 h\nLocal: PEPS – Parque Estadual da Pedra Selada na Vila de Mauá\nCusto: R$ 95\,00\nSócios da ABS e associados da Mauatur tem desconto de 10%\nMais informações (24) 3387- 1253\nvisiteviscondedemaua.com.br \n
URL:https://agendadovinho.com.br/event/degustando-as-cegas-argentina-brasil-chile-e-uruguai/
LOCATION:Parque Estadual da Pedra Selada\, Resende\, RJ\, Brasil
CATEGORIES:Degustação,RJ - Demais cidades
ATTACH;FMTTYPE=image/jpeg:https://agendadovinho.com.br/wp-content/uploads/2019/08/degustando-as-cegas_310819.jpg
END:VEVENT
BEGIN:VEVENT
DTSTART;TZID=America/Sao_Paulo:20190831T180000
DTEND;TZID=America/Sao_Paulo:20190831T220000
DTSTAMP:20260426T041940
CREATED:20190828T202404Z
LAST-MODIFIED:20190828T202404Z
UID:7503-1567274400-1567288800@agendadovinho.com.br
SUMMARY:São Gonçalo Shopping recebe 1º Festival de Vinhos e Queijos da região com rótulos nacionais e internacionais
DESCRIPTION:Com o objetivo de valorizar o melhor do vinho em suas mais diversas expressões\, o São Gonçalo Shopping vai receber\, nos dias 31/8 e 1/9\, a primeira edição do Festival de Vinhos e Queijos com entrada gratuita. Além de reunir mais de 50 rótulos diferentes\, entre brancos\, tintos e rosés\, o evento contará com atrações musicais e workshop gratuitos. O festival acontecerá no 1º piso\, em frente à loja From. \nNa área de convivência gourmet\, alguns estandes estarão a postos oferecendo queijos artesanais e temperados\, diversos embutidos\, antepastos\, pães e outros produtos saborosos ideais para harmonizar com os vinhos. \nA trilha sonora do festival promete conferir uma atmosfera envolvente e animada na medida certa para toda a família. No sábado\, a apresentação terá início às 20h com o melhor do jazz. Já no domingo\, o show começará às 19h com muito soul e blues de raiz\, com releitura de compositores que fizeram história. \nO Festival ainda vai contar com bate-papo gratuito com a participação de um especialista do SENAC. Os visitantes terão aulas de harmonização e conceitos básicos sobre a bebida. O workshop acontecerá às 19h\, e para participar\, basta se inscrever no próprio local. O sommelier vai apresentar os diversos tipos de vinhos em clima informal e descontraído\, além de dicas de harmonização e as diferenças entre uvas e safras. \nServiço: 1º Festival de Vinhos e Queijos no São Gonçalo Shopping \nData: 31/8 e 01/9 (sábado e domingo) \nHorário: A partir das 18h \nLocal: 1º andar (em frente à loja From) \nVisitação gratuita \n
URL:https://agendadovinho.com.br/event/sao-goncalo-shopping-recebe-1o-festival-de-vinhos-e-queijos-da-regiao-com-rotulos-nacionais-e-internacionais/
LOCATION:São Gonçalo Shopping\, Av. São Gonçalo\, 100 - Boa Vista\, São Gonçalo\, RJ\, Brasil
CATEGORIES:Degustação,RJ - Demais cidades
ATTACH;FMTTYPE=image/jpeg:https://agendadovinho.com.br/wp-content/uploads/2019/08/Evento_Vinhos.jpg
END:VEVENT
BEGIN:VEVENT
DTSTART;TZID=America/Sao_Paulo:20190831T190000
DTEND;TZID=America/Sao_Paulo:20190831T230000
DTSTAMP:20260426T041940
CREATED:20190607T174439Z
LAST-MODIFIED:20190607T174439Z
UID:4746-1567278000-1567292400@agendadovinho.com.br
SUMMARY:15º Festival de Vinho
DESCRIPTION:Idealizado pelo casal Sila e Diógenes Antunes\, o Festival do Vinho vem apresentando desde 2005 o que há de melhor no segmento\, para o público do Vale do Paraíba. Sempre com a proposta de ser um evento beneficente\, distribuiu nas últimas quatro edições mais de R$ 100.000\,00 para entidades sociais e filantropicas de Sao José dos Campos. \nEm 2019 sob realização do IDEJ – Instituto para o Desenvolvimento do Empreendedorismo Joseense\, na sua 15ª edição o Festival de Vinho contará com a participação de 40 expositores entre renomados produtores de vinho e fabricantes de queijos\, geleias\, pimentas e antepastos. \nSerão oferecidos para degustação vinhos dos principais países produtores. \nA previsão para esse ano é receber 600 convidados. Todos os participantes receberão uma taça personalizada e um porta-taça e terão a oportunidade de degustar todos os produtos expostos. \nToda a renda obtida será destinada igualmente à APAE de São José dos Campos\, Projetos Sociais do Idej – Instituto do Desenvolvimento do Empreendedorismo Joseense e Holística Humanitária. \nO evento será nos dias 30 e 31 de agosto das 19 às 23 horas no Hotel Aquarius do Vale\, situado na Rua Juiz David Barrilli\, 376\, no Jardim Aquarius\, em São José dos Campos. O ingresso custa R$ 75\,00 + 7\,50 (Taxa Sympla) com um bônus de R$ 15\,00 para compra de produtos expostos. \nApoio das empresas : Sicredi \,Valecell \, Inspire Construções\, PSMaxx\, Geração Imóveis \, Grupo Coneleste \,Lojas Teddy \, EM Seguros \, Aquarius Life \nRealização:  \nIDEJ – Instituto para o Desenvolvimento do Empreendedorismo Joseense. \nOrganização: \nAnima Soluções Criativas \nDúvidas e contato: \nPor Whatsapp ✆ 12 99116-9617 \n
URL:https://agendadovinho.com.br/event/15o-festival-de-vinho-2/
LOCATION:Hotel Aquarius do Vale\, Rua Juiz David Barrilli\, 376\, Jardim Aquarius\, São José dos Campos\, SP\, Brasil
CATEGORIES:Degustação,SP - Demais cidades
ATTACH;FMTTYPE=image/jpeg:https://agendadovinho.com.br/wp-content/uploads/2019/06/festival-do-vinho_300819.jpg
END:VEVENT
BEGIN:VEVENT
DTSTART;TZID=America/Sao_Paulo:20190831T200000
DTEND;TZID=America/Sao_Paulo:20190831T235900
DTSTAMP:20260426T041940
CREATED:20190427T020911Z
LAST-MODIFIED:20190531T181040Z
UID:2681-1567281600-1567295940@agendadovinho.com.br
SUMMARY:Festival do Moscatel 2019 - 9ª Edição
DESCRIPTION:O objetivo do Festival do Moscatel é promover a Capital Nacional do Moscatel – título concedido a Farroupilha em Lei sancionada pelo Presidente da República em janeiro desse ano – e as particularidades que embasam essa conquista\, como o posto ocupado por Farroupilha\, de maior produtor brasileiro de uvas da variedade moscato\, utilizadas na elaboração de vinhos finos e espumantes\, e a Indicação Geográfica\, na modalidade Indicação de Procedência\, com foco nas bebidas elaborados com uvas moscatéis. Para o presidente da Afavin\, João Carlos Taffarel\, o evento fortalece o setor vitivinícola local ao aproximar os produtos farroupilhenses dos consumidores. “No Festival do Moscatel as vinícolas apresentam o que têm de melhor aos visitantes\, cativando quem já conhece seus produtos e conquistando novos apreciadores\, que procuram os rótulos das empresas após cada edição”\, salienta. Na Carta de Vinhos do Festival do Moscatel constam cerca de 40 rótulos entre espumantes moscatel\, frisantes moscatel\, vinhos moscato\, espumantes brut\, vinhos finos (tintos e brancos)\, sucos de uva (tintos e brancos) e água. As bebidas são servidas pelas empresas associadas à Afavin: Adega Chesini\, Basso Vinhos e Espumantes (Monte Paschoal)\, Casa Perini\, Cave Antiga Vitivinícola\, Cooperativa Vinícola São João (Vinhos Castellamare)\, Vinhos Cappelletti\, Vinícola Colombo e Vinícola Tonini. \nA realização do evento\, que na última edição recebeu público de seis estados e 70 cidades\, projeta Farroupilha turisticamente. “O Festival do Moscatel é o principal evento turístico de Farroupilha. A sua realização impulsiona a cadeia turística local e faz com que o município se firme como um dos importantes destinos da Serra Gaúcha. Apenas para citar um exemplo do impacto positivo do evento para o município\, nossos hotéis recebem\, meses antes do lançamento do evento\, reservas para setembro e chegamos a atingir ocupação máxima nesse período”\, enfatiza o Secretário Municipal de Turismo e Cultura Francis Casali. A diretora executiva do Sindicato Empresarial da Gastronomia e Hotelaria Região Uva e Vinho(Segh)\, Márcia Ferronato\, também destaca a importância do Festival do Moscatel no âmbito turístico. “A cada ano\, o Festival do Moscatel surpreende o visitante pelo acolhimento e pelos excelentes produtos\, ofertando uma experiência sensorial\, se consolidando como um dos grandes eventos da região\, constando no calendário gaúcho\, impactando na taxa de ocupação hoteleira e na valorização da gastronomia e vinhos de Farroupilha”\, ressalta. \nO cardápio da edição\, elaborado pela cheff Janete Canello com execução da equipe Dirceu Dalla Riva\, é composto por: Aperitivos: Salame\, Copa\, Pães\, Queijos de moscatel\, colonial\, parmesão e gruyère\, Pasta de berinjelas com ervas finas\, Geléia de uva\, Uva de mesa. Entradas: Salada colorida\, com alface verde\, tomate seco\, palmito\, azeitona preta e lascas de parmesão; Maionese Vegana\, com batata\, maçã\, temperos e maionese de castanhas\, azeite de oliva\, alho e mostarda; Quinoa em grãos com cubinhos de cebolas tostadas\, tomate\, pimentões\, uvas passas e amêndoas laminadas; Salada mix com brotos de alfafa\, salsinha\, abobrinha\, tomate cereja\, cenoura e pimentão amarelo. Pratos Principais: Costelinha suína ao molho barbacue\, Filé de frango ao molho caprese\, Medalhões de filé mignon ao molho de cogumelo fresco. Acompanhamentos: Mac and cheese com cheddar\, Penne tricolor ao molho italiano\, Arroz com espumante\, uvas passas e mix de nozes e castanha de caju\, Risoto de tomate seco e alcachofra\, Escondidinho de aipim com carne seca. Sobremesas: Cassata de leite condensado e coco com farofinha de nozes\, Chantilly com morangos picados e merenguinhos\, Taças de ganache com bombons picados\, Pirâmide de Brownie\, Cheesecake desconstruído\, Tiramissu\, Trufa. \n
URL:https://agendadovinho.com.br/event/festival-do-moscatel-2019-9a-edicao/
LOCATION:Centro Municipal de Eventos Mário Bianchi\, Avenida Prefeito Arno Domingos Busetti\, 348\, Cinquentenário\, Farroupilha\, RS\, Brasil
CATEGORIES:Degustação,RS - Demais cidades
ATTACH;FMTTYPE=image/jpeg:https://agendadovinho.com.br/wp-content/uploads/2019/04/moscatel_310819.jpg
END:VEVENT
BEGIN:VEVENT
DTSTART;TZID=America/Sao_Paulo:20190831T200000
DTEND;TZID=America/Sao_Paulo:20190831T223000
DTSTAMP:20260426T041940
CREATED:20190727T160622Z
LAST-MODIFIED:20190727T160622Z
UID:6083-1567281600-1567290600@agendadovinho.com.br
SUMMARY:Cordeiro & Vinho
DESCRIPTION:Evento com Degustação Orientada de 4 vinhos diferentes e harmonização com cordeiro. Serão degustados vinhos da Argentina\, Chile\, Uruguai e Brasil. Os vinhos são degustados as cegas e ao final é escolhido aquele que melhor harmoniza com as diferentes preparações do cordeiro. Todo o evento segue uma metodologia em que são apresentados os diferentes “terroirs” de cada país\, assim como as características dos vinhos lá produzidos. Todo o material apresentado é disponibilizado aos participantes através de arquivo eletrônico. \n
URL:https://agendadovinho.com.br/event/cordeiro-vinho-2/
LOCATION:La Bodeguita Experience\, Av. São Miguel\, 1151 - Centro\, Dois Irmãos - RS\, Dois Irmãos\, RS\, 93950-000\, Brasil
CATEGORIES:Degustação,RS - Demais cidades
ATTACH;FMTTYPE=image/jpeg:https://agendadovinho.com.br/wp-content/uploads/2019/07/cordeiro-e-vinho_310819.jpg
END:VEVENT
BEGIN:VEVENT
DTSTART;TZID=America/Sao_Paulo:20190831T200000
DTEND;TZID=America/Sao_Paulo:20190831T230000
DTSTAMP:20260426T041940
CREATED:20190812T145101Z
LAST-MODIFIED:20190812T145101Z
UID:6740-1567281600-1567292400@agendadovinho.com.br
SUMMARY:Masterclass - ÁUSTRIA
DESCRIPTION:Degustação de vinhos austríacos (Sábado 31/08) \nVenha ter uma experiência diferente com os vinhos austríacos harmonizados com iguarias típicas. 4 rótulos exclusivos a partir da principal uva do país\, Grüner Veltliner e 2 rótulos de diferentes uvas. \n*Espumante Schulumberger (Grüner Veltliner) 2018 \n*Vinho Branco Hieldler (Grüner Veltliner) 2017 \n*Vinho Branco Wilhelm Brundlmayer (Grüner Veltliner) 2016 \n*Vinho Branco Payr (Grüner Vetliner) 2017 \n*Vinho Tinto Una (Blaufrankish) 2017 \n*Vinho Branco Una (Riesling) 2018 \nPara mais informações: \n(11) 99420-3234 \n
URL:https://agendadovinho.com.br/event/masterclass-austria/
LOCATION:Cave Suíça\, Rua João Ramalho\, 1392\, São Paulo\, SP\, Brasil
CATEGORIES:Degustação,SP - São Paulo
ATTACH;FMTTYPE=image/jpeg:https://agendadovinho.com.br/wp-content/uploads/2019/08/austria_310819.jpg
END:VEVENT
END:VCALENDAR