BEGIN:VCALENDAR
VERSION:2.0
PRODID:-//Agenda do Vinho - ECPv4.9.0//NONSGML v1.0//EN
CALSCALE:GREGORIAN
METHOD:PUBLISH
X-WR-CALNAME:Agenda do Vinho
X-ORIGINAL-URL:https://agendadovinho.com.br
X-WR-CALDESC:Eventos para Agenda do Vinho
BEGIN:VEVENT
DTSTART;TZID=America/Sao_Paulo:20190826T180000
DTEND;TZID=America/Sao_Paulo:20190826T194500
DTSTAMP:20260426T041938
CREATED:20190820T190917Z
LAST-MODIFIED:20190820T190917Z
UID:7101-1566842400-1566848700@agendadovinho.com.br
SUMMARY:Wine Tour Portugal
DESCRIPTION:Que tal conhecer um pouco mais sobre os vinhos de Portugal? \nUm dos países que mais produz vinhos do mundo será o tema da nossa próxima degustação. \nVenha degustar conosco e conhecer um pouco mais sobre os vinhos Portugueses! \nNa próxima segunda feira 26/08 das 18h às 19h45 na nossa loja no bairro Higienópolis\, Av. Plínio Brasil Milano\, 1085. \nMais informações inbox ou pelos telefones: \n(51)33282983 / (51)33119113 . \nEvento destinado para maiores de 18 anos. \nSe for dirigir\, não beba. \n  \n
URL:https://agendadovinho.com.br/event/wine-tour-portugal/
LOCATION:Terrunyo Wine Store\, Av. Plínio Brasil Milano\, 1085 - Higienópolis\, Porto Alegre\, RS\, 90520-003\, Brasil
CATEGORIES:Degustação,RS - Porto Alegre
ATTACH;FMTTYPE=image/jpeg:https://agendadovinho.com.br/wp-content/uploads/2019/08/wine-tour-portugal_260819.jpg
END:VEVENT
BEGIN:VEVENT
DTSTART;TZID=America/Sao_Paulo:20190826T190000
DTEND;TZID=America/Sao_Paulo:20190826T223000
DTSTAMP:20260426T041938
CREATED:20190804T184122Z
LAST-MODIFIED:20190804T184122Z
UID:6424-1566846000-1566858600@agendadovinho.com.br
SUMMARY:UVAS PELO MUNDO - SYRAH/SHIRAZ
DESCRIPTION:PROJETO “UVAS PELO MUNDO” – SYRAH/SHIRAZ \nSyrah ou Shiraz\, uva vip que ameaça o reinado da Cabernet Sauvignon? Você sabia que a relação entre as duas vem de muito tempo? Interessantes fatos históricos mostram que alguns Châteaux importantes como o Cos d’Estournel\, Lafite e Latour tinham pequenas\, porém significativas quantidades de Syrah no corte. Isso era chamado “Hermitagé” – mescla de Syrah com Bordeaux tintos de primeira qualidade para acrescentar cor e estrutura. O Lafite de 1795\, foi elaborado totalmente com Hermitage (sic)\, sendo considerado o melhor vinho daquele ano. \nVamos provar 14 vinhos Syrah/Shiraz Top’s\, na quase totalidade bem pontuados pela crítica especializada\, de diferentes países do Velho e Novo Mundo. Quase todos monocastas\, em alguns\, pelo estilo do local há um pouco da uva branca Viognier. Vamos aprender também a perceber as diferenças significativas entre os Syrah de climas quente e frio\, e as nuances de cada terroir. \nAlguns dos vinhos apresentados já estão maduros em seus quase 10 a 15 anos\, e outros mais jovens\, porém gostosamente prontos. Serviremos dois pratos preparados pelo chef Adenilson Fiuza: “polenta com ragu de carne temperada com noz moscada” escoltados pelo Guaspari Syrah/ Vista do Chá e Syrah/Vista da Serra (ambos 2011)\, e no final uma “carne de caça”\, na companhia de três vinhos surpresas visando avaliar aprendizado da degustação com Syrah solo e/ou em mescla\, de climas frio/quente. \n FLIGHT 1 – CHILENOS DE CLIMA FRIO \n     Tococo de Alcohuaz Syrah 2015 (Valle del Elqui) (RP 92) \n     Maycas del Limari Reserva Especial Syrah 2010 (Valle del Limarí) (LA CAV 92) \n    Tanagra Syrah 2010 (Casablanca Valley) (AD 93) \n    Matetic Syrah 2013 (San Antonio Valley) (RP 95) \nFLIGHT 2 – DIFERENTES PAÍSES/REGIÕES DE CLIMA QUENTE \n    Callia Magna Shiraz 2005 (San Juan/Argentina) (RP 94) \n    Pax The Hermit Syrah 2015 (North Coast/Califórnia/EUA) (AG 88) \n    Mullineux Roundstone Syrah 2015 (South África/África do Sul) (WS 92) \n    Chateau de L’ou Secret de Schistes 2012 (Roussillon/França) (RP 94) \n    Cave de Tain Saint-Joseph Esprit de Granit 2010 (Rhône/França) (RP 90+) \n    Torbreck RunRig 2007 (Barossa Valley/Austrália) (RP 98) \nDIA: 26-08 (Segunda-Feira) às 19 horas. LOCAL: Enoteca Decanter BH (Rua Gonçalves Dias\, 503 – Savassi. BH/MG). VAGAS: 14 pessoas. CUSTO: 295\,00 reais (até o dia 18/08) e 325\,00 reais (a partir do dia 19/08). \n
URL:https://agendadovinho.com.br/event/uvas-pelo-mundo-syrah-shiraz/
LOCATION:Enoteca Decanter Belo Horizonte\, R. Fernandes Tourinho\, 503 - Funcionários\, Belo Horizonte\, MG\, 30140-160\, Brasil
CATEGORIES:Degustação,MG - Belo Horizonte
ATTACH;FMTTYPE=image/png:https://agendadovinho.com.br/wp-content/uploads/2019/08/uvas-pelo-mundo_160819.png
END:VEVENT
END:VCALENDAR