BEGIN:VCALENDAR
VERSION:2.0
PRODID:-//Agenda do Vinho - ECPv4.9.0//NONSGML v1.0//EN
CALSCALE:GREGORIAN
METHOD:PUBLISH
X-WR-CALNAME:Agenda do Vinho
X-ORIGINAL-URL:https://agendadovinho.com.br
X-WR-CALDESC:Eventos para Agenda do Vinho
BEGIN:VEVENT
DTSTART;TZID=America/Sao_Paulo:20240903T120000
DTEND;TZID=America/Sao_Paulo:20240903T190000
DTSTAMP:20260420T120101
CREATED:20240410T153534Z
LAST-MODIFIED:20240410T153810Z
UID:19861-1725364800-1725390000@agendadovinho.com.br
SUMMARY:Wine South America
DESCRIPTION:
URL:https://agendadovinho.com.br/event/wine-south-america-4/
LOCATION:Fundaparque\, Alameda Fenavinho\, 481 - Fenavinho\, Bento Gonçalves - RS\, 95700-000\, Bento Gonçalves\, RS\, 95700-000\, Brasil
CATEGORIES:Outros,RS - Demais cidades
ATTACH;FMTTYPE=image/jpeg:https://agendadovinho.com.br/wp-content/uploads/2024/04/wine-south-america_030924.jpg
END:VEVENT
END:VCALENDAR