BEGIN:VCALENDAR
VERSION:2.0
PRODID:-//Agenda do Vinho - ECPv4.9.0//NONSGML v1.0//EN
CALSCALE:GREGORIAN
METHOD:PUBLISH
X-WR-CALNAME:Agenda do Vinho
X-ORIGINAL-URL:https://agendadovinho.com.br
X-WR-CALDESC:Eventos para Agenda do Vinho
BEGIN:VEVENT
DTSTART;TZID=America/Sao_Paulo:20240625T190000
DTEND;TZID=America/Sao_Paulo:20240625T210000
DTSTAMP:20260420T162140
CREATED:20240612T142419Z
LAST-MODIFIED:20240612T142419Z
UID:20246-1719342000-1719349200@agendadovinho.com.br
SUMMARY:Curso de Vinhos - Introdução ao Vinho Verdemar Savassi
DESCRIPTION:
URL:https://agendadovinho.com.br/event/curso-de-vinhos-introducao-ao-vinho-verdemar-savassi/
LOCATION:Verdemar Savassi\, R. Fernandes Tourinho\, 471 - Funcionários\, Belo Horizonte\, MG\, 30110-043\, Brasil
CATEGORIES:Curso técnico,MG - Belo Horizonte
ATTACH;FMTTYPE=image/jpeg:https://agendadovinho.com.br/wp-content/uploads/2024/06/curso-de-vinhos_250624.jpg
END:VEVENT
BEGIN:VEVENT
DTSTART;TZID=America/Sao_Paulo:20240625T193000
DTEND;TZID=America/Sao_Paulo:20240625T213000
DTSTAMP:20260420T162140
CREATED:20240612T142424Z
LAST-MODIFIED:20240612T142424Z
UID:20247-1719343800-1719351000@agendadovinho.com.br
SUMMARY:Galpão Vinhos - Harmoniza 1a Edição: Rutini por Zahil
DESCRIPTION:
URL:https://agendadovinho.com.br/event/galpao-vinhos-harmoniza-1a-edicao-rutini-por-zahil/
LOCATION:Galpão Padaria Natural\, R. Dr. Paulo Ferraz da Costa Águiar\, 1573 - Vila Yara\, Osasco\, SP\, 06026-090\, Brasil
CATEGORIES:Degustação,SP - Demais cidades
ATTACH;FMTTYPE=image/png:https://agendadovinho.com.br/wp-content/uploads/2024/06/galpao-vinhos_250624.png
END:VEVENT
END:VCALENDAR