BEGIN:VCALENDAR
VERSION:2.0
PRODID:-//Agenda do Vinho - ECPv4.9.0//NONSGML v1.0//EN
CALSCALE:GREGORIAN
METHOD:PUBLISH
X-WR-CALNAME:Agenda do Vinho
X-ORIGINAL-URL:https://agendadovinho.com.br
X-WR-CALDESC:Eventos para Agenda do Vinho
BEGIN:VEVENT
DTSTART;TZID=America/Sao_Paulo:20240618T170000
DTEND;TZID=America/Sao_Paulo:20240618T210000
DTSTAMP:20260420T162140
CREATED:20240603T184615Z
LAST-MODIFIED:20240603T184615Z
UID:20196-1718730000-1718744400@agendadovinho.com.br
SUMMARY:DWD - Decanter Wine Day Florianópolis
DESCRIPTION:
URL:https://agendadovinho.com.br/event/dwd-decanter-wine-day-florianopolis/
LOCATION:LK Design Hotel – Florianópolis\, R. Bocaiúva\, 1755 - Centro\, Florianópolis\, SC\, 88015-530\, Brasil
CATEGORIES:Degustação,SC - Florianópolis
ATTACH;FMTTYPE=image/jpeg:https://agendadovinho.com.br/wp-content/uploads/2024/06/decanter-wine-day_180624.jpg
END:VEVENT
BEGIN:VEVENT
DTSTART;TZID=America/Sao_Paulo:20240618T190000
DTEND;TZID=America/Sao_Paulo:20240618T210000
DTSTAMP:20260420T162140
CREATED:20240612T142416Z
LAST-MODIFIED:20240612T142416Z
UID:20245-1718737200-1718744400@agendadovinho.com.br
SUMMARY:Curso de Vinhos - Introdução ao Vinho Verdemar Cidade Nova
DESCRIPTION:
URL:https://agendadovinho.com.br/event/curso-de-vinhos-introducao-ao-vinho-verdemar-cidade-nova/
LOCATION:Verdemar Cidade Nova\, Av. Cristiano Machado\, 2130 - Cidade Nova\, Belo Horizonte\, MG\, 31170-800\, Brasil
CATEGORIES:Curso técnico,MG - Belo Horizonte
ATTACH;FMTTYPE=image/jpeg:https://agendadovinho.com.br/wp-content/uploads/2024/06/curso-de-vinhos_180624_2.jpg
END:VEVENT
BEGIN:VEVENT
DTSTART;TZID=America/Sao_Paulo:20240618T193000
DTEND;TZID=America/Sao_Paulo:20240618T223000
DTSTAMP:20260420T162140
CREATED:20240527T155526Z
LAST-MODIFIED:20240527T155526Z
UID:20161-1718739000-1718749800@agendadovinho.com.br
SUMMARY:Curso de Vinhos para Mulheres
DESCRIPTION:
URL:https://agendadovinho.com.br/event/curso-de-vinhos-para-mulheres-7/
LOCATION:La Mia Cucina\, R. Paulo Graeser Sobrinho\, 1124 - Mercês\, Curitiba\, PR\, 80510-170\, Brasil
CATEGORIES:Curso técnico,PR - Curitiba
ATTACH;FMTTYPE=image/jpeg:https://agendadovinho.com.br/wp-content/uploads/2024/05/curso-de-vinhos_180624.jpg
END:VEVENT
END:VCALENDAR