BEGIN:VCALENDAR
VERSION:2.0
PRODID:-//Agenda do Vinho - ECPv4.9.0//NONSGML v1.0//EN
CALSCALE:GREGORIAN
METHOD:PUBLISH
X-WR-CALNAME:Agenda do Vinho
X-ORIGINAL-URL:https://agendadovinho.com.br
X-WR-CALDESC:Eventos para Agenda do Vinho
BEGIN:VEVENT
DTSTART;TZID=America/Sao_Paulo:20240604T190000
DTEND;TZID=America/Sao_Paulo:20240604T220000
DTSTAMP:20260420T161840
CREATED:20240528T112410Z
LAST-MODIFIED:20240528T112410Z
UID:20175-1717527600-1717538400@agendadovinho.com.br
SUMMARY:Experiência Sensorial
DESCRIPTION:
URL:https://agendadovinho.com.br/event/experiencia-sensorial-3/
LOCATION:Vinho & Ponto São Caetano do Sul\, R. São Paulo\, 1950 - Cerâmica\, São Caetano do Sul\, SP\, 09541-100\, Brasil
CATEGORIES:Outros,SP - Demais cidades
ATTACH;FMTTYPE=image/png:https://agendadovinho.com.br/wp-content/uploads/2024/05/experiencia-sensorial_040624.png
END:VEVENT
END:VCALENDAR