BEGIN:VCALENDAR
VERSION:2.0
PRODID:-//Agenda do Vinho - ECPv4.9.0//NONSGML v1.0//EN
CALSCALE:GREGORIAN
METHOD:PUBLISH
X-WR-CALNAME:Agenda do Vinho
X-ORIGINAL-URL:https://agendadovinho.com.br
X-WR-CALDESC:Eventos para Agenda do Vinho
BEGIN:VEVENT
DTSTART;TZID=America/Sao_Paulo:20240531T193000
DTEND;TZID=America/Sao_Paulo:20240531T210000
DTSTAMP:20260420T173732
CREATED:20240528T112407Z
LAST-MODIFIED:20240528T112407Z
UID:20174-1717183800-1717189200@agendadovinho.com.br
SUMMARY:Passeio Guiado Online Dia do Vinho Brasileiro
DESCRIPTION:
URL:https://agendadovinho.com.br/event/passeio-guiado-online-dia-do-vinho-brasileiro/
LOCATION:Sympla Streaming
CATEGORIES:Online,Outros
ATTACH;FMTTYPE=image/jpeg:https://agendadovinho.com.br/wp-content/uploads/2024/05/passeio-guiado-online_310524.jpg
END:VEVENT
END:VCALENDAR