BEGIN:VCALENDAR
VERSION:2.0
PRODID:-//Agenda do Vinho - ECPv4.9.0//NONSGML v1.0//EN
CALSCALE:GREGORIAN
METHOD:PUBLISH
X-WR-CALNAME:Agenda do Vinho
X-ORIGINAL-URL:https://agendadovinho.com.br
X-WR-CALDESC:Eventos para Agenda do Vinho
BEGIN:VEVENT
DTSTART;TZID=America/Sao_Paulo:20240527T140000
DTEND;TZID=America/Sao_Paulo:20240527T180000
DTSTAMP:20260420T162311
CREATED:20240508T181314Z
LAST-MODIFIED:20240508T181314Z
UID:20075-1716818400-1716832800@agendadovinho.com.br
SUMMARY:TANOARIA WHISKIES E VINHOS
DESCRIPTION:
URL:https://agendadovinho.com.br/event/tanoaria-whiskies-e-vinhos/
LOCATION:Vila Madalena Botequim Paulista\, R. da Hora\, 722 - Espinheiro\, Recife\, PE\, 52020-015\, Brasil
CATEGORIES:Outros,PE - Recife
ATTACH;FMTTYPE=image/jpeg:https://agendadovinho.com.br/wp-content/uploads/2024/05/tanoaria-whiskies-e-vinhos_270524.jpg
END:VEVENT
END:VCALENDAR