BEGIN:VCALENDAR
VERSION:2.0
PRODID:-//Agenda do Vinho - ECPv4.9.0//NONSGML v1.0//EN
CALSCALE:GREGORIAN
METHOD:PUBLISH
X-WR-CALNAME:Agenda do Vinho
X-ORIGINAL-URL:https://agendadovinho.com.br
X-WR-CALDESC:Eventos para Agenda do Vinho
BEGIN:VEVENT
DTSTART;TZID=America/Sao_Paulo:20240508T180000
DTEND;TZID=America/Sao_Paulo:20240508T220000
DTSTAMP:20260420T173527
CREATED:20240503T151801Z
LAST-MODIFIED:20240503T151801Z
UID:19999-1715191200-1715205600@agendadovinho.com.br
SUMMARY:Feira de vinhos Cantu
DESCRIPTION:
URL:https://agendadovinho.com.br/event/feira-de-vinhos-cantu/
LOCATION:Boadega\, Tv. Benjamin Constant\, 1811 - Nazaré\, Belém\, PA\, 66035-095
CATEGORIES:Degustação,PA - Belém
ATTACH;FMTTYPE=image/jpeg:https://agendadovinho.com.br/wp-content/uploads/2024/05/feira-de-vinhos-cantu_080524.jpg
END:VEVENT
BEGIN:VEVENT
DTSTART;TZID=America/Sao_Paulo:20240508T190000
DTEND;TZID=America/Sao_Paulo:20240508T203000
DTSTAMP:20260420T173527
CREATED:20240506T144752Z
LAST-MODIFIED:20240506T144752Z
UID:20013-1715194800-1715200200@agendadovinho.com.br
SUMMARY:Art and Wine - uma noite de Arte e Vinho: Pintura em Taça
DESCRIPTION:
URL:https://agendadovinho.com.br/event/art-and-wine-uma-noite-de-arte-e-vinho-pintura-em-taca/
LOCATION:Moema Acabamentos\, Av. dos Sambaquis\, Quadra 8 - n° 30 - Calhau\, São Luís\, MA\, 65071-390\, Brasil
CATEGORIES:MA - São Luís,Outros
ATTACH;FMTTYPE=image/png:https://agendadovinho.com.br/wp-content/uploads/2024/05/art-and-wine_080524.png
END:VEVENT
BEGIN:VEVENT
DTSTART;TZID=America/Sao_Paulo:20240508T193000
DTEND;TZID=America/Sao_Paulo:20240508T193000
DTSTAMP:20260420T173527
CREATED:20240503T151804Z
LAST-MODIFIED:20240503T151804Z
UID:20000-1715196600-1715196600@agendadovinho.com.br
SUMMARY:Jantar harmonizado
DESCRIPTION:
URL:https://agendadovinho.com.br/event/jantar-harmonizado-156/
LOCATION:Restaurante Ryori\, R. Manoel Arruda Cavalcante\, 882 - Manaíra\, João Pessoa\, PB\, 58038-680\, Brasil
CATEGORIES:Jantar harmonizado,PB - João Pessoa
ATTACH;FMTTYPE=image/jpeg:https://agendadovinho.com.br/wp-content/uploads/2024/05/jantar-harmonizado_080524.jpg
END:VEVENT
END:VCALENDAR