BEGIN:VCALENDAR
VERSION:2.0
PRODID:-//Agenda do Vinho - ECPv4.9.0//NONSGML v1.0//EN
CALSCALE:GREGORIAN
METHOD:PUBLISH
X-WR-CALNAME:Agenda do Vinho
X-ORIGINAL-URL:https://agendadovinho.com.br
X-WR-CALDESC:Eventos para Agenda do Vinho
BEGIN:VEVENT
DTSTART;TZID=America/Sao_Paulo:20240506T190000
DTEND;TZID=America/Sao_Paulo:20240506T220000
DTSTAMP:20260420T173536
CREATED:20240423T165613Z
LAST-MODIFIED:20240423T165613Z
UID:19968-1715022000-1715032800@agendadovinho.com.br
SUMMARY:Wine Day Qualimpor & La Vinoteca
DESCRIPTION:
URL:https://agendadovinho.com.br/event/wine-day-qualimpor-la-vinoteca/
LOCATION:La Vinoteca\, R. Gustavo Salinger\, 651 - Itoupava Seca\, Blumenau\, SC\, 89030-310\, Brasil
CATEGORIES:Degustação,SC - Demais cidades
ATTACH;FMTTYPE=image/jpeg:https://agendadovinho.com.br/wp-content/uploads/2024/04/wine-day_060524.jpg
END:VEVENT
BEGIN:VEVENT
DTSTART;TZID=America/Sao_Paulo:20240506T190000
DTEND;TZID=America/Sao_Paulo:20240506T210000
DTSTAMP:20260420T173536
CREATED:20240423T165616Z
LAST-MODIFIED:20240423T165616Z
UID:19969-1715022000-1715029200@agendadovinho.com.br
SUMMARY:Jantar Harmonizado com Vinícola Carmim
DESCRIPTION:
URL:https://agendadovinho.com.br/event/jantar-harmonizado-com-vinicola-carmim/
LOCATION:Da Santa\, R. Santa Cruz\, 1851 - Vila Mariana\, São Paulo\, SP\, 04121-002\, Brasil
CATEGORIES:Jantar harmonizado,SP - São Paulo
ATTACH;FMTTYPE=image/png:https://agendadovinho.com.br/wp-content/uploads/2024/04/jantar-harmonizado_060524.png
END:VEVENT
END:VCALENDAR