BEGIN:VCALENDAR
VERSION:2.0
PRODID:-//Agenda do Vinho - ECPv4.9.0//NONSGML v1.0//EN
CALSCALE:GREGORIAN
METHOD:PUBLISH
X-WR-CALNAME:Agenda do Vinho
X-ORIGINAL-URL:https://agendadovinho.com.br
X-WR-CALDESC:Eventos para Agenda do Vinho
BEGIN:VEVENT
DTSTART;TZID=America/Sao_Paulo:20240502T180000
DTEND;TZID=America/Sao_Paulo:20240502T210000
DTSTAMP:20260420T173418
CREATED:20240405T140522Z
LAST-MODIFIED:20240405T140522Z
UID:19805-1714672800-1714683600@agendadovinho.com.br
SUMMARY:Feira de Vinhos Premium Wine
DESCRIPTION:
URL:https://agendadovinho.com.br/event/feira-de-vinhos-premium-wine/
LOCATION:Janela\, R. Mateus Grou\, 458 - Pinheiros\, São Paulo\, SP\, 05415-040\, Brasil
CATEGORIES:Degustação,SP - São Paulo
ATTACH;FMTTYPE=image/jpeg:https://agendadovinho.com.br/wp-content/uploads/2024/04/feira-de-vinhos_020524.jpg
END:VEVENT
BEGIN:VEVENT
DTSTART;TZID=America/Sao_Paulo:20240502T190000
DTEND;TZID=America/Sao_Paulo:20240502T213000
DTSTAMP:20260420T173418
CREATED:20240423T165608Z
LAST-MODIFIED:20240423T165608Z
UID:19966-1714676400-1714685400@agendadovinho.com.br
SUMMARY:Degustação de Vinhos Malbec Argentinos por Antonio Goulart
DESCRIPTION:
URL:https://agendadovinho.com.br/event/degustacao-de-vinhos-malbec-argentinos-por-antonio-goulart/
LOCATION:La Cave\, Rua Visconde de Nácar\, 231 - Mercês\, Curitiba\, PR\, 80410-200\, Brasil
CATEGORIES:Degustação,PR - Curitiba
ATTACH;FMTTYPE=image/jpeg:https://agendadovinho.com.br/wp-content/uploads/2024/04/degustacao_020524.jpg
END:VEVENT
END:VCALENDAR