BEGIN:VCALENDAR
VERSION:2.0
PRODID:-//Agenda do Vinho - ECPv4.9.0//NONSGML v1.0//EN
CALSCALE:GREGORIAN
METHOD:PUBLISH
X-WR-CALNAME:Agenda do Vinho
X-ORIGINAL-URL:https://agendadovinho.com.br
X-WR-CALDESC:Eventos para Agenda do Vinho
BEGIN:VEVENT
DTSTART;TZID=America/Sao_Paulo:20240423T190000
DTEND;TZID=America/Sao_Paulo:20240423T190000
DTSTAMP:20260420T190235
CREATED:20240405T140317Z
LAST-MODIFIED:20240405T140317Z
UID:19804-1713898800-1713898800@agendadovinho.com.br
SUMMARY:Curso de Vinhos - Introdução ao Vinho Verdemar Jardim Canadá
DESCRIPTION:
URL:https://agendadovinho.com.br/event/curso-de-vinhos-introducao-ao-vinho-verdemar-jardim-canada/
LOCATION:Verdemar Jardim Canadá\, R. Vancouver\, 40 - Jardim Canada\, Nova Lima\, MG\, 34000-000\, Brasil
CATEGORIES:Curso técnico,MG - Demais cidades
ATTACH;FMTTYPE=image/jpeg:https://agendadovinho.com.br/wp-content/uploads/2024/04/curso-de-vinhos_230424.jpg
END:VEVENT
BEGIN:VEVENT
DTSTART;TZID=America/Sao_Paulo:20240423T190000
DTEND;TZID=America/Sao_Paulo:20240423T190000
DTSTAMP:20260420T190235
CREATED:20240410T151847Z
LAST-MODIFIED:20240410T151847Z
UID:19840-1713898800-1713898800@agendadovinho.com.br
SUMMARY:Tasting Experience Cinco Sentidos
DESCRIPTION:
URL:https://agendadovinho.com.br/event/tasting-experience-cinco-sentidos/
LOCATION:Tasting Escola de Vinhos\, São Luís\, MA\, Brasil
CATEGORIES:MA - São Luís,Outros
ATTACH;FMTTYPE=image/jpeg:https://agendadovinho.com.br/wp-content/uploads/2024/04/tasting-experience_230424.jpg
END:VEVENT
BEGIN:VEVENT
DTSTART;TZID=America/Sao_Paulo:20240423T193000
DTEND;TZID=America/Sao_Paulo:20240423T213000
DTSTAMP:20260420T190235
CREATED:20240412T143140Z
LAST-MODIFIED:20240412T143140Z
UID:19870-1713900600-1713907800@agendadovinho.com.br
SUMMARY:Roteiro Português: Uma Noite Guiada Entre a Gastronomia e Vinhos Portugueses
DESCRIPTION:
URL:https://agendadovinho.com.br/event/roteiro-portugues-uma-noite-guiada-entre-a-gastronomia-e-vinhos-portugueses/
LOCATION:Boteco Português\, R. Borges dos Reis\, 16 - Rio Vermelho\, Salvador\, BA\, 41950-600\, Brasil
CATEGORIES:BA - Salvador,Jantar harmonizado
ATTACH;FMTTYPE=image/png:https://agendadovinho.com.br/wp-content/uploads/2024/04/roteiro-portugues_230424.png
END:VEVENT
END:VCALENDAR