BEGIN:VCALENDAR
VERSION:2.0
PRODID:-//Agenda do Vinho - ECPv4.9.0//NONSGML v1.0//EN
CALSCALE:GREGORIAN
METHOD:PUBLISH
X-WR-CALNAME:Agenda do Vinho
X-ORIGINAL-URL:https://agendadovinho.com.br
X-WR-CALDESC:Eventos para Agenda do Vinho
BEGIN:VEVENT
DTSTART;TZID=America/Sao_Paulo:20240421T140000
DTEND;TZID=America/Sao_Paulo:20240421T210000
DTSTAMP:20260420T190050
CREATED:20240320T191422Z
LAST-MODIFIED:20240320T191422Z
UID:19630-1713708000-1713733200@agendadovinho.com.br
SUMMARY:VINHO NA VILA BH
DESCRIPTION:
URL:https://agendadovinho.com.br/event/vinho-na-vila-bh-2/
LOCATION:Parque do Palácio\, Rua Arquiteto Rafaello Berti\, 330 - Mangabeiras\, Belo Horizonte\, MG\, 30210-120\, Brasil
CATEGORIES:Degustação,MG - Belo Horizonte
ATTACH;FMTTYPE=image/jpeg:https://agendadovinho.com.br/wp-content/uploads/2024/03/vinho-na-vila_200424.jpg
END:VEVENT
END:VCALENDAR