BEGIN:VCALENDAR
VERSION:2.0
PRODID:-//Agenda do Vinho - ECPv4.9.0//NONSGML v1.0//EN
CALSCALE:GREGORIAN
METHOD:PUBLISH
X-WR-CALNAME:Agenda do Vinho
X-ORIGINAL-URL:https://agendadovinho.com.br
X-WR-CALDESC:Eventos para Agenda do Vinho
BEGIN:VEVENT
DTSTART;TZID=America/Sao_Paulo:20230521T080000
DTEND;TZID=America/Sao_Paulo:20230521T110000
DTSTAMP:20260421T110043
CREATED:20230512T191740Z
LAST-MODIFIED:20230512T191740Z
UID:18755-1684656000-1684666800@agendadovinho.com.br
SUMMARY:1º Corrida Do Vinho
DESCRIPTION:
URL:https://agendadovinho.com.br/event/1o-corrida-do-vinho/
LOCATION:Catas Altas\, R. Maquiné\, Catas Altas\, MG\, 35969-000\, Brasil
CATEGORIES:MG - Demais cidades,Outros
ATTACH;FMTTYPE=image/jpeg:https://agendadovinho.com.br/wp-content/uploads/2023/05/corrida-do-vinho_210523.jpg
END:VEVENT
END:VCALENDAR