BEGIN:VCALENDAR
VERSION:2.0
PRODID:-//Agenda do Vinho - ECPv4.9.0//NONSGML v1.0//EN
CALSCALE:GREGORIAN
METHOD:PUBLISH
X-WR-CALNAME:Agenda do Vinho
X-ORIGINAL-URL:https://agendadovinho.com.br
X-WR-CALDESC:Eventos para Agenda do Vinho
BEGIN:VEVENT
DTSTART;TZID=America/Sao_Paulo:20230503T193000
DTEND;TZID=America/Sao_Paulo:20230503T220000
DTSTAMP:20260421T110242
CREATED:20230429T153739Z
LAST-MODIFIED:20230429T153739Z
UID:18667-1683142200-1683151200@agendadovinho.com.br
SUMMARY:NOVOS TALENTOS DO VINHO BRASILEIRO NA ABS/SC
DESCRIPTION:
URL:https://agendadovinho.com.br/event/novos-talentos-do-vinho-brasileiro-na-abs-sc/
LOCATION:Mercure Florianópolis Hotel\, Rod. Admar Gonzaga\, 600 - Itacorubi\, Florianópolis\, SC\, 88034-000\, Brasil
CATEGORIES:Outros,SC - Florianópolis
ATTACH;FMTTYPE=image/png:https://agendadovinho.com.br/wp-content/uploads/2023/04/novos-talentos-do-vinho-brasileiro_030523.png
END:VEVENT
END:VCALENDAR