BEGIN:VCALENDAR
VERSION:2.0
PRODID:-//Agenda do Vinho - ECPv4.9.0//NONSGML v1.0//EN
CALSCALE:GREGORIAN
METHOD:PUBLISH
X-WR-CALNAME:Agenda do Vinho
X-ORIGINAL-URL:https://agendadovinho.com.br
X-WR-CALDESC:Eventos para Agenda do Vinho
BEGIN:VEVENT
DTSTART;TZID=America/Sao_Paulo:20230418T140000
DTEND;TZID=America/Sao_Paulo:20230420T200000
DTSTAMP:20260421T122301
CREATED:20230322T162307Z
LAST-MODIFIED:20230322T162307Z
UID:18604-1681826400-1682020800@agendadovinho.com.br
SUMMARY:São Paulo International Wine Trade Fair e Cachaça Trade Fair tem sua sétima edição em 2023
DESCRIPTION:Feiras setoriais estão para além de ser um balcão de negócios. Elas têm papel importante dentro da cadeia produtiva em que atuam e são o elo propulsor dos negócios entre produtores e o mercado comprador. \n  \nPromovida pela Market Press Eventos\, empresa que atua há 37 anos no setor de organizações de feiras de negócios\, congressos e eventos de entretenimentos\, a São Paulo International Wine Trade Fair e Cachaça Trade Fair\, acontece de 18 a 20 de abril\, no Pavilhão de exposições do Anhembi\, em São Paulo. \n  \nA SPWTF e CTF traz esse ano para a mesa de discussão temas\, como conectividade e gestão entre negócios e pessoas\, reunindo em um mesmo espaço o agronegócio até o produto final. \n  \nZoraida Lobato\, organizadora da feira\, fala um pouco mais sobre o evento. “Participar de uma feira setorial pode ser muito valioso para um produtor de bebidas\, pois oferece a ele uma ampla gama de vantagens\, incluindo visibilidade\, networking\, feedback sobre seus produtos\, conhecimento da indústria e novas oportunidades comerciais.” \n  \n“Durante os três dias de evento\, dedicados exclusivamente aos profissionais do setor\, devemos receber mais de 6.000 compradores convidados de todos os estados do país e internacionais. Vamos reunir mais de 300 expositores que vão apresentar mais de 1.000 rótulos de vinhos\, equipamentos\, insumos e serviços para o setor de bebidas adultas”\, complementa. \n  \nA feira conta com o apoio de várias entidades: entre elas a Secretaria da Agricultura e Abastecimento do Estado de São Paulo\, a EMBRAPA Uva e Vinho\, o IBRAC\, instituto Brasileiro da Cachaça\, SEBRAE\, ABRASEL\, Federação dos Hotéis e Restaurantes de São Paulo\, entre outros. \n  \nAlém da área de exposição\, a feira oferece ao visitante palestras\, workshops\, master classes\, rodadas de negócios\, exposições e todo um projeto que tem como objetivo a transferência de conhecimentos e a disseminação da cultura do vinho e da cachaça. \n  \n  \n  \nSobre os Organizadores: \n  \nSob a responsabilidade do jornalista Eduardo Viotti\, que tem cursos de especialização em vinhos e autor de publicações sobre o assunto\, e Zoraida Lobato\, gestora empresarial de formação e responsável pela implantação dos principais eventos de vinhos no Brasil desde a  década de 90\, como o Vivavinho\, Expovinis\, Concurso de Vinhos e Destilados do Brasil\, a Market Press\, atua no setor de eventos e comunicação há 37 anos e é especializada nos mercados de bebidas\, com destaque dedicado ao vinho e cachaça. \n  \nA empresa conta ainda com uma plataforma de negócios que engloba mídias online e offline.Em 2013  cria  projeto Rolha Verde que tem como a diminuição do carbono na atmosfera e com isso certifica seus eventos como “ Evento Carbono Zero” \n  \nServiço: \n  \nA feira é dedicada a profissionais do setor. \nIngressos (sem custo) através do site \nSão Paulo  International Wine Trade Fair e Cachaça Trade Fair \nwww.winetradefair.com.br \nCachaça Trade Fair \nwww.cachacatradefair.com.br \n  \nQuando: De 18 a 20 de abril de 2023\, das 14h às 20h \nOnde: Pavilhão de Exposições do Anhembi São Paulo \n
URL:https://agendadovinho.com.br/event/sao-paulo-international-wine-trade-fair-e-cachaca-trade-fair-tem-sua-setima-edicao-em-2023/
LOCATION:Pavilhão de Exposições do Anhembi\, Avenida Olavo Fontoura\, 1209 - Portão 1 - Santana\, São Paulo\, SP\, 02012-021\, Brasil
CATEGORIES:Outros,SP - São Paulo
ATTACH;FMTTYPE=image/jpeg:https://agendadovinho.com.br/wp-content/uploads/2023/03/Wine-trade-fair_180422.jpg
END:VEVENT
END:VCALENDAR