BEGIN:VCALENDAR
VERSION:2.0
PRODID:-//Agenda do Vinho - ECPv4.9.0//NONSGML v1.0//EN
CALSCALE:GREGORIAN
METHOD:PUBLISH
X-WR-CALNAME:Agenda do Vinho
X-ORIGINAL-URL:https://agendadovinho.com.br
X-WR-CALDESC:Eventos para Agenda do Vinho
BEGIN:VEVENT
DTSTART;TZID=America/Sao_Paulo:20230307T193000
DTEND;TZID=America/Sao_Paulo:20230307T230000
DTSTAMP:20260421T135026
CREATED:20230227T134829Z
LAST-MODIFIED:20230227T134829Z
UID:18571-1678217400-1678230000@agendadovinho.com.br
SUMMARY:Desmistificando o Mundo do Vinho
DESCRIPTION:Desmistificando o Mundo do Vinho \nVocê que deseja entrar no universo do vinho mas sempre achou isso muito complexo e de difícil entendimento\, venha conosco nessa programação especial que preparamos em 04 encontros\, onde traremos de forma clara\, objetiva e sem “tecniquês” um pouco desta bebida tão apreciada e rica em história! \nSegue o card dos nossos encontros: \n07/03/2023 – Estilos de vinhos e como degustá-los; \n14/03/2023 – Mitos e verdades sobre o vinho; \n21/03/2023 – Escolhendo e comprando vinhos \n28/03/2023 – Combinando vinho e comida (inclui Jantar Harmonizado!) \nInvestimento: R$600\,00 \nOnde nos encontraremos: no Mont Cristo Wine Bar (Rua das Figueiras\, 631 – Santo André-SP)\, às 19h30 nas datas acima. Mas corra! VAGAS LIMITADAS \nInteressados chamar Inbox no nosso Instagram: @abs_grande_abc \nNos vemos no dia 07/03/2023! \n
URL:https://agendadovinho.com.br/event/desmistificando-o-mundo-do-vinho/
LOCATION:Mont Cristo Wine Bar\, R. das Figueiras\, 631 - Jardim\, Santo André\, SP\, 09080-370
CATEGORIES:Outros,SP - Demais cidades
ATTACH;FMTTYPE=image/jpeg:https://agendadovinho.com.br/wp-content/uploads/2023/02/IMG-20230222-WA0006.jpg
END:VEVENT
END:VCALENDAR