BEGIN:VCALENDAR
VERSION:2.0
PRODID:-//Agenda do Vinho - ECPv4.9.0//NONSGML v1.0//EN
CALSCALE:GREGORIAN
METHOD:PUBLISH
X-WR-CALNAME:Agenda do Vinho
X-ORIGINAL-URL:https://agendadovinho.com.br
X-WR-CALDESC:Eventos para Agenda do Vinho
BEGIN:VEVENT
DTSTART;TZID=America/Sao_Paulo:20230305T140000
DTEND;TZID=America/Sao_Paulo:20230305T210000
DTSTAMP:20260421T135026
CREATED:20230304T162109Z
LAST-MODIFIED:20230304T162109Z
UID:18586-1678024800-1678050000@agendadovinho.com.br
SUMMARY:Dia das mulheres tem degustação de vinhos e espumantes\, show especial e palestras no Santo Mercado
DESCRIPTION:\n\nAbrindo as celebrações do Dia das Mulheres\, o Mercado Municipal de Santo Amaro – Professora Adozinda Caracciolo de Azevedo Kuhlmann\, agora conhecido como Santo Mercado\, traz uma programação especial nos dias 4 e 5 de março com o Sparkling Festival. \nA programação gratuita será recheada com shows da cantora e compositora July Nóbrega\, que traz um repertório eclético\, que vai da MPB ao rock. No sábado\, às 14h\, a vice-presidente de negócios e inovação da Engemon\, Sonia Keiko\, e a mentora e designer organizacional da TAB3 – consultoria\, mentoria e facilitação\, Vera Cacciacarro\, abordam o tema “Mulheres como agenda de inovação e transformação”. Em seguida\, às 16h\, o enólogo Adolfo Lona e a jornalista colunista sobre vinho no caderno Paladar\, do jornal O Estado de S. Paulo\, Suzana Barelli\, trazem a masterClass “A Mulher e o espumante\, uma relação de afeto”. Encerrando a programação de sábado\, às 17h\, a hipnoterapeuta Cybele Imamura fala sobre “Transtornos Emocionais”. \nNo domingo\, às 14h\, é a vez de desvendar os rosés com Sil Vinhas\, e\, às 16h\, a CEO do Café da Condessa Maria Carolina Freire traz motivação com a palestra “Mulheres inspiradoras”. \nAlém da programação gratuita\, o evento reúne mais de 200 rótulos de espumantes e vinhos\, de 25 vinícolas nacionais e internacionais\, em um espaço exclusivo no 2º piso\, das 11h às 21h. Entre as casas participantes estão Adolfo Lona\, Fin\, Campestre\, Miolo\, Invernnia e Ventura Wines\, entre outras. Comidinhas para acompanhar os vinhos não vão faltar: restaurantes premium\, food bikes e produtores artesanais com pães\, queijos e outras delícias. O ingresso custa a partir de R$ 99 (compra de uma taça) e já está à venda na plataforma Ingresse.com. Todos os ingressos incluem 3 horas de degustação de todos os rótulos\, uma taça de cristal e ecobag oficial do evento. O visitante ainda tem a chance de comprar os vinhos que mais gostar por preços especiais direto com o produtor. \n“Inauguramos nossa loja no Santo Mercado em dezembro\, quando ele foi reaberto\, como único wine bar com 100% dos vinhos nacionais\, de São Paulo. Nada mais justo do que promover o evento em um local que foi totalmente repaginado. O Sparkling Festival é um convite a mais para os visitantes conhecerem o novo Mercado Municipal de Santo Amaro e ter experiências exclusivas que é o que o Santo Mercado propõe”\, comenta Larissa Fin\, sócia da Casa Vitis\, criadora e curadora do evento. \nO Festival conta\, ainda\, com a participação de 30 lojas do Santo Mercado que oferecerão descontos para os clientes que estiverem com a pulseira do evento. São elas: A Casa do Churrasco\, Alkimia\, Artesanal Pães\, Ateliê do Doce\, Banarabi\, Buteco Capadócia\, Casa Vitis\, Caseirices\, Cervejaria Tria\, Crepes Shakes\, Doçaria Portuguesa\, Ginger Street Food\, Italibano\, Lo Sal Peruano\, Mister Donuts\, O Reino do Peixe\, Palmitaria Fertila\, Pastel da Duda\, Santo Pastel\, Sorveteria Blaus\, Terapia Saúde\, Terraço da Empada\, Trovão de Minas\, Winery Gifts\, Sacolão Santo Amaro\, Cervejarias Araguaia e Emporio Bomboniere. \nA economia criativa local também marca presença com 15 expositores de artesanato de arte\, bijuterias e afins. \nO SPARKLING FESTIVAL \nEm 2019\, a Casa Vitis lançou o Sparkling Festival\, uma feira focada em espumantes e vinhos de verão\, na trilha da paixão do brasileiro por espumantes\, com edições iniciais no Rio e em São Paulo. Atualmente\, o evento é realizado quatro vezes ao ano\, incluindo Brasília. Durante o evento\, a bebida é apresentada como ideal para o verão\, junto com vinhos refrescantes que são ótimas opções para qualquer clima. \nO Sparkling Festival é uma experiência completa\, ideal para aproveitar um dia de verão com bebidas refrescantes e petiscando queijos e gastronomia gourmet. (www.sparklingfestival.com.br). \nO SANTO MERCADO \nInaugurado em 1897 e\, desde 1961 no mesmo local\, o Mercado Municipal de Santo Amaro foi acometido por um incêndio que comprometeu mais de 70% de sua estrutura\, em 25 de setembro de 2017. Em dezembro de 2022 – sob a gestão do Consórcio Fênix – foi reinaugurado com tamanho quatro vezes maior que antes e um novo conceito: inspirado nos grandes mercados europeus. Carinhosamente apelidado de Santo Mercado\, o Mercado Municipal de Santo Amaro – Professora Adozinda Caracciolo de Azevedo Kuhlmann conta com 11.500 m² de área total\, distribuídos em três pisos\, com 120 boxes e 37 quiosques. \nServiço: Sparkling Festival: evento para degustação de 200 rótulos de vinhos e espumantes\, com show musical\, feira de artesanato e palestras com tema feminino\, em homenagem ao Dia Internacional da Mulher. Dias 4 e 5 de março (sábado e domingo)\, no Santo Mercado (Rua Ministro Roberto Cardoso Alvex\, 359 – Santo Amaro). Estacionamento no local. Das 11h às 21h. Preço do ingresso para a área de degustação: a partir de R$99. Acesse o site para comprar o ingresso: www.ingresse.com \n\n\n  \n  \n
URL:https://agendadovinho.com.br/event/dia-das-mulheres-tem-degustacao-de-vinhos-e-espumantes-show-especial-e-palestras-no-santo-mercado/
LOCATION:Santo Mercado\, R. Min. Roberto Cardoso Alves\, 359 - Santo Amaro\, São Paulo\, SP\, 04742-001\, Brasil
CATEGORIES:Outros,SP - São Paulo
ATTACH;FMTTYPE=image/jpeg:https://agendadovinho.com.br/wp-content/uploads/2023/03/Sparkling-Festival-dias-5-e-6-de-março-no-Santo-Mercado.jpg
END:VEVENT
END:VCALENDAR