BEGIN:VCALENDAR
VERSION:2.0
PRODID:-//Agenda do Vinho - ECPv4.9.0//NONSGML v1.0//EN
CALSCALE:GREGORIAN
METHOD:PUBLISH
X-WR-CALNAME:Agenda do Vinho
X-ORIGINAL-URL:https://agendadovinho.com.br
X-WR-CALDESC:Eventos para Agenda do Vinho
BEGIN:VEVENT
DTSTART;TZID=America/Sao_Paulo:20211123T190000
DTEND;TZID=America/Sao_Paulo:20211123T203000
DTSTAMP:20260422T140211
CREATED:20211112T115404Z
LAST-MODIFIED:20211112T115404Z
UID:17813-1637694000-1637699400@agendadovinho.com.br
SUMMARY:MasterClass Vinhos Biodinâmicos do Chile
DESCRIPTION:A VINDAME organiza uma Master Class sobre tintos biodinâmicos do Chile – no dia 23/nov (terça-feira) de 2021 às 19h na plataforma Zoom.us. A Master Class será dirigida por Michael Schütte\, sócio diretor da VINDAME e Déco Rossi\, embaixador da marca Odfjell no Brasil. \nSerão os seguintes rótulos e valores quando leva o kit completo de 4 garrafas. Pode adicionar mais garrafas dos mesmos rótulos para garantir os 25%. \n– 2016 Orzada Carmenère de R$230 por R$172\,50 \n– 2018 Orzada Carignan de R$230 por R$172\,50 \n– 2018 Orzada Cabernet Sauvignon de R$230 por R$172\,50 \n– 2014 Aliara de R$378 por R$283\,50 \nVagas extremamente limitadas. A compra de um vinho garante a participação. Além da possibilidade de adquirir um Kit completo de 04 rótulos com desconto excepcional de 25% tem a possibilidade de adquirir kits de 03 rótulos com 20% de desconto\, 02 rótulos com 15% ou de 01 vinho com 10% de desconto. \n
URL:https://agendadovinho.com.br/event/masterclass-vinhos-biodinamicos-do-chile/
LOCATION:Vídeo conferência
CATEGORIES:Curso técnico,Online
ATTACH;FMTTYPE=image/jpeg:https://agendadovinho.com.br/wp-content/uploads/2021/11/Kit-completo-Odfjell-4-gfs.jpg
END:VEVENT
END:VCALENDAR