BEGIN:VCALENDAR
VERSION:2.0
PRODID:-//Agenda do Vinho - ECPv4.9.0//NONSGML v1.0//EN
CALSCALE:GREGORIAN
METHOD:PUBLISH
X-WR-CALNAME:Agenda do Vinho
X-ORIGINAL-URL:https://agendadovinho.com.br
X-WR-CALDESC:Eventos para Agenda do Vinho
BEGIN:VEVENT
DTSTART;TZID=America/Sao_Paulo:20211103T190000
DTEND;TZID=America/Sao_Paulo:20211103T203000
DTSTAMP:20260422T140144
CREATED:20210923T170303Z
LAST-MODIFIED:20211027T185248Z
UID:17737-1635966000-1635971400@agendadovinho.com.br
SUMMARY:Master Class Seleção de Riesling Alemão
DESCRIPTION:  \n \n \n  \nA VINDAME organiza uma Master Class sobre riesling alemão – no dia 27 de outubro de 2021 às 19h na plataforma Zoom.us. A Master Class será dirigida por Michael Schütte\, sócio diretor da VINDAME. \nA aula será conduzida pelo Sommelier tricampeão brasileiro\, Diego Arrebola. \nSerão os seguintes rótulos e valores quando leva o kit completo de 4 garrafas. Pode adicionar mais garrafas dos mesmos rótulos para garantir os 30% \n– 2019 riesling Baron Knyphausen 1141 de R$209 por R$146\,30 \n– 2014 riesling Baron Knyphausen Gutswein trocken de R$229 por R$160\,30 \n– 2017 riesling Wiltinger do Kesselstatt de R$269 por R$188\,30 \n– 2015 riesling Steinmorgen Premier Cru Baron Knyphausen de R$379 por R$265\,30 \nVagas extremamente limitadas. A compra de um vinho garante a participação. Além da possibilidade de adquirir um Kit completo de 04 rótulos com desconto excepcional de 30% tem a possibilidade de adquirir kits de 03 rótulos com 25% de desconto\, 02 rótulos com 20% ou de 01 vinho com 15% de desconto. \nA entrega desses kits é com frete grátis. \nLigar ou whatsapp no:\n11 94249-6500 (Vitor – gerente de vendas) \n11 93500-6477 (Patrícia – consultora de vendas) \n11 93500-4062 (Bruna – consultora de vendas) \n
URL:https://agendadovinho.com.br/event/master-class-selecao-de-riesling-alemao/
LOCATION:Vídeo conferência
CATEGORIES:Curso técnico,Online
ATTACH;FMTTYPE=image/jpeg:https://agendadovinho.com.br/wp-content/uploads/2021/09/kit-completo-com-steinmorgen.jpg
END:VEVENT
END:VCALENDAR