BEGIN:VCALENDAR
VERSION:2.0
PRODID:-//Agenda do Vinho - ECPv4.9.0//NONSGML v1.0//EN
CALSCALE:GREGORIAN
METHOD:PUBLISH
X-WR-CALNAME:Agenda do Vinho
X-ORIGINAL-URL:https://agendadovinho.com.br
X-WR-CALDESC:Eventos para Agenda do Vinho
BEGIN:VEVENT
DTSTART;TZID=America/Sao_Paulo:20211020T205900
DTEND;TZID=America/Sao_Paulo:20211020T205900
DTSTAMP:20260422T155228
CREATED:20211013T202631Z
LAST-MODIFIED:20211013T202631Z
UID:17774-1634763540-1634763540@agendadovinho.com.br
SUMMARY:Semana do Vinho
DESCRIPTION:
URL:https://agendadovinho.com.br/event/semana-do-vinho/
LOCATION:Instagram
CATEGORIES:Curso técnico,Online
ATTACH;FMTTYPE=image/jpeg:https://agendadovinho.com.br/wp-content/uploads/2021/10/semana-do-vinho_201021.jpg
END:VEVENT
END:VCALENDAR