BEGIN:VCALENDAR
VERSION:2.0
PRODID:-//Agenda do Vinho - ECPv4.9.0//NONSGML v1.0//EN
CALSCALE:GREGORIAN
METHOD:PUBLISH
X-WR-CALNAME:Agenda do Vinho
X-ORIGINAL-URL:https://agendadovinho.com.br
X-WR-CALDESC:Eventos para Agenda do Vinho
BEGIN:VEVENT
DTSTART;TZID=America/Sao_Paulo:20210803T143000
DTEND;TZID=America/Sao_Paulo:20210803T203000
DTSTAMP:20260422T183854
CREATED:20210802T203309Z
LAST-MODIFIED:20210802T203309Z
UID:17677-1628001000-1628022600@agendadovinho.com.br
SUMMARY:Wines of Chile
DESCRIPTION:03/ago – 14:30 \n
URL:https://agendadovinho.com.br/event/wines-of-chile/
LOCATION:Youtube
CATEGORIES:Curso técnico,Online
ATTACH;FMTTYPE=image/jpeg:https://agendadovinho.com.br/wp-content/uploads/2021/08/wines-of-chile_030821.jpg
END:VEVENT
END:VCALENDAR