BEGIN:VCALENDAR
VERSION:2.0
PRODID:-//Agenda do Vinho - ECPv4.9.0//NONSGML v1.0//EN
CALSCALE:GREGORIAN
METHOD:PUBLISH
X-WR-CALNAME:Agenda do Vinho
X-ORIGINAL-URL:https://agendadovinho.com.br
X-WR-CALDESC:Eventos para Agenda do Vinho
BEGIN:VEVENT
DTSTART;TZID=America/Sao_Paulo:20210721T193000
DTEND;TZID=America/Sao_Paulo:20210721T193000
DTSTAMP:20260422T200507
CREATED:20210721T181507Z
LAST-MODIFIED:20210721T181507Z
UID:17641-1626895800-1626895800@agendadovinho.com.br
SUMMARY:Sur Lie é vida
DESCRIPTION:21/jul – 19:30 \n
URL:https://agendadovinho.com.br/event/sur-lie-e-vida/
LOCATION:Instagram
CATEGORIES:Curso técnico,Online
ATTACH;FMTTYPE=image/jpeg:https://agendadovinho.com.br/wp-content/uploads/2021/07/selorpwine_210721.jpg
END:VEVENT
BEGIN:VEVENT
DTSTART;TZID=America/Sao_Paulo:20210721T200000
DTEND;TZID=America/Sao_Paulo:20210721T200000
DTSTAMP:20260422T200507
CREATED:20210721T181459Z
LAST-MODIFIED:20210721T181459Z
UID:17640-1626897600-1626897600@agendadovinho.com.br
SUMMARY:4 vinhos que cabem no seu bolso
DESCRIPTION:21/jul – 20:00 \n
URL:https://agendadovinho.com.br/event/4-vinhos-que-cabem-no-seu-bolso/
LOCATION:Instagram
CATEGORIES:Curso técnico,Online
ATTACH;FMTTYPE=image/jpeg:https://agendadovinho.com.br/wp-content/uploads/2021/07/winesouthamerica_210721.jpg
END:VEVENT
END:VCALENDAR