BEGIN:VCALENDAR
VERSION:2.0
PRODID:-//Agenda do Vinho - ECPv4.9.0//NONSGML v1.0//EN
CALSCALE:GREGORIAN
METHOD:PUBLISH
X-WR-CALNAME:Agenda do Vinho
X-ORIGINAL-URL:https://agendadovinho.com.br
X-WR-CALDESC:Eventos para Agenda do Vinho
BEGIN:VEVENT
DTSTART;TZID=America/Sao_Paulo:20210706T193000
DTEND;TZID=America/Sao_Paulo:20210706T223000
DTSTAMP:20260422T200548
CREATED:20210628T145038Z
LAST-MODIFIED:20210628T145038Z
UID:17545-1625599800-1625610600@agendadovinho.com.br
SUMMARY:Curso de Vinhos para Mulheres
DESCRIPTION:06/jul – 19:30 \n
URL:https://agendadovinho.com.br/event/curso-de-vinhos-para-mulheres/
LOCATION:La Mia Cucina\, R. Paulo Graeser Sobrinho\, 1124 - Mercês\, Curitiba\, PR\, 80510-170\, Brasil
CATEGORIES:Curso técnico,PR - Curitiba
ATTACH;FMTTYPE=image/jpeg:https://agendadovinho.com.br/wp-content/uploads/2021/06/la-mia-cucina_060721.jpg
END:VEVENT
BEGIN:VEVENT
DTSTART;TZID=America/Sao_Paulo:20210706T193000
DTEND;TZID=America/Sao_Paulo:20210706T193000
DTSTAMP:20260422T200548
CREATED:20210705T192802Z
LAST-MODIFIED:20210705T192802Z
UID:17585-1625599800-1625599800@agendadovinho.com.br
SUMMARY:Pães\, azeites e vinhos
DESCRIPTION:06/jul – 19:30 \n
URL:https://agendadovinho.com.br/event/paes-azeites-e-vinhos/
LOCATION:Instagram\, PR
CATEGORIES:Curso técnico,Online
ATTACH;FMTTYPE=image/jpeg:https://agendadovinho.com.br/wp-content/uploads/2021/07/brazucaswinesandbeers_060721.jpg
END:VEVENT
END:VCALENDAR