BEGIN:VCALENDAR
VERSION:2.0
PRODID:-//Agenda do Vinho - ECPv4.9.0//NONSGML v1.0//EN
CALSCALE:GREGORIAN
METHOD:PUBLISH
X-WR-CALNAME:Agenda do Vinho
X-ORIGINAL-URL:https://agendadovinho.com.br
X-WR-CALDESC:Eventos para Agenda do Vinho
BEGIN:VEVENT
DTSTART;TZID=America/Sao_Paulo:20210701T210000
DTEND;TZID=America/Sao_Paulo:20210701T210000
DTSTAMP:20260422T200547
CREATED:20210629T145604Z
LAST-MODIFIED:20210629T145604Z
UID:17564-1625173200-1625173200@agendadovinho.com.br
SUMMARY:Conversa com o enólogo
DESCRIPTION:01/jul – 21:00 \n
URL:https://agendadovinho.com.br/event/conversa-com-o-enologo/
LOCATION:Instagram
CATEGORIES:Curso técnico,Online
ATTACH;FMTTYPE=image/jpeg:https://agendadovinho.com.br/wp-content/uploads/2021/06/beaba_wine_010721.jpg
END:VEVENT
END:VCALENDAR