BEGIN:VCALENDAR
VERSION:2.0
PRODID:-//Agenda do Vinho - ECPv4.9.0//NONSGML v1.0//EN
CALSCALE:GREGORIAN
METHOD:PUBLISH
X-WR-CALNAME:Agenda do Vinho
X-ORIGINAL-URL:https://agendadovinho.com.br
X-WR-CALDESC:Eventos para Agenda do Vinho
BEGIN:VEVENT
DTSTART;TZID=America/Sao_Paulo:20210629T200000
DTEND;TZID=America/Sao_Paulo:20210629T213000
DTSTAMP:20260422T200439
CREATED:20210614T191035Z
LAST-MODIFIED:20210614T191035Z
UID:17524-1624996800-1625002200@agendadovinho.com.br
SUMMARY:Happy Wine Class - Básico
DESCRIPTION:29/jun – 20:00 \n
URL:https://agendadovinho.com.br/event/happy-wine-class-basico/
LOCATION:Vídeo conferência
CATEGORIES:Curso técnico,Online
ATTACH;FMTTYPE=image/jpeg:https://agendadovinho.com.br/wp-content/uploads/2021/06/happy_wine_290621.jpg
END:VEVENT
BEGIN:VEVENT
DTSTART;TZID=America/Sao_Paulo:20210629T200000
DTEND;TZID=America/Sao_Paulo:20210629T200000
DTSTAMP:20260422T200439
CREATED:20210629T145537Z
LAST-MODIFIED:20210629T145537Z
UID:17562-1624996800-1624996800@agendadovinho.com.br
SUMMARY:Live com Flávio Pizzato
DESCRIPTION:29/jun – 20:00 \n
URL:https://agendadovinho.com.br/event/live-com-flavio-pizzato/
LOCATION:Instagram
CATEGORIES:Curso técnico,Online
ATTACH;FMTTYPE=image/jpeg:https://agendadovinho.com.br/wp-content/uploads/2021/06/winemixrio_290621.jpg
END:VEVENT
BEGIN:VEVENT
DTSTART;TZID=America/Sao_Paulo:20210629T200000
DTEND;TZID=America/Sao_Paulo:20210629T200000
DTSTAMP:20260422T200439
CREATED:20210629T145601Z
LAST-MODIFIED:20210629T145601Z
UID:17563-1624996800-1624996800@agendadovinho.com.br
SUMMARY:Os segredos da Moët & Chandon
DESCRIPTION:29/jun – 20:00 \n
URL:https://agendadovinho.com.br/event/os-segredos-da-moet-chandon/
LOCATION:Instagram
CATEGORIES:Curso técnico,Online
ATTACH;FMTTYPE=image/jpeg:https://agendadovinho.com.br/wp-content/uploads/2021/06/vinhocomvoce_290621.jpg
END:VEVENT
END:VCALENDAR