BEGIN:VCALENDAR
VERSION:2.0
PRODID:-//Agenda do Vinho - ECPv4.9.0//NONSGML v1.0//EN
CALSCALE:GREGORIAN
METHOD:PUBLISH
X-WR-CALNAME:Agenda do Vinho
X-ORIGINAL-URL:https://agendadovinho.com.br
X-WR-CALDESC:Eventos para Agenda do Vinho
BEGIN:VEVENT
DTSTART;TZID=America/Sao_Paulo:20210622T193000
DTEND;TZID=America/Sao_Paulo:20210622T193000
DTSTAMP:20260422T213219
CREATED:20210622T185432Z
LAST-MODIFIED:20210622T185432Z
UID:17535-1624390200-1624390200@agendadovinho.com.br
SUMMARY:Lançamentos Vinícola Marzarotto
DESCRIPTION:22/jun – 19:30 \n
URL:https://agendadovinho.com.br/event/lancamentos-vinicola-marzarotto/
LOCATION:Instagram
CATEGORIES:Curso técnico,Online
ATTACH;FMTTYPE=image/jpeg:https://agendadovinho.com.br/wp-content/uploads/2021/06/vaidivinho_220621.jpg
END:VEVENT
END:VCALENDAR