BEGIN:VCALENDAR
VERSION:2.0
PRODID:-//Agenda do Vinho - ECPv4.9.0//NONSGML v1.0//EN
CALSCALE:GREGORIAN
METHOD:PUBLISH
X-WR-CALNAME:Agenda do Vinho
X-ORIGINAL-URL:https://agendadovinho.com.br
X-WR-CALDESC:Eventos para Agenda do Vinho
BEGIN:VEVENT
DTSTART;TZID=America/Sao_Paulo:20210617T190000
DTEND;TZID=America/Sao_Paulo:20210617T223000
DTSTAMP:20260422T212937
CREATED:20210614T191033Z
LAST-MODIFIED:20210614T191033Z
UID:17523-1623956400-1623969000@agendadovinho.com.br
SUMMARY:Curso Desmistificando Vinhos para iniciantes com Raquel Aciole
DESCRIPTION:17/jun – 19:00 \n
URL:https://agendadovinho.com.br/event/curso-desmistificando-vinhos-para-iniciantes-com-raquel-aciole-2/
LOCATION:Restaurante Cuore\, Av. Daniel de la Touche\, 73a - Cohama\, São Luís\, MA\, 65074-115\, Brasil
CATEGORIES:Curso técnico,MA - São Luís
ATTACH;FMTTYPE=image/jpeg:https://agendadovinho.com.br/wp-content/uploads/2021/06/desmistificando_vinhos_170621.jpg
END:VEVENT
END:VCALENDAR