BEGIN:VCALENDAR
VERSION:2.0
PRODID:-//Agenda do Vinho - ECPv4.9.0//NONSGML v1.0//EN
CALSCALE:GREGORIAN
METHOD:PUBLISH
X-WR-CALNAME:Agenda do Vinho
X-ORIGINAL-URL:https://agendadovinho.com.br
X-WR-CALDESC:Eventos para Agenda do Vinho
BEGIN:VEVENT
DTSTART;TZID=America/Sao_Paulo:20210616T200000
DTEND;TZID=America/Sao_Paulo:20210616T200000
DTSTAMP:20260422T213059
CREATED:20210525T210129Z
LAST-MODIFIED:20210525T210129Z
UID:17490-1623873600-1623873600@agendadovinho.com.br
SUMMARY:11 Passos do Vinho
DESCRIPTION:16/jun – 20:00 \n
URL:https://agendadovinho.com.br/event/11-passos-do-vinho-6/
LOCATION:Vídeo conferência
CATEGORIES:Curso técnico,Online
ATTACH;FMTTYPE=image/jpeg:https://agendadovinho.com.br/wp-content/uploads/2021/05/duvalewinetasting_160621.jpg
END:VEVENT
END:VCALENDAR